BEGIN:VCALENDAR
VERSION:2.0
PRODID:-//Rockbourne Village Hall - ECPv6.15.15//NONSGML v1.0//EN
CALSCALE:GREGORIAN
METHOD:PUBLISH
X-WR-CALNAME:Rockbourne Village Hall
X-ORIGINAL-URL:https://rockbournevillagehall.org.uk
X-WR-CALDESC:Events for Rockbourne Village Hall
REFRESH-INTERVAL;VALUE=DURATION:PT1H
X-Robots-Tag:noindex
X-PUBLISHED-TTL:PT1H
BEGIN:VTIMEZONE
TZID:Europe/London
BEGIN:DAYLIGHT
TZOFFSETFROM:+0000
TZOFFSETTO:+0100
TZNAME:BST
DTSTART:20220327T010000
END:DAYLIGHT
BEGIN:STANDARD
TZOFFSETFROM:+0100
TZOFFSETTO:+0000
TZNAME:GMT
DTSTART:20221030T010000
END:STANDARD
BEGIN:DAYLIGHT
TZOFFSETFROM:+0000
TZOFFSETTO:+0100
TZNAME:BST
DTSTART:20230326T010000
END:DAYLIGHT
BEGIN:STANDARD
TZOFFSETFROM:+0100
TZOFFSETTO:+0000
TZNAME:GMT
DTSTART:20231029T010000
END:STANDARD
BEGIN:DAYLIGHT
TZOFFSETFROM:+0000
TZOFFSETTO:+0100
TZNAME:BST
DTSTART:20240331T010000
END:DAYLIGHT
BEGIN:STANDARD
TZOFFSETFROM:+0100
TZOFFSETTO:+0000
TZNAME:GMT
DTSTART:20241027T010000
END:STANDARD
END:VTIMEZONE
BEGIN:VEVENT
DTSTART;TZID=Europe/London:20230731T091500
DTEND;TZID=Europe/London:20230731T101500
DTSTAMP:20260423T114410
CREATED:20230401T092719Z
LAST-MODIFIED:20260116T150333Z
UID:10000288-1690794900-1690798500@rockbournevillagehall.org.uk
SUMMARY:Pilates with Estelle
DESCRIPTION:Pilates with Estelle
URL:https://rockbournevillagehall.org.uk/event/4522/2023-07-31/
LOCATION:Rockbourne Village Hall\, Fordingbridge\, Hampshire\, SP6 3NR\, United Kingdom
ORGANIZER;CN="Adele Holmes":MAILTO:bookings@rockbournevillagehall.org.uk
GEO:50.9669968;-1.8458319
END:VEVENT
BEGIN:VEVENT
DTSTART;TZID=Europe/London:20230728T091500
DTEND;TZID=Europe/London:20230728T101500
DTSTAMP:20260423T114410
CREATED:20230519T172611Z
LAST-MODIFIED:20230519T172611Z
UID:10000492-1690535700-1690539300@rockbournevillagehall.org.uk
SUMMARY:Pilates
DESCRIPTION:Pilates with Estelle
URL:https://rockbournevillagehall.org.uk/event/pilates-36/2023-07-28/
LOCATION:Rockbourne Village Hall\, Fordingbridge\, Hampshire\, SP6 3NR\, United Kingdom
ORGANIZER;CN="Adele Holmes":MAILTO:bookings@rockbournevillagehall.org.uk
GEO:50.9669968;-1.8458319
END:VEVENT
BEGIN:VEVENT
DTSTART;TZID=Europe/London:20230726T103000
DTEND;TZID=Europe/London:20230726T113000
DTSTAMP:20260423T114410
CREATED:20230519T172353Z
LAST-MODIFIED:20230519T172353Z
UID:10000886-1690367400-1690371000@rockbournevillagehall.org.uk
SUMMARY:Pilates
DESCRIPTION:Pilates with Sophie
URL:https://rockbournevillagehall.org.uk/event/pilates-35/2023-07-26/
LOCATION:Rockbourne Village Hall\, Fordingbridge\, Hampshire\, SP6 3NR\, United Kingdom
ORGANIZER;CN="Adele Holmes":MAILTO:bookings@rockbournevillagehall.org.uk
GEO:50.9669968;-1.8458319
END:VEVENT
BEGIN:VEVENT
DTSTART;TZID=Europe/London:20230726T091500
DTEND;TZID=Europe/London:20230726T101500
DTSTAMP:20260423T114410
CREATED:20230519T172246Z
LAST-MODIFIED:20230519T172246Z
UID:10000928-1690362900-1690366500@rockbournevillagehall.org.uk
SUMMARY:Pilates
DESCRIPTION:Pilates with Sophie
URL:https://rockbournevillagehall.org.uk/event/pilates-34/2023-07-26/
LOCATION:Rockbourne Village Hall\, Fordingbridge\, Hampshire\, SP6 3NR\, United Kingdom
ORGANIZER;CN="Adele Holmes":MAILTO:bookings@rockbournevillagehall.org.uk
GEO:50.9669968;-1.8458319
END:VEVENT
BEGIN:VEVENT
DTSTART;TZID=Europe/London:20230724T194500
DTEND;TZID=Europe/London:20230724T210000
DTSTAMP:20260423T114410
CREATED:20230519T172113Z
LAST-MODIFIED:20230519T172113Z
UID:10000916-1690227900-1690232400@rockbournevillagehall.org.uk
SUMMARY:Pilates
DESCRIPTION:Pilates with Estelle
URL:https://rockbournevillagehall.org.uk/event/pilates-33/2023-07-24/
LOCATION:Rockbourne Village Hall\, Fordingbridge\, Hampshire\, SP6 3NR\, United Kingdom
ORGANIZER;CN="Adele Holmes":MAILTO:bookings@rockbournevillagehall.org.uk
GEO:50.9669968;-1.8458319
END:VEVENT
BEGIN:VEVENT
DTSTART;TZID=Europe/London:20230724T091500
DTEND;TZID=Europe/London:20230724T101500
DTSTAMP:20260423T114410
CREATED:20230519T171956Z
LAST-MODIFIED:20230519T171956Z
UID:10000895-1690190100-1690193700@rockbournevillagehall.org.uk
SUMMARY:Pilates
DESCRIPTION:Pilates with Estelle
URL:https://rockbournevillagehall.org.uk/event/pilates-32/2023-07-24/
LOCATION:Rockbourne Village Hall\, Fordingbridge\, Hampshire\, SP6 3NR\, United Kingdom
ORGANIZER;CN="Adele Holmes":MAILTO:bookings@rockbournevillagehall.org.uk
GEO:50.9669968;-1.8458319
END:VEVENT
BEGIN:VEVENT
DTSTART;TZID=Europe/London:20230724T091500
DTEND;TZID=Europe/London:20230724T101500
DTSTAMP:20260423T114410
CREATED:20230401T092719Z
LAST-MODIFIED:20260116T150333Z
UID:10000287-1690190100-1690193700@rockbournevillagehall.org.uk
SUMMARY:Pilates with Estelle
DESCRIPTION:Pilates with Estelle
URL:https://rockbournevillagehall.org.uk/event/4522/2023-07-24/
LOCATION:Rockbourne Village Hall\, Fordingbridge\, Hampshire\, SP6 3NR\, United Kingdom
ORGANIZER;CN="Adele Holmes":MAILTO:bookings@rockbournevillagehall.org.uk
GEO:50.9669968;-1.8458319
END:VEVENT
BEGIN:VEVENT
DTSTART;TZID=Europe/London:20230723T190000
DTEND;TZID=Europe/London:20230723T210000
DTSTAMP:20260423T114410
CREATED:20220303T130227Z
LAST-MODIFIED:20220303T130227Z
UID:10000698-1690138800-1690146000@rockbournevillagehall.org.uk
SUMMARY:Table Tennis
DESCRIPTION:Table Tennis 7.00 – 9.00 pm
URL:https://rockbournevillagehall.org.uk/event/table-tennis/2023-07-23/
LOCATION:Rockbourne Village Hall\, Fordingbridge\, Hampshire\, SP6 3NR\, United Kingdom
ORGANIZER;CN="Adele Holmes":MAILTO:bookings@rockbournevillagehall.org.uk
GEO:50.9669968;-1.8458319
END:VEVENT
BEGIN:VEVENT
DTSTART;TZID=Europe/London:20230721T091500
DTEND;TZID=Europe/London:20230721T101500
DTSTAMP:20260423T114410
CREATED:20230519T172611Z
LAST-MODIFIED:20230519T172611Z
UID:10000491-1689930900-1689934500@rockbournevillagehall.org.uk
SUMMARY:Pilates
DESCRIPTION:Pilates with Estelle
URL:https://rockbournevillagehall.org.uk/event/pilates-36/2023-07-21/
LOCATION:Rockbourne Village Hall\, Fordingbridge\, Hampshire\, SP6 3NR\, United Kingdom
ORGANIZER;CN="Adele Holmes":MAILTO:bookings@rockbournevillagehall.org.uk
GEO:50.9669968;-1.8458319
END:VEVENT
BEGIN:VEVENT
DTSTART;TZID=Europe/London:20230719T103000
DTEND;TZID=Europe/London:20230719T113000
DTSTAMP:20260423T114410
CREATED:20230519T172353Z
LAST-MODIFIED:20230519T172353Z
UID:10000885-1689762600-1689766200@rockbournevillagehall.org.uk
SUMMARY:Pilates
DESCRIPTION:Pilates with Sophie
URL:https://rockbournevillagehall.org.uk/event/pilates-35/2023-07-19/
LOCATION:Rockbourne Village Hall\, Fordingbridge\, Hampshire\, SP6 3NR\, United Kingdom
ORGANIZER;CN="Adele Holmes":MAILTO:bookings@rockbournevillagehall.org.uk
GEO:50.9669968;-1.8458319
END:VEVENT
BEGIN:VEVENT
DTSTART;TZID=Europe/London:20230719T091500
DTEND;TZID=Europe/London:20230719T101500
DTSTAMP:20260423T114410
CREATED:20230519T172246Z
LAST-MODIFIED:20230519T172246Z
UID:10000927-1689758100-1689761700@rockbournevillagehall.org.uk
SUMMARY:Pilates
DESCRIPTION:Pilates with Sophie
URL:https://rockbournevillagehall.org.uk/event/pilates-34/2023-07-19/
LOCATION:Rockbourne Village Hall\, Fordingbridge\, Hampshire\, SP6 3NR\, United Kingdom
ORGANIZER;CN="Adele Holmes":MAILTO:bookings@rockbournevillagehall.org.uk
GEO:50.9669968;-1.8458319
END:VEVENT
BEGIN:VEVENT
DTSTART;TZID=Europe/London:20230717T194500
DTEND;TZID=Europe/London:20230717T210000
DTSTAMP:20260423T114410
CREATED:20230519T172113Z
LAST-MODIFIED:20230519T172113Z
UID:10000915-1689623100-1689627600@rockbournevillagehall.org.uk
SUMMARY:Pilates
DESCRIPTION:Pilates with Estelle
URL:https://rockbournevillagehall.org.uk/event/pilates-33/2023-07-17/
LOCATION:Rockbourne Village Hall\, Fordingbridge\, Hampshire\, SP6 3NR\, United Kingdom
ORGANIZER;CN="Adele Holmes":MAILTO:bookings@rockbournevillagehall.org.uk
GEO:50.9669968;-1.8458319
END:VEVENT
BEGIN:VEVENT
DTSTART;TZID=Europe/London:20230717T091500
DTEND;TZID=Europe/London:20230717T101500
DTSTAMP:20260423T114410
CREATED:20230519T171956Z
LAST-MODIFIED:20230519T171956Z
UID:10000894-1689585300-1689588900@rockbournevillagehall.org.uk
SUMMARY:Pilates
DESCRIPTION:Pilates with Estelle
URL:https://rockbournevillagehall.org.uk/event/pilates-32/2023-07-17/
LOCATION:Rockbourne Village Hall\, Fordingbridge\, Hampshire\, SP6 3NR\, United Kingdom
ORGANIZER;CN="Adele Holmes":MAILTO:bookings@rockbournevillagehall.org.uk
GEO:50.9669968;-1.8458319
END:VEVENT
BEGIN:VEVENT
DTSTART;TZID=Europe/London:20230717T091500
DTEND;TZID=Europe/London:20230717T101500
DTSTAMP:20260423T114410
CREATED:20230401T092719Z
LAST-MODIFIED:20260116T150333Z
UID:10000286-1689585300-1689588900@rockbournevillagehall.org.uk
SUMMARY:Pilates with Estelle
DESCRIPTION:Pilates with Estelle
URL:https://rockbournevillagehall.org.uk/event/4522/2023-07-17/
LOCATION:Rockbourne Village Hall\, Fordingbridge\, Hampshire\, SP6 3NR\, United Kingdom
ORGANIZER;CN="Adele Holmes":MAILTO:bookings@rockbournevillagehall.org.uk
GEO:50.9669968;-1.8458319
END:VEVENT
BEGIN:VEVENT
DTSTART;TZID=Europe/London:20230714T091500
DTEND;TZID=Europe/London:20230714T101500
DTSTAMP:20260423T114410
CREATED:20230519T172611Z
LAST-MODIFIED:20230519T172611Z
UID:10000490-1689326100-1689329700@rockbournevillagehall.org.uk
SUMMARY:Pilates
DESCRIPTION:Pilates with Estelle
URL:https://rockbournevillagehall.org.uk/event/pilates-36/2023-07-14/
LOCATION:Rockbourne Village Hall\, Fordingbridge\, Hampshire\, SP6 3NR\, United Kingdom
ORGANIZER;CN="Adele Holmes":MAILTO:bookings@rockbournevillagehall.org.uk
GEO:50.9669968;-1.8458319
END:VEVENT
BEGIN:VEVENT
DTSTART;TZID=Europe/London:20230712T103000
DTEND;TZID=Europe/London:20230712T113000
DTSTAMP:20260423T114410
CREATED:20230519T172353Z
LAST-MODIFIED:20230519T172353Z
UID:10000884-1689157800-1689161400@rockbournevillagehall.org.uk
SUMMARY:Pilates
DESCRIPTION:Pilates with Sophie
URL:https://rockbournevillagehall.org.uk/event/pilates-35/2023-07-12/
LOCATION:Rockbourne Village Hall\, Fordingbridge\, Hampshire\, SP6 3NR\, United Kingdom
ORGANIZER;CN="Adele Holmes":MAILTO:bookings@rockbournevillagehall.org.uk
GEO:50.9669968;-1.8458319
END:VEVENT
BEGIN:VEVENT
DTSTART;TZID=Europe/London:20230712T091500
DTEND;TZID=Europe/London:20230712T101500
DTSTAMP:20260423T114410
CREATED:20230519T172246Z
LAST-MODIFIED:20230519T172246Z
UID:10000926-1689153300-1689156900@rockbournevillagehall.org.uk
SUMMARY:Pilates
DESCRIPTION:Pilates with Sophie
URL:https://rockbournevillagehall.org.uk/event/pilates-34/2023-07-12/
LOCATION:Rockbourne Village Hall\, Fordingbridge\, Hampshire\, SP6 3NR\, United Kingdom
ORGANIZER;CN="Adele Holmes":MAILTO:bookings@rockbournevillagehall.org.uk
GEO:50.9669968;-1.8458319
END:VEVENT
BEGIN:VEVENT
DTSTART;TZID=Europe/London:20230710T194500
DTEND;TZID=Europe/London:20230710T210000
DTSTAMP:20260423T114410
CREATED:20230519T172113Z
LAST-MODIFIED:20230519T172113Z
UID:10000914-1689018300-1689022800@rockbournevillagehall.org.uk
SUMMARY:Pilates
DESCRIPTION:Pilates with Estelle
URL:https://rockbournevillagehall.org.uk/event/pilates-33/2023-07-10/
LOCATION:Rockbourne Village Hall\, Fordingbridge\, Hampshire\, SP6 3NR\, United Kingdom
ORGANIZER;CN="Adele Holmes":MAILTO:bookings@rockbournevillagehall.org.uk
GEO:50.9669968;-1.8458319
END:VEVENT
BEGIN:VEVENT
DTSTART;TZID=Europe/London:20230710T091500
DTEND;TZID=Europe/London:20230710T101500
DTSTAMP:20260423T114410
CREATED:20230519T171956Z
LAST-MODIFIED:20230519T171956Z
UID:10000893-1688980500-1688984100@rockbournevillagehall.org.uk
SUMMARY:Pilates
DESCRIPTION:Pilates with Estelle
URL:https://rockbournevillagehall.org.uk/event/pilates-32/2023-07-10/
LOCATION:Rockbourne Village Hall\, Fordingbridge\, Hampshire\, SP6 3NR\, United Kingdom
ORGANIZER;CN="Adele Holmes":MAILTO:bookings@rockbournevillagehall.org.uk
GEO:50.9669968;-1.8458319
END:VEVENT
BEGIN:VEVENT
DTSTART;TZID=Europe/London:20230710T091500
DTEND;TZID=Europe/London:20230710T101500
DTSTAMP:20260423T114410
CREATED:20230401T092719Z
LAST-MODIFIED:20260116T150333Z
UID:10000285-1688980500-1688984100@rockbournevillagehall.org.uk
SUMMARY:Pilates with Estelle
DESCRIPTION:Pilates with Estelle
URL:https://rockbournevillagehall.org.uk/event/4522/2023-07-10/
LOCATION:Rockbourne Village Hall\, Fordingbridge\, Hampshire\, SP6 3NR\, United Kingdom
ORGANIZER;CN="Adele Holmes":MAILTO:bookings@rockbournevillagehall.org.uk
GEO:50.9669968;-1.8458319
END:VEVENT
BEGIN:VEVENT
DTSTART;TZID=Europe/London:20230707T091500
DTEND;TZID=Europe/London:20230707T101500
DTSTAMP:20260423T114410
CREATED:20230519T172611Z
LAST-MODIFIED:20230519T172611Z
UID:10000489-1688721300-1688724900@rockbournevillagehall.org.uk
SUMMARY:Pilates
DESCRIPTION:Pilates with Estelle
URL:https://rockbournevillagehall.org.uk/event/pilates-36/2023-07-07/
LOCATION:Rockbourne Village Hall\, Fordingbridge\, Hampshire\, SP6 3NR\, United Kingdom
ORGANIZER;CN="Adele Holmes":MAILTO:bookings@rockbournevillagehall.org.uk
GEO:50.9669968;-1.8458319
END:VEVENT
BEGIN:VEVENT
DTSTART;TZID=Europe/London:20230705T103000
DTEND;TZID=Europe/London:20230705T113000
DTSTAMP:20260423T114410
CREATED:20230519T172353Z
LAST-MODIFIED:20230519T172353Z
UID:10000883-1688553000-1688556600@rockbournevillagehall.org.uk
SUMMARY:Pilates
DESCRIPTION:Pilates with Sophie
URL:https://rockbournevillagehall.org.uk/event/pilates-35/2023-07-05/
LOCATION:Rockbourne Village Hall\, Fordingbridge\, Hampshire\, SP6 3NR\, United Kingdom
ORGANIZER;CN="Adele Holmes":MAILTO:bookings@rockbournevillagehall.org.uk
GEO:50.9669968;-1.8458319
END:VEVENT
BEGIN:VEVENT
DTSTART;TZID=Europe/London:20230705T091500
DTEND;TZID=Europe/London:20230705T101500
DTSTAMP:20260423T114410
CREATED:20230519T172246Z
LAST-MODIFIED:20230519T172246Z
UID:10000925-1688548500-1688552100@rockbournevillagehall.org.uk
SUMMARY:Pilates
DESCRIPTION:Pilates with Sophie
URL:https://rockbournevillagehall.org.uk/event/pilates-34/2023-07-05/
LOCATION:Rockbourne Village Hall\, Fordingbridge\, Hampshire\, SP6 3NR\, United Kingdom
ORGANIZER;CN="Adele Holmes":MAILTO:bookings@rockbournevillagehall.org.uk
GEO:50.9669968;-1.8458319
END:VEVENT
BEGIN:VEVENT
DTSTART;TZID=Europe/London:20230703T194500
DTEND;TZID=Europe/London:20230703T210000
DTSTAMP:20260423T114410
CREATED:20230519T172113Z
LAST-MODIFIED:20230519T172113Z
UID:10000913-1688413500-1688418000@rockbournevillagehall.org.uk
SUMMARY:Pilates
DESCRIPTION:Pilates with Estelle
URL:https://rockbournevillagehall.org.uk/event/pilates-33/2023-07-03/
LOCATION:Rockbourne Village Hall\, Fordingbridge\, Hampshire\, SP6 3NR\, United Kingdom
ORGANIZER;CN="Adele Holmes":MAILTO:bookings@rockbournevillagehall.org.uk
GEO:50.9669968;-1.8458319
END:VEVENT
BEGIN:VEVENT
DTSTART;TZID=Europe/London:20230703T091500
DTEND;TZID=Europe/London:20230703T101500
DTSTAMP:20260423T114410
CREATED:20230519T171956Z
LAST-MODIFIED:20230519T171956Z
UID:10000892-1688375700-1688379300@rockbournevillagehall.org.uk
SUMMARY:Pilates
DESCRIPTION:Pilates with Estelle
URL:https://rockbournevillagehall.org.uk/event/pilates-32/2023-07-03/
LOCATION:Rockbourne Village Hall\, Fordingbridge\, Hampshire\, SP6 3NR\, United Kingdom
ORGANIZER;CN="Adele Holmes":MAILTO:bookings@rockbournevillagehall.org.uk
GEO:50.9669968;-1.8458319
END:VEVENT
BEGIN:VEVENT
DTSTART;TZID=Europe/London:20230703T091500
DTEND;TZID=Europe/London:20230703T101500
DTSTAMP:20260423T114410
CREATED:20230401T092719Z
LAST-MODIFIED:20260116T150333Z
UID:10000284-1688375700-1688379300@rockbournevillagehall.org.uk
SUMMARY:Pilates with Estelle
DESCRIPTION:Pilates with Estelle
URL:https://rockbournevillagehall.org.uk/event/4522/2023-07-03/
LOCATION:Rockbourne Village Hall\, Fordingbridge\, Hampshire\, SP6 3NR\, United Kingdom
ORGANIZER;CN="Adele Holmes":MAILTO:bookings@rockbournevillagehall.org.uk
GEO:50.9669968;-1.8458319
END:VEVENT
BEGIN:VEVENT
DTSTART;TZID=Europe/London:20230630T091500
DTEND;TZID=Europe/London:20230630T101500
DTSTAMP:20260423T114410
CREATED:20230519T172611Z
LAST-MODIFIED:20230519T172611Z
UID:10000488-1688116500-1688120100@rockbournevillagehall.org.uk
SUMMARY:Pilates
DESCRIPTION:Pilates with Estelle
URL:https://rockbournevillagehall.org.uk/event/pilates-36/2023-06-30/
LOCATION:Rockbourne Village Hall\, Fordingbridge\, Hampshire\, SP6 3NR\, United Kingdom
ORGANIZER;CN="Adele Holmes":MAILTO:bookings@rockbournevillagehall.org.uk
GEO:50.9669968;-1.8458319
END:VEVENT
BEGIN:VEVENT
DTSTART;TZID=Europe/London:20230628T103000
DTEND;TZID=Europe/London:20230628T113000
DTSTAMP:20260423T114410
CREATED:20230519T172353Z
LAST-MODIFIED:20230519T172353Z
UID:10000882-1687948200-1687951800@rockbournevillagehall.org.uk
SUMMARY:Pilates
DESCRIPTION:Pilates with Sophie
URL:https://rockbournevillagehall.org.uk/event/pilates-35/2023-06-28/
LOCATION:Rockbourne Village Hall\, Fordingbridge\, Hampshire\, SP6 3NR\, United Kingdom
ORGANIZER;CN="Adele Holmes":MAILTO:bookings@rockbournevillagehall.org.uk
GEO:50.9669968;-1.8458319
END:VEVENT
BEGIN:VEVENT
DTSTART;TZID=Europe/London:20230628T091500
DTEND;TZID=Europe/London:20230628T101500
DTSTAMP:20260423T114410
CREATED:20230519T172246Z
LAST-MODIFIED:20230519T172246Z
UID:10000924-1687943700-1687947300@rockbournevillagehall.org.uk
SUMMARY:Pilates
DESCRIPTION:Pilates with Sophie
URL:https://rockbournevillagehall.org.uk/event/pilates-34/2023-06-28/
LOCATION:Rockbourne Village Hall\, Fordingbridge\, Hampshire\, SP6 3NR\, United Kingdom
ORGANIZER;CN="Adele Holmes":MAILTO:bookings@rockbournevillagehall.org.uk
GEO:50.9669968;-1.8458319
END:VEVENT
BEGIN:VEVENT
DTSTART;TZID=Europe/London:20230626T194500
DTEND;TZID=Europe/London:20230626T210000
DTSTAMP:20260423T114410
CREATED:20230519T172113Z
LAST-MODIFIED:20230519T172113Z
UID:10000912-1687808700-1687813200@rockbournevillagehall.org.uk
SUMMARY:Pilates
DESCRIPTION:Pilates with Estelle
URL:https://rockbournevillagehall.org.uk/event/pilates-33/2023-06-26/
LOCATION:Rockbourne Village Hall\, Fordingbridge\, Hampshire\, SP6 3NR\, United Kingdom
ORGANIZER;CN="Adele Holmes":MAILTO:bookings@rockbournevillagehall.org.uk
GEO:50.9669968;-1.8458319
END:VEVENT
END:VCALENDAR