BEGIN:VCALENDAR
VERSION:2.0
PRODID:-//Rockbourne Village Hall - ECPv6.15.15//NONSGML v1.0//EN
CALSCALE:GREGORIAN
METHOD:PUBLISH
X-WR-CALNAME:Rockbourne Village Hall
X-ORIGINAL-URL:https://rockbournevillagehall.org.uk
X-WR-CALDESC:Events for Rockbourne Village Hall
REFRESH-INTERVAL;VALUE=DURATION:PT1H
X-Robots-Tag:noindex
X-PUBLISHED-TTL:PT1H
BEGIN:VTIMEZONE
TZID:Europe/London
BEGIN:DAYLIGHT
TZOFFSETFROM:+0000
TZOFFSETTO:+0100
TZNAME:BST
DTSTART:20220327T010000
END:DAYLIGHT
BEGIN:STANDARD
TZOFFSETFROM:+0100
TZOFFSETTO:+0000
TZNAME:GMT
DTSTART:20221030T010000
END:STANDARD
BEGIN:DAYLIGHT
TZOFFSETFROM:+0000
TZOFFSETTO:+0100
TZNAME:BST
DTSTART:20230326T010000
END:DAYLIGHT
BEGIN:STANDARD
TZOFFSETFROM:+0100
TZOFFSETTO:+0000
TZNAME:GMT
DTSTART:20231029T010000
END:STANDARD
BEGIN:DAYLIGHT
TZOFFSETFROM:+0000
TZOFFSETTO:+0100
TZNAME:BST
DTSTART:20240331T010000
END:DAYLIGHT
BEGIN:STANDARD
TZOFFSETFROM:+0100
TZOFFSETTO:+0000
TZNAME:GMT
DTSTART:20241027T010000
END:STANDARD
END:VTIMEZONE
BEGIN:VEVENT
DTSTART;TZID=Europe/London:20230703T091500
DTEND;TZID=Europe/London:20230703T101500
DTSTAMP:20260423T151614
CREATED:20230519T171956Z
LAST-MODIFIED:20230519T171956Z
UID:10000892-1688375700-1688379300@rockbournevillagehall.org.uk
SUMMARY:Pilates
DESCRIPTION:Pilates with Estelle
URL:https://rockbournevillagehall.org.uk/event/pilates-32/2023-07-03/
LOCATION:Rockbourne Village Hall\, Fordingbridge\, Hampshire\, SP6 3NR\, United Kingdom
ORGANIZER;CN="Adele Holmes":MAILTO:bookings@rockbournevillagehall.org.uk
GEO:50.9669968;-1.8458319
END:VEVENT
BEGIN:VEVENT
DTSTART;TZID=Europe/London:20230703T091500
DTEND;TZID=Europe/London:20230703T101500
DTSTAMP:20260423T151614
CREATED:20230401T092719Z
LAST-MODIFIED:20260116T150333Z
UID:10000284-1688375700-1688379300@rockbournevillagehall.org.uk
SUMMARY:Pilates with Estelle
DESCRIPTION:Pilates with Estelle
URL:https://rockbournevillagehall.org.uk/event/4522/2023-07-03/
LOCATION:Rockbourne Village Hall\, Fordingbridge\, Hampshire\, SP6 3NR\, United Kingdom
ORGANIZER;CN="Adele Holmes":MAILTO:bookings@rockbournevillagehall.org.uk
GEO:50.9669968;-1.8458319
END:VEVENT
BEGIN:VEVENT
DTSTART;TZID=Europe/London:20230630T091500
DTEND;TZID=Europe/London:20230630T101500
DTSTAMP:20260423T151614
CREATED:20230519T172611Z
LAST-MODIFIED:20230519T172611Z
UID:10000488-1688116500-1688120100@rockbournevillagehall.org.uk
SUMMARY:Pilates
DESCRIPTION:Pilates with Estelle
URL:https://rockbournevillagehall.org.uk/event/pilates-36/2023-06-30/
LOCATION:Rockbourne Village Hall\, Fordingbridge\, Hampshire\, SP6 3NR\, United Kingdom
ORGANIZER;CN="Adele Holmes":MAILTO:bookings@rockbournevillagehall.org.uk
GEO:50.9669968;-1.8458319
END:VEVENT
BEGIN:VEVENT
DTSTART;TZID=Europe/London:20230628T103000
DTEND;TZID=Europe/London:20230628T113000
DTSTAMP:20260423T151614
CREATED:20230519T172353Z
LAST-MODIFIED:20230519T172353Z
UID:10000882-1687948200-1687951800@rockbournevillagehall.org.uk
SUMMARY:Pilates
DESCRIPTION:Pilates with Sophie
URL:https://rockbournevillagehall.org.uk/event/pilates-35/2023-06-28/
LOCATION:Rockbourne Village Hall\, Fordingbridge\, Hampshire\, SP6 3NR\, United Kingdom
ORGANIZER;CN="Adele Holmes":MAILTO:bookings@rockbournevillagehall.org.uk
GEO:50.9669968;-1.8458319
END:VEVENT
BEGIN:VEVENT
DTSTART;TZID=Europe/London:20230628T091500
DTEND;TZID=Europe/London:20230628T101500
DTSTAMP:20260423T151614
CREATED:20230519T172246Z
LAST-MODIFIED:20230519T172246Z
UID:10000924-1687943700-1687947300@rockbournevillagehall.org.uk
SUMMARY:Pilates
DESCRIPTION:Pilates with Sophie
URL:https://rockbournevillagehall.org.uk/event/pilates-34/2023-06-28/
LOCATION:Rockbourne Village Hall\, Fordingbridge\, Hampshire\, SP6 3NR\, United Kingdom
ORGANIZER;CN="Adele Holmes":MAILTO:bookings@rockbournevillagehall.org.uk
GEO:50.9669968;-1.8458319
END:VEVENT
BEGIN:VEVENT
DTSTART;TZID=Europe/London:20230626T194500
DTEND;TZID=Europe/London:20230626T210000
DTSTAMP:20260423T151614
CREATED:20230519T172113Z
LAST-MODIFIED:20230519T172113Z
UID:10000912-1687808700-1687813200@rockbournevillagehall.org.uk
SUMMARY:Pilates
DESCRIPTION:Pilates with Estelle
URL:https://rockbournevillagehall.org.uk/event/pilates-33/2023-06-26/
LOCATION:Rockbourne Village Hall\, Fordingbridge\, Hampshire\, SP6 3NR\, United Kingdom
ORGANIZER;CN="Adele Holmes":MAILTO:bookings@rockbournevillagehall.org.uk
GEO:50.9669968;-1.8458319
END:VEVENT
BEGIN:VEVENT
DTSTART;TZID=Europe/London:20230626T091500
DTEND;TZID=Europe/London:20230626T101500
DTSTAMP:20260423T151614
CREATED:20230519T171956Z
LAST-MODIFIED:20230519T171956Z
UID:10000891-1687770900-1687774500@rockbournevillagehall.org.uk
SUMMARY:Pilates
DESCRIPTION:Pilates with Estelle
URL:https://rockbournevillagehall.org.uk/event/pilates-32/2023-06-26/
LOCATION:Rockbourne Village Hall\, Fordingbridge\, Hampshire\, SP6 3NR\, United Kingdom
ORGANIZER;CN="Adele Holmes":MAILTO:bookings@rockbournevillagehall.org.uk
GEO:50.9669968;-1.8458319
END:VEVENT
BEGIN:VEVENT
DTSTART;TZID=Europe/London:20230626T091500
DTEND;TZID=Europe/London:20230626T101500
DTSTAMP:20260423T151614
CREATED:20230401T092719Z
LAST-MODIFIED:20260116T150333Z
UID:10000283-1687770900-1687774500@rockbournevillagehall.org.uk
SUMMARY:Pilates with Estelle
DESCRIPTION:Pilates with Estelle
URL:https://rockbournevillagehall.org.uk/event/4522/2023-06-26/
LOCATION:Rockbourne Village Hall\, Fordingbridge\, Hampshire\, SP6 3NR\, United Kingdom
ORGANIZER;CN="Adele Holmes":MAILTO:bookings@rockbournevillagehall.org.uk
GEO:50.9669968;-1.8458319
END:VEVENT
BEGIN:VEVENT
DTSTART;TZID=Europe/London:20230626T080000
DTEND;TZID=Europe/London:20230626T170000
DTSTAMP:20260423T151614
CREATED:20230428T092442Z
LAST-MODIFIED:20230428T092442Z
UID:10000867-1687766400-1687798800@rockbournevillagehall.org.uk
SUMMARY:Yoga
DESCRIPTION:Yoga with Gretchen
URL:https://rockbournevillagehall.org.uk/event/yoga-9/2023-06-26/
LOCATION:Rockbourne Village Hall\, Fordingbridge\, Hampshire\, SP6 3NR\, United Kingdom
ORGANIZER;CN="Adele Holmes":MAILTO:bookings@rockbournevillagehall.org.uk
GEO:50.9669968;-1.8458319
END:VEVENT
BEGIN:VEVENT
DTSTART;TZID=Europe/London:20230623T190000
DTEND;TZID=Europe/London:20230623T210000
DTSTAMP:20260423T151614
CREATED:20220303T130227Z
LAST-MODIFIED:20220303T130227Z
UID:10000697-1687546800-1687554000@rockbournevillagehall.org.uk
SUMMARY:Table Tennis
DESCRIPTION:Table Tennis 7.00 – 9.00 pm
URL:https://rockbournevillagehall.org.uk/event/table-tennis/2023-06-23/
LOCATION:Rockbourne Village Hall\, Fordingbridge\, Hampshire\, SP6 3NR\, United Kingdom
ORGANIZER;CN="Adele Holmes":MAILTO:bookings@rockbournevillagehall.org.uk
GEO:50.9669968;-1.8458319
END:VEVENT
BEGIN:VEVENT
DTSTART;TZID=Europe/London:20230623T091500
DTEND;TZID=Europe/London:20230623T101500
DTSTAMP:20260423T151614
CREATED:20230519T172611Z
LAST-MODIFIED:20230519T172611Z
UID:10000487-1687511700-1687515300@rockbournevillagehall.org.uk
SUMMARY:Pilates
DESCRIPTION:Pilates with Estelle
URL:https://rockbournevillagehall.org.uk/event/pilates-36/2023-06-23/
LOCATION:Rockbourne Village Hall\, Fordingbridge\, Hampshire\, SP6 3NR\, United Kingdom
ORGANIZER;CN="Adele Holmes":MAILTO:bookings@rockbournevillagehall.org.uk
GEO:50.9669968;-1.8458319
END:VEVENT
BEGIN:VEVENT
DTSTART;TZID=Europe/London:20230621T103000
DTEND;TZID=Europe/London:20230621T113000
DTSTAMP:20260423T151614
CREATED:20230519T172353Z
LAST-MODIFIED:20230519T172353Z
UID:10000881-1687343400-1687347000@rockbournevillagehall.org.uk
SUMMARY:Pilates
DESCRIPTION:Pilates with Sophie
URL:https://rockbournevillagehall.org.uk/event/pilates-35/2023-06-21/
LOCATION:Rockbourne Village Hall\, Fordingbridge\, Hampshire\, SP6 3NR\, United Kingdom
ORGANIZER;CN="Adele Holmes":MAILTO:bookings@rockbournevillagehall.org.uk
GEO:50.9669968;-1.8458319
END:VEVENT
BEGIN:VEVENT
DTSTART;TZID=Europe/London:20230621T091500
DTEND;TZID=Europe/London:20230621T101500
DTSTAMP:20260423T151614
CREATED:20230519T172246Z
LAST-MODIFIED:20230519T172246Z
UID:10000923-1687338900-1687342500@rockbournevillagehall.org.uk
SUMMARY:Pilates
DESCRIPTION:Pilates with Sophie
URL:https://rockbournevillagehall.org.uk/event/pilates-34/2023-06-21/
LOCATION:Rockbourne Village Hall\, Fordingbridge\, Hampshire\, SP6 3NR\, United Kingdom
ORGANIZER;CN="Adele Holmes":MAILTO:bookings@rockbournevillagehall.org.uk
GEO:50.9669968;-1.8458319
END:VEVENT
BEGIN:VEVENT
DTSTART;TZID=Europe/London:20230619T194500
DTEND;TZID=Europe/London:20230619T210000
DTSTAMP:20260423T151614
CREATED:20230519T172113Z
LAST-MODIFIED:20230519T172113Z
UID:10000911-1687203900-1687208400@rockbournevillagehall.org.uk
SUMMARY:Pilates
DESCRIPTION:Pilates with Estelle
URL:https://rockbournevillagehall.org.uk/event/pilates-33/2023-06-19/
LOCATION:Rockbourne Village Hall\, Fordingbridge\, Hampshire\, SP6 3NR\, United Kingdom
ORGANIZER;CN="Adele Holmes":MAILTO:bookings@rockbournevillagehall.org.uk
GEO:50.9669968;-1.8458319
END:VEVENT
BEGIN:VEVENT
DTSTART;TZID=Europe/London:20230619T091500
DTEND;TZID=Europe/London:20230619T101500
DTSTAMP:20260423T151614
CREATED:20230519T171956Z
LAST-MODIFIED:20230519T171956Z
UID:10000890-1687166100-1687169700@rockbournevillagehall.org.uk
SUMMARY:Pilates
DESCRIPTION:Pilates with Estelle
URL:https://rockbournevillagehall.org.uk/event/pilates-32/2023-06-19/
LOCATION:Rockbourne Village Hall\, Fordingbridge\, Hampshire\, SP6 3NR\, United Kingdom
ORGANIZER;CN="Adele Holmes":MAILTO:bookings@rockbournevillagehall.org.uk
GEO:50.9669968;-1.8458319
END:VEVENT
BEGIN:VEVENT
DTSTART;TZID=Europe/London:20230619T091500
DTEND;TZID=Europe/London:20230619T101500
DTSTAMP:20260423T151614
CREATED:20230401T092719Z
LAST-MODIFIED:20260116T150333Z
UID:10000282-1687166100-1687169700@rockbournevillagehall.org.uk
SUMMARY:Pilates with Estelle
DESCRIPTION:Pilates with Estelle
URL:https://rockbournevillagehall.org.uk/event/4522/2023-06-19/
LOCATION:Rockbourne Village Hall\, Fordingbridge\, Hampshire\, SP6 3NR\, United Kingdom
ORGANIZER;CN="Adele Holmes":MAILTO:bookings@rockbournevillagehall.org.uk
GEO:50.9669968;-1.8458319
END:VEVENT
BEGIN:VEVENT
DTSTART;TZID=Europe/London:20230619T080000
DTEND;TZID=Europe/London:20230619T170000
DTSTAMP:20260423T151614
CREATED:20230428T092442Z
LAST-MODIFIED:20230428T092442Z
UID:10000866-1687161600-1687194000@rockbournevillagehall.org.uk
SUMMARY:Yoga
DESCRIPTION:Yoga with Gretchen
URL:https://rockbournevillagehall.org.uk/event/yoga-9/2023-06-19/
LOCATION:Rockbourne Village Hall\, Fordingbridge\, Hampshire\, SP6 3NR\, United Kingdom
ORGANIZER;CN="Adele Holmes":MAILTO:bookings@rockbournevillagehall.org.uk
GEO:50.9669968;-1.8458319
END:VEVENT
BEGIN:VEVENT
DTSTART;TZID=Europe/London:20230616T091500
DTEND;TZID=Europe/London:20230616T101500
DTSTAMP:20260423T151614
CREATED:20230519T172611Z
LAST-MODIFIED:20230519T172611Z
UID:10000486-1686906900-1686910500@rockbournevillagehall.org.uk
SUMMARY:Pilates
DESCRIPTION:Pilates with Estelle
URL:https://rockbournevillagehall.org.uk/event/pilates-36/2023-06-16/
LOCATION:Rockbourne Village Hall\, Fordingbridge\, Hampshire\, SP6 3NR\, United Kingdom
ORGANIZER;CN="Adele Holmes":MAILTO:bookings@rockbournevillagehall.org.uk
GEO:50.9669968;-1.8458319
END:VEVENT
BEGIN:VEVENT
DTSTART;TZID=Europe/London:20230615T063000
DTEND;TZID=Europe/London:20230615T230000
DTSTAMP:20260423T151614
CREATED:20230519T171312Z
LAST-MODIFIED:20230519T171312Z
UID:10000887-1686810600-1686870000@rockbournevillagehall.org.uk
SUMMARY:Parish Council Election
DESCRIPTION:Parish Council Election
URL:https://rockbournevillagehall.org.uk/event/parish-council-election/
LOCATION:Rockbourne Village Hall\, Fordingbridge\, Hampshire\, SP6 3NR\, United Kingdom
ORGANIZER;CN="Adele Holmes":MAILTO:bookings@rockbournevillagehall.org.uk
GEO:50.9669968;-1.8458319
END:VEVENT
BEGIN:VEVENT
DTSTART;TZID=Europe/London:20230614T103000
DTEND;TZID=Europe/London:20230614T113000
DTSTAMP:20260423T151614
CREATED:20230519T172353Z
LAST-MODIFIED:20230519T172353Z
UID:10000880-1686738600-1686742200@rockbournevillagehall.org.uk
SUMMARY:Pilates
DESCRIPTION:Pilates with Sophie
URL:https://rockbournevillagehall.org.uk/event/pilates-35/2023-06-14/
LOCATION:Rockbourne Village Hall\, Fordingbridge\, Hampshire\, SP6 3NR\, United Kingdom
ORGANIZER;CN="Adele Holmes":MAILTO:bookings@rockbournevillagehall.org.uk
GEO:50.9669968;-1.8458319
END:VEVENT
BEGIN:VEVENT
DTSTART;TZID=Europe/London:20230614T091500
DTEND;TZID=Europe/London:20230614T101500
DTSTAMP:20260423T151614
CREATED:20230519T172246Z
LAST-MODIFIED:20230519T172246Z
UID:10000922-1686734100-1686737700@rockbournevillagehall.org.uk
SUMMARY:Pilates
DESCRIPTION:Pilates with Sophie
URL:https://rockbournevillagehall.org.uk/event/pilates-34/2023-06-14/
LOCATION:Rockbourne Village Hall\, Fordingbridge\, Hampshire\, SP6 3NR\, United Kingdom
ORGANIZER;CN="Adele Holmes":MAILTO:bookings@rockbournevillagehall.org.uk
GEO:50.9669968;-1.8458319
END:VEVENT
BEGIN:VEVENT
DTSTART;TZID=Europe/London:20230612T194500
DTEND;TZID=Europe/London:20230612T210000
DTSTAMP:20260423T151614
CREATED:20230519T172113Z
LAST-MODIFIED:20230519T172113Z
UID:10000910-1686599100-1686603600@rockbournevillagehall.org.uk
SUMMARY:Pilates
DESCRIPTION:Pilates with Estelle
URL:https://rockbournevillagehall.org.uk/event/pilates-33/2023-06-12/
LOCATION:Rockbourne Village Hall\, Fordingbridge\, Hampshire\, SP6 3NR\, United Kingdom
ORGANIZER;CN="Adele Holmes":MAILTO:bookings@rockbournevillagehall.org.uk
GEO:50.9669968;-1.8458319
END:VEVENT
BEGIN:VEVENT
DTSTART;TZID=Europe/London:20230612T091500
DTEND;TZID=Europe/London:20230612T101500
DTSTAMP:20260423T151614
CREATED:20230519T171956Z
LAST-MODIFIED:20230519T171956Z
UID:10000889-1686561300-1686564900@rockbournevillagehall.org.uk
SUMMARY:Pilates
DESCRIPTION:Pilates with Estelle
URL:https://rockbournevillagehall.org.uk/event/pilates-32/2023-06-12/
LOCATION:Rockbourne Village Hall\, Fordingbridge\, Hampshire\, SP6 3NR\, United Kingdom
ORGANIZER;CN="Adele Holmes":MAILTO:bookings@rockbournevillagehall.org.uk
GEO:50.9669968;-1.8458319
END:VEVENT
BEGIN:VEVENT
DTSTART;TZID=Europe/London:20230612T091500
DTEND;TZID=Europe/London:20230612T101500
DTSTAMP:20260423T151614
CREATED:20230401T092719Z
LAST-MODIFIED:20260116T150333Z
UID:10000281-1686561300-1686564900@rockbournevillagehall.org.uk
SUMMARY:Pilates with Estelle
DESCRIPTION:Pilates with Estelle
URL:https://rockbournevillagehall.org.uk/event/4522/2023-06-12/
LOCATION:Rockbourne Village Hall\, Fordingbridge\, Hampshire\, SP6 3NR\, United Kingdom
ORGANIZER;CN="Adele Holmes":MAILTO:bookings@rockbournevillagehall.org.uk
GEO:50.9669968;-1.8458319
END:VEVENT
BEGIN:VEVENT
DTSTART;TZID=Europe/London:20230612T080000
DTEND;TZID=Europe/London:20230612T170000
DTSTAMP:20260423T151614
CREATED:20230428T092442Z
LAST-MODIFIED:20230428T092442Z
UID:10000865-1686556800-1686589200@rockbournevillagehall.org.uk
SUMMARY:Yoga
DESCRIPTION:Yoga with Gretchen
URL:https://rockbournevillagehall.org.uk/event/yoga-9/2023-06-12/
LOCATION:Rockbourne Village Hall\, Fordingbridge\, Hampshire\, SP6 3NR\, United Kingdom
ORGANIZER;CN="Adele Holmes":MAILTO:bookings@rockbournevillagehall.org.uk
GEO:50.9669968;-1.8458319
END:VEVENT
BEGIN:VEVENT
DTSTART;TZID=Europe/London:20230609T091500
DTEND;TZID=Europe/London:20230609T101500
DTSTAMP:20260423T151614
CREATED:20230519T172611Z
LAST-MODIFIED:20230519T172611Z
UID:10000485-1686302100-1686305700@rockbournevillagehall.org.uk
SUMMARY:Pilates
DESCRIPTION:Pilates with Estelle
URL:https://rockbournevillagehall.org.uk/event/pilates-36/2023-06-09/
LOCATION:Rockbourne Village Hall\, Fordingbridge\, Hampshire\, SP6 3NR\, United Kingdom
ORGANIZER;CN="Adele Holmes":MAILTO:bookings@rockbournevillagehall.org.uk
GEO:50.9669968;-1.8458319
END:VEVENT
BEGIN:VEVENT
DTSTART;TZID=Europe/London:20230607T103000
DTEND;TZID=Europe/London:20230607T113000
DTSTAMP:20260423T151614
CREATED:20230519T172353Z
LAST-MODIFIED:20230519T172353Z
UID:10000879-1686133800-1686137400@rockbournevillagehall.org.uk
SUMMARY:Pilates
DESCRIPTION:Pilates with Sophie
URL:https://rockbournevillagehall.org.uk/event/pilates-35/2023-06-07/
LOCATION:Rockbourne Village Hall\, Fordingbridge\, Hampshire\, SP6 3NR\, United Kingdom
ORGANIZER;CN="Adele Holmes":MAILTO:bookings@rockbournevillagehall.org.uk
GEO:50.9669968;-1.8458319
END:VEVENT
BEGIN:VEVENT
DTSTART;TZID=Europe/London:20230607T091500
DTEND;TZID=Europe/London:20230607T101500
DTSTAMP:20260423T151614
CREATED:20230519T172246Z
LAST-MODIFIED:20230519T172246Z
UID:10000921-1686129300-1686132900@rockbournevillagehall.org.uk
SUMMARY:Pilates
DESCRIPTION:Pilates with Sophie
URL:https://rockbournevillagehall.org.uk/event/pilates-34/2023-06-07/
LOCATION:Rockbourne Village Hall\, Fordingbridge\, Hampshire\, SP6 3NR\, United Kingdom
ORGANIZER;CN="Adele Holmes":MAILTO:bookings@rockbournevillagehall.org.uk
GEO:50.9669968;-1.8458319
END:VEVENT
BEGIN:VEVENT
DTSTART;TZID=Europe/London:20230605T194500
DTEND;TZID=Europe/London:20230605T210000
DTSTAMP:20260423T151614
CREATED:20230519T172113Z
LAST-MODIFIED:20230519T172113Z
UID:10000909-1685994300-1685998800@rockbournevillagehall.org.uk
SUMMARY:Pilates
DESCRIPTION:Pilates with Estelle
URL:https://rockbournevillagehall.org.uk/event/pilates-33/2023-06-05/
LOCATION:Rockbourne Village Hall\, Fordingbridge\, Hampshire\, SP6 3NR\, United Kingdom
ORGANIZER;CN="Adele Holmes":MAILTO:bookings@rockbournevillagehall.org.uk
GEO:50.9669968;-1.8458319
END:VEVENT
BEGIN:VEVENT
DTSTART;TZID=Europe/London:20230605T091500
DTEND;TZID=Europe/London:20230605T101500
DTSTAMP:20260423T151614
CREATED:20230519T171956Z
LAST-MODIFIED:20230519T171956Z
UID:10000888-1685956500-1685960100@rockbournevillagehall.org.uk
SUMMARY:Pilates
DESCRIPTION:Pilates with Estelle
URL:https://rockbournevillagehall.org.uk/event/pilates-32/2023-06-05/
LOCATION:Rockbourne Village Hall\, Fordingbridge\, Hampshire\, SP6 3NR\, United Kingdom
ORGANIZER;CN="Adele Holmes":MAILTO:bookings@rockbournevillagehall.org.uk
GEO:50.9669968;-1.8458319
END:VEVENT
END:VCALENDAR