BEGIN:VCALENDAR
VERSION:2.0
PRODID:-//Rockbourne Village Hall - ECPv6.15.15//NONSGML v1.0//EN
CALSCALE:GREGORIAN
METHOD:PUBLISH
X-WR-CALNAME:Rockbourne Village Hall
X-ORIGINAL-URL:https://rockbournevillagehall.org.uk
X-WR-CALDESC:Events for Rockbourne Village Hall
REFRESH-INTERVAL;VALUE=DURATION:PT1H
X-Robots-Tag:noindex
X-PUBLISHED-TTL:PT1H
BEGIN:VTIMEZONE
TZID:Europe/London
BEGIN:DAYLIGHT
TZOFFSETFROM:+0000
TZOFFSETTO:+0100
TZNAME:BST
DTSTART:20240331T010000
END:DAYLIGHT
BEGIN:STANDARD
TZOFFSETFROM:+0100
TZOFFSETTO:+0000
TZNAME:GMT
DTSTART:20241027T010000
END:STANDARD
BEGIN:DAYLIGHT
TZOFFSETFROM:+0000
TZOFFSETTO:+0100
TZNAME:BST
DTSTART:20250330T010000
END:DAYLIGHT
BEGIN:STANDARD
TZOFFSETFROM:+0100
TZOFFSETTO:+0000
TZNAME:GMT
DTSTART:20251026T010000
END:STANDARD
BEGIN:DAYLIGHT
TZOFFSETFROM:+0000
TZOFFSETTO:+0100
TZNAME:BST
DTSTART:20260329T010000
END:DAYLIGHT
BEGIN:STANDARD
TZOFFSETFROM:+0100
TZOFFSETTO:+0000
TZNAME:GMT
DTSTART:20261025T010000
END:STANDARD
END:VTIMEZONE
BEGIN:VEVENT
DTSTART;TZID=Europe/London:20251014T180000
DTEND;TZID=Europe/London:20251014T200000
DTSTAMP:20260422T225430
CREATED:20250826T211834Z
LAST-MODIFIED:20250826T211834Z
UID:10000812-1760464800-1760472000@rockbournevillagehall.org.uk
SUMMARY:Yoga
DESCRIPTION:
URL:https://rockbournevillagehall.org.uk/event/yoga-42/2025-10-14/
LOCATION:Rockbourne Village Hall\, Fordingbridge\, Hampshire\, SP6 3NR\, United Kingdom
ORGANIZER;CN="Adele Holmes":MAILTO:bookings@rockbournevillagehall.org.uk
GEO:50.9669968;-1.8458319
END:VEVENT
BEGIN:VEVENT
DTSTART;TZID=Europe/London:20251015T083000
DTEND;TZID=Europe/London:20251015T104500
DTSTAMP:20260422T225430
CREATED:20250826T210757Z
LAST-MODIFIED:20250826T210757Z
UID:10001202-1760517000-1760525100@rockbournevillagehall.org.uk
SUMMARY:Pilates
DESCRIPTION:
URL:https://rockbournevillagehall.org.uk/event/pilates-117/2025-10-15/
LOCATION:Rockbourne Village Hall\, Fordingbridge\, Hampshire\, SP6 3NR\, United Kingdom
ORGANIZER;CN="Adele Holmes":MAILTO:bookings@rockbournevillagehall.org.uk
GEO:50.9669968;-1.8458319
END:VEVENT
BEGIN:VEVENT
DTSTART;TZID=Europe/London:20251015T083000
DTEND;TZID=Europe/London:20251015T104500
DTSTAMP:20260422T225430
CREATED:20251002T123541Z
LAST-MODIFIED:20251002T123541Z
UID:10000977-1760517000-1760525100@rockbournevillagehall.org.uk
SUMMARY:Pilates
DESCRIPTION:
URL:https://rockbournevillagehall.org.uk/event/pilates-122/2025-10-15/
LOCATION:Rockbourne Village Hall\, Fordingbridge\, Hampshire\, SP6 3NR\, United Kingdom
ORGANIZER;CN="Adele Holmes":MAILTO:bookings@rockbournevillagehall.org.uk
GEO:50.9669968;-1.8458319
END:VEVENT
BEGIN:VEVENT
DTSTART;TZID=Europe/London:20251015T190000
DTEND;TZID=Europe/London:20251015T230000
DTSTAMP:20260422T225430
CREATED:20250907T192825Z
LAST-MODIFIED:20250907T192825Z
UID:10000930-1760554800-1760569200@rockbournevillagehall.org.uk
SUMMARY:Film Night
DESCRIPTION:
URL:https://rockbournevillagehall.org.uk/event/film-night-25/
LOCATION:Rockbourne Village Hall\, Fordingbridge\, Hampshire\, SP6 3NR\, United Kingdom
ORGANIZER;CN="Adele Holmes":MAILTO:bookings@rockbournevillagehall.org.uk
GEO:50.9669968;-1.8458319
END:VEVENT
BEGIN:VEVENT
DTSTART;TZID=Europe/London:20251016T160000
DTEND;TZID=Europe/London:20251016T170000
DTSTAMP:20260422T225430
CREATED:20250907T174327Z
LAST-MODIFIED:20250907T174327Z
UID:10000816-1760630400-1760634000@rockbournevillagehall.org.uk
SUMMARY:Yoga
DESCRIPTION:
URL:https://rockbournevillagehall.org.uk/event/yoga-43/2025-10-16/
LOCATION:Rockbourne Village Hall\, Fordingbridge\, Hampshire\, SP6 3NR\, United Kingdom
ORGANIZER;CN="Adele Holmes":MAILTO:bookings@rockbournevillagehall.org.uk
GEO:50.9669968;-1.8458319
END:VEVENT
BEGIN:VEVENT
DTSTART;TZID=Europe/London:20251017T080000
DTEND;TZID=Europe/London:20251017T100000
DTSTAMP:20260422T225430
CREATED:20251002T123059Z
LAST-MODIFIED:20251002T123059Z
UID:10000064-1760688000-1760695200@rockbournevillagehall.org.uk
SUMMARY:Pilates
DESCRIPTION:
URL:https://rockbournevillagehall.org.uk/event/pilates-119/2025-10-17/
LOCATION:Rockbourne Village Hall\, Fordingbridge\, Hampshire\, SP6 3NR\, United Kingdom
ORGANIZER;CN="Adele Holmes":MAILTO:bookings@rockbournevillagehall.org.uk
GEO:50.9669968;-1.8458319
END:VEVENT
BEGIN:VEVENT
DTSTART;TZID=Europe/London:20251020T090000
DTEND;TZID=Europe/London:20251020T100000
DTSTAMP:20260422T225430
CREATED:20251002T123222Z
LAST-MODIFIED:20251002T123222Z
UID:10000876-1760950800-1760954400@rockbournevillagehall.org.uk
SUMMARY:Pilates
DESCRIPTION:
URL:https://rockbournevillagehall.org.uk/event/pilates-120/2025-10-20/
LOCATION:Rockbourne Village Hall\, Fordingbridge\, Hampshire\, SP6 3NR\, United Kingdom
ORGANIZER;CN="Adele Holmes":MAILTO:bookings@rockbournevillagehall.org.uk
GEO:50.9669968;-1.8458319
END:VEVENT
BEGIN:VEVENT
DTSTART;TZID=Europe/London:20251020T091500
DTEND;TZID=Europe/London:20251020T101500
DTSTAMP:20260422T225430
CREATED:20230401T092719Z
LAST-MODIFIED:20260116T150333Z
UID:10000404-1760951700-1760955300@rockbournevillagehall.org.uk
SUMMARY:Pilates with Estelle
DESCRIPTION:Pilates with Estelle
URL:https://rockbournevillagehall.org.uk/event/4522/2025-10-20/
LOCATION:Rockbourne Village Hall\, Fordingbridge\, Hampshire\, SP6 3NR\, United Kingdom
ORGANIZER;CN="Adele Holmes":MAILTO:bookings@rockbournevillagehall.org.uk
GEO:50.9669968;-1.8458319
END:VEVENT
BEGIN:VEVENT
DTSTART;TZID=Europe/London:20251020T180000
DTEND;TZID=Europe/London:20251020T190000
DTSTAMP:20260422T225430
CREATED:20251006T162211Z
LAST-MODIFIED:20251006T162211Z
UID:10000948-1760983200-1760986800@rockbournevillagehall.org.uk
SUMMARY:Yoga
DESCRIPTION:
URL:https://rockbournevillagehall.org.uk/event/yoga-45/2025-10-20/
LOCATION:Rockbourne Village Hall\, Fordingbridge\, Hampshire\, SP6 3NR\, United Kingdom
ORGANIZER;CN="Adele Holmes":MAILTO:bookings@rockbournevillagehall.org.uk
GEO:50.9669968;-1.8458319
END:VEVENT
BEGIN:VEVENT
DTSTART;TZID=Europe/London:20251020T193000
DTEND;TZID=Europe/London:20251020T204500
DTSTAMP:20260422T225430
CREATED:20251002T123343Z
LAST-MODIFIED:20251002T123343Z
UID:10000496-1760988600-1760993100@rockbournevillagehall.org.uk
SUMMARY:Pilates
DESCRIPTION:
URL:https://rockbournevillagehall.org.uk/event/pilates-121/2025-10-20/
LOCATION:Rockbourne Village Hall\, Fordingbridge\, Hampshire\, SP6 3NR\, United Kingdom
ORGANIZER;CN="Adele Holmes":MAILTO:bookings@rockbournevillagehall.org.uk
GEO:50.9669968;-1.8458319
END:VEVENT
BEGIN:VEVENT
DTSTART;TZID=Europe/London:20251021T103000
DTEND;TZID=Europe/London:20251021T120000
DTSTAMP:20260422T225430
CREATED:20250907T193132Z
LAST-MODIFIED:20250907T193132Z
UID:10000512-1761042600-1761048000@rockbournevillagehall.org.uk
SUMMARY:Coffee & Cake
DESCRIPTION:
URL:https://rockbournevillagehall.org.uk/event/coffee-cake/
LOCATION:Rockbourne Village Hall\, Fordingbridge\, Hampshire\, SP6 3NR\, United Kingdom
ORGANIZER;CN="Adele Holmes":MAILTO:bookings@rockbournevillagehall.org.uk
GEO:50.9669968;-1.8458319
END:VEVENT
BEGIN:VEVENT
DTSTART;TZID=Europe/London:20251021T160000
DTEND;TZID=Europe/London:20251021T170000
DTSTAMP:20260422T225430
CREATED:20251014T082015Z
LAST-MODIFIED:20251014T082015Z
UID:10000944-1761062400-1761066000@rockbournevillagehall.org.uk
SUMMARY:Yoga
DESCRIPTION:
URL:https://rockbournevillagehall.org.uk/event/yoga-46/2025-10-21/
LOCATION:Rockbourne Village Hall\, Fordingbridge\, Hampshire\, SP6 3NR\, United Kingdom
ORGANIZER;CN="Adele Holmes":MAILTO:bookings@rockbournevillagehall.org.uk
GEO:50.9669968;-1.8458319
END:VEVENT
BEGIN:VEVENT
DTSTART;TZID=Europe/London:20251022T083000
DTEND;TZID=Europe/London:20251022T104500
DTSTAMP:20260422T225430
CREATED:20251002T123541Z
LAST-MODIFIED:20251002T123541Z
UID:10000978-1761121800-1761129900@rockbournevillagehall.org.uk
SUMMARY:Pilates
DESCRIPTION:
URL:https://rockbournevillagehall.org.uk/event/pilates-122/2025-10-22/
LOCATION:Rockbourne Village Hall\, Fordingbridge\, Hampshire\, SP6 3NR\, United Kingdom
ORGANIZER;CN="Adele Holmes":MAILTO:bookings@rockbournevillagehall.org.uk
GEO:50.9669968;-1.8458319
END:VEVENT
BEGIN:VEVENT
DTSTART;TZID=Europe/London:20251023T120000
DTEND;TZID=Europe/London:20251023T180000
DTSTAMP:20260422T225430
CREATED:20251002T122329Z
LAST-MODIFIED:20251002T122329Z
UID:10000470-1761220800-1761242400@rockbournevillagehall.org.uk
SUMMARY:Private hire
DESCRIPTION:
URL:https://rockbournevillagehall.org.uk/event/private-hire-10/
LOCATION:Rockbourne Village Hall\, Fordingbridge\, Hampshire\, SP6 3NR\, United Kingdom
ORGANIZER;CN="Adele Holmes":MAILTO:bookings@rockbournevillagehall.org.uk
GEO:50.9669968;-1.8458319
END:VEVENT
BEGIN:VEVENT
DTSTART;TZID=Europe/London:20251023T190000
DTEND;TZID=Europe/London:20251023T210000
DTSTAMP:20260422T225430
CREATED:20220303T130227Z
LAST-MODIFIED:20220303T130227Z
UID:10000725-1761246000-1761253200@rockbournevillagehall.org.uk
SUMMARY:Table Tennis
DESCRIPTION:Table Tennis 7.00 – 9.00 pm
URL:https://rockbournevillagehall.org.uk/event/table-tennis/2025-10-23/
LOCATION:Rockbourne Village Hall\, Fordingbridge\, Hampshire\, SP6 3NR\, United Kingdom
ORGANIZER;CN="Adele Holmes":MAILTO:bookings@rockbournevillagehall.org.uk
GEO:50.9669968;-1.8458319
END:VEVENT
BEGIN:VEVENT
DTSTART;TZID=Europe/London:20251024T080000
DTEND;TZID=Europe/London:20251024T100000
DTSTAMP:20260422T225430
CREATED:20251002T123059Z
LAST-MODIFIED:20251002T123059Z
UID:10000065-1761292800-1761300000@rockbournevillagehall.org.uk
SUMMARY:Pilates
DESCRIPTION:
URL:https://rockbournevillagehall.org.uk/event/pilates-119/2025-10-24/
LOCATION:Rockbourne Village Hall\, Fordingbridge\, Hampshire\, SP6 3NR\, United Kingdom
ORGANIZER;CN="Adele Holmes":MAILTO:bookings@rockbournevillagehall.org.uk
GEO:50.9669968;-1.8458319
END:VEVENT
BEGIN:VEVENT
DTSTART;TZID=Europe/London:20251027T090000
DTEND;TZID=Europe/London:20251027T100000
DTSTAMP:20260422T225430
CREATED:20251002T123222Z
LAST-MODIFIED:20251002T123222Z
UID:10000877-1761555600-1761559200@rockbournevillagehall.org.uk
SUMMARY:Pilates
DESCRIPTION:
URL:https://rockbournevillagehall.org.uk/event/pilates-120/2025-10-27/
LOCATION:Rockbourne Village Hall\, Fordingbridge\, Hampshire\, SP6 3NR\, United Kingdom
ORGANIZER;CN="Adele Holmes":MAILTO:bookings@rockbournevillagehall.org.uk
GEO:50.9669968;-1.8458319
END:VEVENT
BEGIN:VEVENT
DTSTART;TZID=Europe/London:20251027T091500
DTEND;TZID=Europe/London:20251027T101500
DTSTAMP:20260422T225430
CREATED:20230401T092719Z
LAST-MODIFIED:20260116T150333Z
UID:10000405-1761556500-1761560100@rockbournevillagehall.org.uk
SUMMARY:Pilates with Estelle
DESCRIPTION:Pilates with Estelle
URL:https://rockbournevillagehall.org.uk/event/4522/2025-10-27/
LOCATION:Rockbourne Village Hall\, Fordingbridge\, Hampshire\, SP6 3NR\, United Kingdom
ORGANIZER;CN="Adele Holmes":MAILTO:bookings@rockbournevillagehall.org.uk
GEO:50.9669968;-1.8458319
END:VEVENT
BEGIN:VEVENT
DTSTART;TZID=Europe/London:20251027T143000
DTEND;TZID=Europe/London:20251027T160000
DTSTAMP:20260422T225430
CREATED:20230918T144443Z
LAST-MODIFIED:20230918T144443Z
UID:10001012-1761575400-1761580800@rockbournevillagehall.org.uk
SUMMARY:Cuppa and cake
DESCRIPTION:Cuppa and cake
URL:https://rockbournevillagehall.org.uk/event/cuppa-and-cake/2025-10-27/
LOCATION:Rockbourne Village Hall\, Fordingbridge\, Hampshire\, SP6 3NR\, United Kingdom
ORGANIZER;CN="Adele Holmes":MAILTO:bookings@rockbournevillagehall.org.uk
GEO:50.9669968;-1.8458319
END:VEVENT
BEGIN:VEVENT
DTSTART;TZID=Europe/London:20251027T180000
DTEND;TZID=Europe/London:20251027T190000
DTSTAMP:20260422T225430
CREATED:20251006T162211Z
LAST-MODIFIED:20251006T162211Z
UID:10000949-1761588000-1761591600@rockbournevillagehall.org.uk
SUMMARY:Yoga
DESCRIPTION:
URL:https://rockbournevillagehall.org.uk/event/yoga-45/2025-10-27/
LOCATION:Rockbourne Village Hall\, Fordingbridge\, Hampshire\, SP6 3NR\, United Kingdom
ORGANIZER;CN="Adele Holmes":MAILTO:bookings@rockbournevillagehall.org.uk
GEO:50.9669968;-1.8458319
END:VEVENT
BEGIN:VEVENT
DTSTART;TZID=Europe/London:20251027T193000
DTEND;TZID=Europe/London:20251027T204500
DTSTAMP:20260422T225430
CREATED:20251002T123343Z
LAST-MODIFIED:20251002T123343Z
UID:10000497-1761593400-1761597900@rockbournevillagehall.org.uk
SUMMARY:Pilates
DESCRIPTION:
URL:https://rockbournevillagehall.org.uk/event/pilates-121/2025-10-27/
LOCATION:Rockbourne Village Hall\, Fordingbridge\, Hampshire\, SP6 3NR\, United Kingdom
ORGANIZER;CN="Adele Holmes":MAILTO:bookings@rockbournevillagehall.org.uk
GEO:50.9669968;-1.8458319
END:VEVENT
BEGIN:VEVENT
DTSTART;TZID=Europe/London:20251028T160000
DTEND;TZID=Europe/London:20251028T170000
DTSTAMP:20260422T225430
CREATED:20251014T082015Z
LAST-MODIFIED:20251014T082015Z
UID:10000945-1761667200-1761670800@rockbournevillagehall.org.uk
SUMMARY:Yoga
DESCRIPTION:
URL:https://rockbournevillagehall.org.uk/event/yoga-46/2025-10-28/
LOCATION:Rockbourne Village Hall\, Fordingbridge\, Hampshire\, SP6 3NR\, United Kingdom
ORGANIZER;CN="Adele Holmes":MAILTO:bookings@rockbournevillagehall.org.uk
GEO:50.9669968;-1.8458319
END:VEVENT
BEGIN:VEVENT
DTSTART;TZID=Europe/London:20251029T083000
DTEND;TZID=Europe/London:20251029T104500
DTSTAMP:20260422T225430
CREATED:20251002T123541Z
LAST-MODIFIED:20251002T123541Z
UID:10000979-1761726600-1761734700@rockbournevillagehall.org.uk
SUMMARY:Pilates
DESCRIPTION:
URL:https://rockbournevillagehall.org.uk/event/pilates-122/2025-10-29/
LOCATION:Rockbourne Village Hall\, Fordingbridge\, Hampshire\, SP6 3NR\, United Kingdom
ORGANIZER;CN="Adele Holmes":MAILTO:bookings@rockbournevillagehall.org.uk
GEO:50.9669968;-1.8458319
END:VEVENT
BEGIN:VEVENT
DTSTART;TZID=Europe/London:20251103T090000
DTEND;TZID=Europe/London:20251103T100000
DTSTAMP:20260422T225430
CREATED:20251026T203800Z
LAST-MODIFIED:20251026T203800Z
UID:10001252-1762160400-1762164000@rockbournevillagehall.org.uk
SUMMARY:Pilates
DESCRIPTION:
URL:https://rockbournevillagehall.org.uk/event/pilates-124/2025-11-03/
LOCATION:Rockbourne Village Hall\, Fordingbridge\, Hampshire\, SP6 3NR\, United Kingdom
ORGANIZER;CN="Adele Holmes":MAILTO:bookings@rockbournevillagehall.org.uk
GEO:50.9669968;-1.8458319
END:VEVENT
BEGIN:VEVENT
DTSTART;TZID=Europe/London:20251103T091500
DTEND;TZID=Europe/London:20251103T101500
DTSTAMP:20260422T225430
CREATED:20230401T092719Z
LAST-MODIFIED:20260116T150333Z
UID:10000406-1762161300-1762164900@rockbournevillagehall.org.uk
SUMMARY:Pilates with Estelle
DESCRIPTION:Pilates with Estelle
URL:https://rockbournevillagehall.org.uk/event/4522/2025-11-03/
LOCATION:Rockbourne Village Hall\, Fordingbridge\, Hampshire\, SP6 3NR\, United Kingdom
ORGANIZER;CN="Adele Holmes":MAILTO:bookings@rockbournevillagehall.org.uk
GEO:50.9669968;-1.8458319
END:VEVENT
BEGIN:VEVENT
DTSTART;TZID=Europe/London:20251103T180000
DTEND;TZID=Europe/London:20251103T190000
DTSTAMP:20260422T225430
CREATED:20251006T162211Z
LAST-MODIFIED:20251006T162211Z
UID:10000950-1762192800-1762196400@rockbournevillagehall.org.uk
SUMMARY:Yoga
DESCRIPTION:
URL:https://rockbournevillagehall.org.uk/event/yoga-45/2025-11-03/
LOCATION:Rockbourne Village Hall\, Fordingbridge\, Hampshire\, SP6 3NR\, United Kingdom
ORGANIZER;CN="Adele Holmes":MAILTO:bookings@rockbournevillagehall.org.uk
GEO:50.9669968;-1.8458319
END:VEVENT
BEGIN:VEVENT
DTSTART;TZID=Europe/London:20251103T193000
DTEND;TZID=Europe/London:20251103T204500
DTSTAMP:20260422T225430
CREATED:20251026T203929Z
LAST-MODIFIED:20251026T203929Z
UID:10001254-1762198200-1762202700@rockbournevillagehall.org.uk
SUMMARY:Pilates
DESCRIPTION:
URL:https://rockbournevillagehall.org.uk/event/pilates-125/
LOCATION:Rockbourne Village Hall\, Fordingbridge\, Hampshire\, SP6 3NR\, United Kingdom
ORGANIZER;CN="Adele Holmes":MAILTO:bookings@rockbournevillagehall.org.uk
GEO:50.9669968;-1.8458319
END:VEVENT
BEGIN:VEVENT
DTSTART;TZID=Europe/London:20251105T083000
DTEND;TZID=Europe/London:20251105T104500
DTSTAMP:20260422T225430
CREATED:20251026T203644Z
LAST-MODIFIED:20251026T203644Z
UID:10000897-1762331400-1762339500@rockbournevillagehall.org.uk
SUMMARY:Pilates
DESCRIPTION:
URL:https://rockbournevillagehall.org.uk/event/pilates-123/2025-11-05/
LOCATION:Rockbourne Village Hall\, Fordingbridge\, Hampshire\, SP6 3NR\, United Kingdom
ORGANIZER;CN="Adele Holmes":MAILTO:bookings@rockbournevillagehall.org.uk
GEO:50.9669968;-1.8458319
END:VEVENT
BEGIN:VEVENT
DTSTART;TZID=Europe/London:20251106T190000
DTEND;TZID=Europe/London:20251106T210000
DTSTAMP:20260422T225430
CREATED:20251026T204110Z
LAST-MODIFIED:20251026T204110Z
UID:10001255-1762455600-1762462800@rockbournevillagehall.org.uk
SUMMARY:Parish Council
DESCRIPTION:
URL:https://rockbournevillagehall.org.uk/event/parish-council/
LOCATION:Rockbourne Village Hall\, Fordingbridge\, Hampshire\, SP6 3NR\, United Kingdom
ORGANIZER;CN="Adele Holmes":MAILTO:bookings@rockbournevillagehall.org.uk
GEO:50.9669968;-1.8458319
END:VEVENT
BEGIN:VEVENT
DTSTART;TZID=Europe/London:20251107T090000
DTEND;TZID=Europe/London:20251107T100000
DTSTAMP:20260422T225430
CREATED:20251026T204230Z
LAST-MODIFIED:20251026T204230Z
UID:10001256-1762506000-1762509600@rockbournevillagehall.org.uk
SUMMARY:Pilates
DESCRIPTION:
URL:https://rockbournevillagehall.org.uk/event/pilates-126/2025-11-07/
LOCATION:Rockbourne Village Hall\, Fordingbridge\, Hampshire\, SP6 3NR\, United Kingdom
ORGANIZER;CN="Adele Holmes":MAILTO:bookings@rockbournevillagehall.org.uk
GEO:50.9669968;-1.8458319
END:VEVENT
END:VCALENDAR