BEGIN:VCALENDAR
VERSION:2.0
PRODID:-//Rockbourne Village Hall - ECPv6.15.15//NONSGML v1.0//EN
CALSCALE:GREGORIAN
METHOD:PUBLISH
X-WR-CALNAME:Rockbourne Village Hall
X-ORIGINAL-URL:https://rockbournevillagehall.org.uk
X-WR-CALDESC:Events for Rockbourne Village Hall
REFRESH-INTERVAL;VALUE=DURATION:PT1H
X-Robots-Tag:noindex
X-PUBLISHED-TTL:PT1H
BEGIN:VTIMEZONE
TZID:Europe/London
BEGIN:DAYLIGHT
TZOFFSETFROM:+0000
TZOFFSETTO:+0100
TZNAME:BST
DTSTART:20240331T010000
END:DAYLIGHT
BEGIN:STANDARD
TZOFFSETFROM:+0100
TZOFFSETTO:+0000
TZNAME:GMT
DTSTART:20241027T010000
END:STANDARD
BEGIN:DAYLIGHT
TZOFFSETFROM:+0000
TZOFFSETTO:+0100
TZNAME:BST
DTSTART:20250330T010000
END:DAYLIGHT
BEGIN:STANDARD
TZOFFSETFROM:+0100
TZOFFSETTO:+0000
TZNAME:GMT
DTSTART:20251026T010000
END:STANDARD
BEGIN:DAYLIGHT
TZOFFSETFROM:+0000
TZOFFSETTO:+0100
TZNAME:BST
DTSTART:20260329T010000
END:DAYLIGHT
BEGIN:STANDARD
TZOFFSETFROM:+0100
TZOFFSETTO:+0000
TZNAME:GMT
DTSTART:20261025T010000
END:STANDARD
END:VTIMEZONE
BEGIN:VEVENT
DTSTART;TZID=Europe/London:20250707T090000
DTEND;TZID=Europe/London:20250707T100000
DTSTAMP:20260419T173921
CREATED:20250614T073013Z
LAST-MODIFIED:20250614T073013Z
UID:10000846-1751878800-1751882400@rockbournevillagehall.org.uk
SUMMARY:Pilates
DESCRIPTION:
URL:https://rockbournevillagehall.org.uk/event/pilates-106/2025-07-07/
LOCATION:Rockbourne Village Hall\, Fordingbridge\, Hampshire\, SP6 3NR\, United Kingdom
ORGANIZER;CN="Adele Holmes":MAILTO:bookings@rockbournevillagehall.org.uk
GEO:50.9669968;-1.8458319
END:VEVENT
BEGIN:VEVENT
DTSTART;TZID=Europe/London:20250707T091500
DTEND;TZID=Europe/London:20250707T101500
DTSTAMP:20260419T173921
CREATED:20230401T092719Z
LAST-MODIFIED:20260116T150333Z
UID:10000389-1751879700-1751883300@rockbournevillagehall.org.uk
SUMMARY:Pilates with Estelle
DESCRIPTION:Pilates with Estelle
URL:https://rockbournevillagehall.org.uk/event/4522/2025-07-07/
LOCATION:Rockbourne Village Hall\, Fordingbridge\, Hampshire\, SP6 3NR\, United Kingdom
ORGANIZER;CN="Adele Holmes":MAILTO:bookings@rockbournevillagehall.org.uk
GEO:50.9669968;-1.8458319
END:VEVENT
BEGIN:VEVENT
DTSTART;TZID=Europe/London:20250707T140000
DTEND;TZID=Europe/London:20250707T180000
DTSTAMP:20260419T173921
CREATED:20250629T092448Z
LAST-MODIFIED:20250629T092448Z
UID:10000918-1751896800-1751911200@rockbournevillagehall.org.uk
SUMMARY:Conducting Course - Committee Rm
DESCRIPTION:
URL:https://rockbournevillagehall.org.uk/event/conducting-course-committee-rm/
LOCATION:Rockbourne Village Hall\, Fordingbridge\, Hampshire\, SP6 3NR\, United Kingdom
ORGANIZER;CN="Adele Holmes":MAILTO:bookings@rockbournevillagehall.org.uk
GEO:50.9669968;-1.8458319
END:VEVENT
BEGIN:VEVENT
DTSTART;TZID=Europe/London:20250707T180000
DTEND;TZID=Europe/London:20250707T190000
DTSTAMP:20260419T173921
CREATED:20250617T092303Z
LAST-MODIFIED:20250617T092303Z
UID:10000827-1751911200-1751914800@rockbournevillagehall.org.uk
SUMMARY:Yoga
DESCRIPTION:
URL:https://rockbournevillagehall.org.uk/event/yoga-38/2025-07-07/
LOCATION:Rockbourne Village Hall\, Fordingbridge\, Hampshire\, SP6 3NR\, United Kingdom
ORGANIZER;CN="Adele Holmes":MAILTO:bookings@rockbournevillagehall.org.uk
GEO:50.9669968;-1.8458319
END:VEVENT
BEGIN:VEVENT
DTSTART;TZID=Europe/London:20250707T193000
DTEND;TZID=Europe/London:20250707T203000
DTSTAMP:20260419T173921
CREATED:20250617T092411Z
LAST-MODIFIED:20250617T092411Z
UID:10000830-1751916600-1751920200@rockbournevillagehall.org.uk
SUMMARY:Pilates
DESCRIPTION:
URL:https://rockbournevillagehall.org.uk/event/pilates-103/2025-07-07/
LOCATION:Rockbourne Village Hall\, Fordingbridge\, Hampshire\, SP6 3NR\, United Kingdom
ORGANIZER;CN="Adele Holmes":MAILTO:bookings@rockbournevillagehall.org.uk
GEO:50.9669968;-1.8458319
END:VEVENT
BEGIN:VEVENT
DTSTART;TZID=Europe/London:20250708T100000
DTEND;TZID=Europe/London:20250708T160000
DTSTAMP:20260419T173921
CREATED:20250629T092608Z
LAST-MODIFIED:20250629T092608Z
UID:10000872-1751968800-1751990400@rockbournevillagehall.org.uk
SUMMARY:Conducting Course
DESCRIPTION:
URL:https://rockbournevillagehall.org.uk/event/conducting-course-21/
LOCATION:Rockbourne Village Hall\, Fordingbridge\, Hampshire\, SP6 3NR\, United Kingdom
ORGANIZER;CN="Adele Holmes":MAILTO:bookings@rockbournevillagehall.org.uk
GEO:50.9669968;-1.8458319
END:VEVENT
BEGIN:VEVENT
DTSTART;TZID=Europe/London:20250708T160000
DTEND;TZID=Europe/London:20250708T170000
DTSTAMP:20260419T173921
CREATED:20250617T092622Z
LAST-MODIFIED:20250617T092622Z
UID:10001239-1751990400-1751994000@rockbournevillagehall.org.uk
SUMMARY:Yoga
DESCRIPTION:
URL:https://rockbournevillagehall.org.uk/event/yoga-39/2025-07-08/
LOCATION:Rockbourne Village Hall\, Fordingbridge\, Hampshire\, SP6 3NR\, United Kingdom
ORGANIZER;CN="Adele Holmes":MAILTO:bookings@rockbournevillagehall.org.uk
GEO:50.9669968;-1.8458319
END:VEVENT
BEGIN:VEVENT
DTSTART;TZID=Europe/London:20250708T180000
DTEND;TZID=Europe/London:20250708T200000
DTSTAMP:20260419T173921
CREATED:20250617T091125Z
LAST-MODIFIED:20250617T091125Z
UID:10000475-1751997600-1752004800@rockbournevillagehall.org.uk
SUMMARY:Yoga
DESCRIPTION:
URL:https://rockbournevillagehall.org.uk/event/yoga-36/2025-07-08/
LOCATION:Rockbourne Village Hall\, Fordingbridge\, Hampshire\, SP6 3NR\, United Kingdom
ORGANIZER;CN="Adele Holmes":MAILTO:bookings@rockbournevillagehall.org.uk
GEO:50.9669968;-1.8458319
END:VEVENT
BEGIN:VEVENT
DTSTART;TZID=Europe/London:20250709T083000
DTEND;TZID=Europe/London:20250709T104500
DTSTAMP:20260419T173921
CREATED:20250617T092923Z
LAST-MODIFIED:20250617T092923Z
UID:10001245-1752049800-1752057900@rockbournevillagehall.org.uk
SUMMARY:Pilates
DESCRIPTION:
URL:https://rockbournevillagehall.org.uk/event/pilates-105/2025-07-09/
LOCATION:Rockbourne Village Hall\, Fordingbridge\, Hampshire\, SP6 3NR\, United Kingdom
ORGANIZER;CN="Adele Holmes":MAILTO:bookings@rockbournevillagehall.org.uk
GEO:50.9669968;-1.8458319
END:VEVENT
BEGIN:VEVENT
DTSTART;TZID=Europe/London:20250709T110000
DTEND;TZID=Europe/London:20250709T210000
DTSTAMP:20260419T173921
CREATED:20250629T092654Z
LAST-MODIFIED:20250629T092654Z
UID:10001238-1752058800-1752094800@rockbournevillagehall.org.uk
SUMMARY:Conducting Course
DESCRIPTION:
URL:https://rockbournevillagehall.org.uk/event/conducting-course-22/
LOCATION:Rockbourne Village Hall\, Fordingbridge\, Hampshire\, SP6 3NR\, United Kingdom
ORGANIZER;CN="Adele Holmes":MAILTO:bookings@rockbournevillagehall.org.uk
GEO:50.9669968;-1.8458319
END:VEVENT
BEGIN:VEVENT
DTSTART;TZID=Europe/London:20250710T090000
DTEND;TZID=Europe/London:20250710T180000
DTSTAMP:20260419T173921
CREATED:20250629T092740Z
LAST-MODIFIED:20250629T092740Z
UID:10000929-1752138000-1752170400@rockbournevillagehall.org.uk
SUMMARY:Conducting Course
DESCRIPTION:
URL:https://rockbournevillagehall.org.uk/event/conducting-course-23/
LOCATION:Rockbourne Village Hall\, Fordingbridge\, Hampshire\, SP6 3NR\, United Kingdom
ORGANIZER;CN="Adele Holmes":MAILTO:bookings@rockbournevillagehall.org.uk
GEO:50.9669968;-1.8458319
END:VEVENT
BEGIN:VEVENT
DTSTART;TZID=Europe/London:20250711T090000
DTEND;TZID=Europe/London:20250711T101500
DTSTAMP:20260419T173921
CREATED:20250417T074109Z
LAST-MODIFIED:20250417T074109Z
UID:10001221-1752224400-1752228900@rockbournevillagehall.org.uk
SUMMARY:Pilates
DESCRIPTION:
URL:https://rockbournevillagehall.org.uk/event/pilates-102/2025-07-11/
LOCATION:Rockbourne Village Hall\, Fordingbridge\, Hampshire\, SP6 3NR\, United Kingdom
ORGANIZER;CN="Adele Holmes":MAILTO:bookings@rockbournevillagehall.org.uk
GEO:50.9669968;-1.8458319
END:VEVENT
BEGIN:VEVENT
DTSTART;TZID=Europe/London:20250714T090000
DTEND;TZID=Europe/London:20250714T100000
DTSTAMP:20260419T173921
CREATED:20250614T073013Z
LAST-MODIFIED:20250614T073013Z
UID:10000847-1752483600-1752487200@rockbournevillagehall.org.uk
SUMMARY:Pilates
DESCRIPTION:
URL:https://rockbournevillagehall.org.uk/event/pilates-106/2025-07-14/
LOCATION:Rockbourne Village Hall\, Fordingbridge\, Hampshire\, SP6 3NR\, United Kingdom
ORGANIZER;CN="Adele Holmes":MAILTO:bookings@rockbournevillagehall.org.uk
GEO:50.9669968;-1.8458319
END:VEVENT
BEGIN:VEVENT
DTSTART;TZID=Europe/London:20250714T091500
DTEND;TZID=Europe/London:20250714T101500
DTSTAMP:20260419T173921
CREATED:20230401T092719Z
LAST-MODIFIED:20260116T150333Z
UID:10000390-1752484500-1752488100@rockbournevillagehall.org.uk
SUMMARY:Pilates with Estelle
DESCRIPTION:Pilates with Estelle
URL:https://rockbournevillagehall.org.uk/event/4522/2025-07-14/
LOCATION:Rockbourne Village Hall\, Fordingbridge\, Hampshire\, SP6 3NR\, United Kingdom
ORGANIZER;CN="Adele Holmes":MAILTO:bookings@rockbournevillagehall.org.uk
GEO:50.9669968;-1.8458319
END:VEVENT
BEGIN:VEVENT
DTSTART;TZID=Europe/London:20250714T180000
DTEND;TZID=Europe/London:20250714T190000
DTSTAMP:20260419T173921
CREATED:20250617T092303Z
LAST-MODIFIED:20250617T092303Z
UID:10000828-1752516000-1752519600@rockbournevillagehall.org.uk
SUMMARY:Yoga
DESCRIPTION:
URL:https://rockbournevillagehall.org.uk/event/yoga-38/2025-07-14/
LOCATION:Rockbourne Village Hall\, Fordingbridge\, Hampshire\, SP6 3NR\, United Kingdom
ORGANIZER;CN="Adele Holmes":MAILTO:bookings@rockbournevillagehall.org.uk
GEO:50.9669968;-1.8458319
END:VEVENT
BEGIN:VEVENT
DTSTART;TZID=Europe/London:20250714T193000
DTEND;TZID=Europe/London:20250714T203000
DTSTAMP:20260419T173921
CREATED:20250617T092411Z
LAST-MODIFIED:20250617T092411Z
UID:10000831-1752521400-1752525000@rockbournevillagehall.org.uk
SUMMARY:Pilates
DESCRIPTION:
URL:https://rockbournevillagehall.org.uk/event/pilates-103/2025-07-14/
LOCATION:Rockbourne Village Hall\, Fordingbridge\, Hampshire\, SP6 3NR\, United Kingdom
ORGANIZER;CN="Adele Holmes":MAILTO:bookings@rockbournevillagehall.org.uk
GEO:50.9669968;-1.8458319
END:VEVENT
BEGIN:VEVENT
DTSTART;TZID=Europe/London:20250715T160000
DTEND;TZID=Europe/London:20250715T170000
DTSTAMP:20260419T173921
CREATED:20250617T092622Z
LAST-MODIFIED:20250617T092622Z
UID:10001240-1752595200-1752598800@rockbournevillagehall.org.uk
SUMMARY:Yoga
DESCRIPTION:
URL:https://rockbournevillagehall.org.uk/event/yoga-39/2025-07-15/
LOCATION:Rockbourne Village Hall\, Fordingbridge\, Hampshire\, SP6 3NR\, United Kingdom
ORGANIZER;CN="Adele Holmes":MAILTO:bookings@rockbournevillagehall.org.uk
GEO:50.9669968;-1.8458319
END:VEVENT
BEGIN:VEVENT
DTSTART;TZID=Europe/London:20250715T180000
DTEND;TZID=Europe/London:20250715T200000
DTSTAMP:20260419T173921
CREATED:20250617T091125Z
LAST-MODIFIED:20250617T091125Z
UID:10000476-1752602400-1752609600@rockbournevillagehall.org.uk
SUMMARY:Yoga
DESCRIPTION:
URL:https://rockbournevillagehall.org.uk/event/yoga-36/2025-07-15/
LOCATION:Rockbourne Village Hall\, Fordingbridge\, Hampshire\, SP6 3NR\, United Kingdom
ORGANIZER;CN="Adele Holmes":MAILTO:bookings@rockbournevillagehall.org.uk
GEO:50.9669968;-1.8458319
END:VEVENT
BEGIN:VEVENT
DTSTART;TZID=Europe/London:20250716T083000
DTEND;TZID=Europe/London:20250716T104500
DTSTAMP:20260419T173921
CREATED:20250617T092923Z
LAST-MODIFIED:20250617T092923Z
UID:10001246-1752654600-1752662700@rockbournevillagehall.org.uk
SUMMARY:Pilates
DESCRIPTION:
URL:https://rockbournevillagehall.org.uk/event/pilates-105/2025-07-16/
LOCATION:Rockbourne Village Hall\, Fordingbridge\, Hampshire\, SP6 3NR\, United Kingdom
ORGANIZER;CN="Adele Holmes":MAILTO:bookings@rockbournevillagehall.org.uk
GEO:50.9669968;-1.8458319
END:VEVENT
BEGIN:VEVENT
DTSTART;TZID=Europe/London:20250718T090000
DTEND;TZID=Europe/London:20250718T100000
DTSTAMP:20260419T173921
CREATED:20250617T093328Z
LAST-MODIFIED:20250617T093328Z
UID:10001249-1752829200-1752832800@rockbournevillagehall.org.uk
SUMMARY:Pilates
DESCRIPTION:
URL:https://rockbournevillagehall.org.uk/event/pilates-107/2025-07-18/
LOCATION:Rockbourne Village Hall\, Fordingbridge\, Hampshire\, SP6 3NR\, United Kingdom
ORGANIZER;CN="Adele Holmes":MAILTO:bookings@rockbournevillagehall.org.uk
GEO:50.9669968;-1.8458319
END:VEVENT
BEGIN:VEVENT
DTSTART;TZID=Europe/London:20250721T090000
DTEND;TZID=Europe/London:20250721T100000
DTSTAMP:20260419T173921
CREATED:20250617T093506Z
LAST-MODIFIED:20250617T093506Z
UID:10001251-1753088400-1753092000@rockbournevillagehall.org.uk
SUMMARY:Pilates
DESCRIPTION:
URL:https://rockbournevillagehall.org.uk/event/pilates-108/
LOCATION:Rockbourne Village Hall\, Fordingbridge\, Hampshire\, SP6 3NR\, United Kingdom
ORGANIZER;CN="Adele Holmes":MAILTO:bookings@rockbournevillagehall.org.uk
GEO:50.9669968;-1.8458319
END:VEVENT
BEGIN:VEVENT
DTSTART;TZID=Europe/London:20250721T091500
DTEND;TZID=Europe/London:20250721T101500
DTSTAMP:20260419T173921
CREATED:20230401T092719Z
LAST-MODIFIED:20260116T150333Z
UID:10000391-1753089300-1753092900@rockbournevillagehall.org.uk
SUMMARY:Pilates with Estelle
DESCRIPTION:Pilates with Estelle
URL:https://rockbournevillagehall.org.uk/event/4522/2025-07-21/
LOCATION:Rockbourne Village Hall\, Fordingbridge\, Hampshire\, SP6 3NR\, United Kingdom
ORGANIZER;CN="Adele Holmes":MAILTO:bookings@rockbournevillagehall.org.uk
GEO:50.9669968;-1.8458319
END:VEVENT
BEGIN:VEVENT
DTSTART;TZID=Europe/London:20250721T180000
DTEND;TZID=Europe/London:20250721T190000
DTSTAMP:20260419T173921
CREATED:20250617T092303Z
LAST-MODIFIED:20250617T092303Z
UID:10000829-1753120800-1753124400@rockbournevillagehall.org.uk
SUMMARY:Yoga
DESCRIPTION:
URL:https://rockbournevillagehall.org.uk/event/yoga-38/2025-07-21/
LOCATION:Rockbourne Village Hall\, Fordingbridge\, Hampshire\, SP6 3NR\, United Kingdom
ORGANIZER;CN="Adele Holmes":MAILTO:bookings@rockbournevillagehall.org.uk
GEO:50.9669968;-1.8458319
END:VEVENT
BEGIN:VEVENT
DTSTART;TZID=Europe/London:20250721T193000
DTEND;TZID=Europe/London:20250721T203000
DTSTAMP:20260419T173921
CREATED:20250617T092411Z
LAST-MODIFIED:20250617T092411Z
UID:10000832-1753126200-1753129800@rockbournevillagehall.org.uk
SUMMARY:Pilates
DESCRIPTION:
URL:https://rockbournevillagehall.org.uk/event/pilates-103/2025-07-21/
LOCATION:Rockbourne Village Hall\, Fordingbridge\, Hampshire\, SP6 3NR\, United Kingdom
ORGANIZER;CN="Adele Holmes":MAILTO:bookings@rockbournevillagehall.org.uk
GEO:50.9669968;-1.8458319
END:VEVENT
BEGIN:VEVENT
DTSTART;TZID=Europe/London:20250722T160000
DTEND;TZID=Europe/London:20250722T170000
DTSTAMP:20260419T173921
CREATED:20250617T092622Z
LAST-MODIFIED:20250617T092622Z
UID:10001241-1753200000-1753203600@rockbournevillagehall.org.uk
SUMMARY:Yoga
DESCRIPTION:
URL:https://rockbournevillagehall.org.uk/event/yoga-39/2025-07-22/
LOCATION:Rockbourne Village Hall\, Fordingbridge\, Hampshire\, SP6 3NR\, United Kingdom
ORGANIZER;CN="Adele Holmes":MAILTO:bookings@rockbournevillagehall.org.uk
GEO:50.9669968;-1.8458319
END:VEVENT
BEGIN:VEVENT
DTSTART;TZID=Europe/London:20250723T083000
DTEND;TZID=Europe/London:20250723T104500
DTSTAMP:20260419T173921
CREATED:20250617T092923Z
LAST-MODIFIED:20250617T092923Z
UID:10001247-1753259400-1753267500@rockbournevillagehall.org.uk
SUMMARY:Pilates
DESCRIPTION:
URL:https://rockbournevillagehall.org.uk/event/pilates-105/2025-07-23/
LOCATION:Rockbourne Village Hall\, Fordingbridge\, Hampshire\, SP6 3NR\, United Kingdom
ORGANIZER;CN="Adele Holmes":MAILTO:bookings@rockbournevillagehall.org.uk
GEO:50.9669968;-1.8458319
END:VEVENT
BEGIN:VEVENT
DTSTART;TZID=Europe/London:20250723T190000
DTEND;TZID=Europe/London:20250723T210000
DTSTAMP:20260419T173921
CREATED:20220303T130227Z
LAST-MODIFIED:20220303T130227Z
UID:10000722-1753297200-1753304400@rockbournevillagehall.org.uk
SUMMARY:Table Tennis
DESCRIPTION:Table Tennis 7.00 – 9.00 pm
URL:https://rockbournevillagehall.org.uk/event/table-tennis/2025-07-23/
LOCATION:Rockbourne Village Hall\, Fordingbridge\, Hampshire\, SP6 3NR\, United Kingdom
ORGANIZER;CN="Adele Holmes":MAILTO:bookings@rockbournevillagehall.org.uk
GEO:50.9669968;-1.8458319
END:VEVENT
BEGIN:VEVENT
DTSTART;TZID=Europe/London:20250725T090000
DTEND;TZID=Europe/London:20250725T100000
DTSTAMP:20260419T173921
CREATED:20250617T093328Z
LAST-MODIFIED:20250617T093328Z
UID:10001250-1753434000-1753437600@rockbournevillagehall.org.uk
SUMMARY:Pilates
DESCRIPTION:
URL:https://rockbournevillagehall.org.uk/event/pilates-107/2025-07-25/
LOCATION:Rockbourne Village Hall\, Fordingbridge\, Hampshire\, SP6 3NR\, United Kingdom
ORGANIZER;CN="Adele Holmes":MAILTO:bookings@rockbournevillagehall.org.uk
GEO:50.9669968;-1.8458319
END:VEVENT
BEGIN:VEVENT
DTSTART;TZID=Europe/London:20250727T143000
DTEND;TZID=Europe/London:20250727T160000
DTSTAMP:20260419T173921
CREATED:20230918T144443Z
LAST-MODIFIED:20230918T144443Z
UID:10001009-1753626600-1753632000@rockbournevillagehall.org.uk
SUMMARY:Cuppa and cake
DESCRIPTION:Cuppa and cake
URL:https://rockbournevillagehall.org.uk/event/cuppa-and-cake/2025-07-27/
LOCATION:Rockbourne Village Hall\, Fordingbridge\, Hampshire\, SP6 3NR\, United Kingdom
ORGANIZER;CN="Adele Holmes":MAILTO:bookings@rockbournevillagehall.org.uk
GEO:50.9669968;-1.8458319
END:VEVENT
BEGIN:VEVENT
DTSTART;TZID=Europe/London:20250728T091500
DTEND;TZID=Europe/London:20250728T101500
DTSTAMP:20260419T173921
CREATED:20230401T092719Z
LAST-MODIFIED:20260116T150333Z
UID:10000392-1753694100-1753697700@rockbournevillagehall.org.uk
SUMMARY:Pilates with Estelle
DESCRIPTION:Pilates with Estelle
URL:https://rockbournevillagehall.org.uk/event/4522/2025-07-28/
LOCATION:Rockbourne Village Hall\, Fordingbridge\, Hampshire\, SP6 3NR\, United Kingdom
ORGANIZER;CN="Adele Holmes":MAILTO:bookings@rockbournevillagehall.org.uk
GEO:50.9669968;-1.8458319
END:VEVENT
END:VCALENDAR