BEGIN:VCALENDAR
VERSION:2.0
PRODID:-//Rockbourne Village Hall - ECPv6.15.15//NONSGML v1.0//EN
CALSCALE:GREGORIAN
METHOD:PUBLISH
X-WR-CALNAME:Rockbourne Village Hall
X-ORIGINAL-URL:https://rockbournevillagehall.org.uk
X-WR-CALDESC:Events for Rockbourne Village Hall
REFRESH-INTERVAL;VALUE=DURATION:PT1H
X-Robots-Tag:noindex
X-PUBLISHED-TTL:PT1H
BEGIN:VTIMEZONE
TZID:Europe/London
BEGIN:DAYLIGHT
TZOFFSETFROM:+0000
TZOFFSETTO:+0100
TZNAME:BST
DTSTART:20210328T010000
END:DAYLIGHT
BEGIN:STANDARD
TZOFFSETFROM:+0100
TZOFFSETTO:+0000
TZNAME:GMT
DTSTART:20211031T010000
END:STANDARD
BEGIN:DAYLIGHT
TZOFFSETFROM:+0000
TZOFFSETTO:+0100
TZNAME:BST
DTSTART:20220327T010000
END:DAYLIGHT
BEGIN:STANDARD
TZOFFSETFROM:+0100
TZOFFSETTO:+0000
TZNAME:GMT
DTSTART:20221030T010000
END:STANDARD
BEGIN:DAYLIGHT
TZOFFSETFROM:+0000
TZOFFSETTO:+0100
TZNAME:BST
DTSTART:20230326T010000
END:DAYLIGHT
BEGIN:STANDARD
TZOFFSETFROM:+0100
TZOFFSETTO:+0000
TZNAME:GMT
DTSTART:20231029T010000
END:STANDARD
END:VTIMEZONE
BEGIN:VEVENT
DTSTART;TZID=Europe/London:20220812T090000
DTEND;TZID=Europe/London:20220812T101500
DTSTAMP:20260423T111521
CREATED:20220720T172042Z
LAST-MODIFIED:20220720T172042Z
UID:10000188-1660294800-1660299300@rockbournevillagehall.org.uk
SUMMARY:Pilates
DESCRIPTION:Pilates
URL:https://rockbournevillagehall.org.uk/event/pilates-12/2022-08-12/
LOCATION:Rockbourne Village Hall\, Fordingbridge\, Hampshire\, SP6 3NR\, United Kingdom
ORGANIZER;CN="Adele Holmes":MAILTO:bookings@rockbournevillagehall.org.uk
GEO:50.9669968;-1.8458319
END:VEVENT
BEGIN:VEVENT
DTSTART;TZID=Europe/London:20220815T090000
DTEND;TZID=Europe/London:20220815T101500
DTSTAMP:20260423T111521
CREATED:20220720T173028Z
LAST-MODIFIED:20220720T173028Z
UID:10000242-1660554000-1660558500@rockbournevillagehall.org.uk
SUMMARY:Pilates with Estelle
DESCRIPTION:Pilates with Estelle
URL:https://rockbournevillagehall.org.uk/event/pilates-with-estelle/2022-08-15/
LOCATION:Rockbourne Village Hall\, Fordingbridge\, Hampshire\, SP6 3NR\, United Kingdom
ORGANIZER;CN="Adele Holmes":MAILTO:bookings@rockbournevillagehall.org.uk
GEO:50.9669968;-1.8458319
END:VEVENT
BEGIN:VEVENT
DTSTART;TZID=Europe/London:20220815T193000
DTEND;TZID=Europe/London:20220815T204500
DTSTAMP:20260423T111521
CREATED:20220720T173221Z
LAST-MODIFIED:20220720T173221Z
UID:10000251-1660591800-1660596300@rockbournevillagehall.org.uk
SUMMARY:Pilates with Estelle
DESCRIPTION:Pilates with Estelle
URL:https://rockbournevillagehall.org.uk/event/pilates-with-estelle-2/2022-08-15/
LOCATION:Rockbourne Village Hall\, Fordingbridge\, Hampshire\, SP6 3NR\, United Kingdom
ORGANIZER;CN="Adele Holmes":MAILTO:bookings@rockbournevillagehall.org.uk
GEO:50.9669968;-1.8458319
END:VEVENT
BEGIN:VEVENT
DTSTART;TZID=Europe/London:20220822T090000
DTEND;TZID=Europe/London:20220822T101500
DTSTAMP:20260423T111521
CREATED:20220720T173028Z
LAST-MODIFIED:20220720T173028Z
UID:10000243-1661158800-1661163300@rockbournevillagehall.org.uk
SUMMARY:Pilates with Estelle
DESCRIPTION:Pilates with Estelle
URL:https://rockbournevillagehall.org.uk/event/pilates-with-estelle/2022-08-22/
LOCATION:Rockbourne Village Hall\, Fordingbridge\, Hampshire\, SP6 3NR\, United Kingdom
ORGANIZER;CN="Adele Holmes":MAILTO:bookings@rockbournevillagehall.org.uk
GEO:50.9669968;-1.8458319
END:VEVENT
BEGIN:VEVENT
DTSTART;TZID=Europe/London:20220822T193000
DTEND;TZID=Europe/London:20220822T204500
DTSTAMP:20260423T111521
CREATED:20220720T173221Z
LAST-MODIFIED:20220720T173221Z
UID:10000252-1661196600-1661201100@rockbournevillagehall.org.uk
SUMMARY:Pilates with Estelle
DESCRIPTION:Pilates with Estelle
URL:https://rockbournevillagehall.org.uk/event/pilates-with-estelle-2/2022-08-22/
LOCATION:Rockbourne Village Hall\, Fordingbridge\, Hampshire\, SP6 3NR\, United Kingdom
ORGANIZER;CN="Adele Holmes":MAILTO:bookings@rockbournevillagehall.org.uk
GEO:50.9669968;-1.8458319
END:VEVENT
BEGIN:VEVENT
DTSTART;TZID=Europe/London:20220823T190000
DTEND;TZID=Europe/London:20220823T210000
DTSTAMP:20260423T111521
CREATED:20220303T130227Z
LAST-MODIFIED:20220303T130227Z
UID:10000687-1661281200-1661288400@rockbournevillagehall.org.uk
SUMMARY:Table Tennis
DESCRIPTION:Table Tennis 7.00 – 9.00 pm
URL:https://rockbournevillagehall.org.uk/event/table-tennis/2022-08-23/
LOCATION:Rockbourne Village Hall\, Fordingbridge\, Hampshire\, SP6 3NR\, United Kingdom
ORGANIZER;CN="Adele Holmes":MAILTO:bookings@rockbournevillagehall.org.uk
GEO:50.9669968;-1.8458319
END:VEVENT
BEGIN:VEVENT
DTSTART;TZID=Europe/London:20220829T180000
DTEND;TZID=Europe/London:20220829T190000
DTSTAMP:20260423T111521
CREATED:20220605T101153Z
LAST-MODIFIED:20220605T101153Z
UID:10000162-1661796000-1661799600@rockbournevillagehall.org.uk
SUMMARY:Yoga with Gretchen
DESCRIPTION:Yoga with Gretchen
URL:https://rockbournevillagehall.org.uk/event/yoga-with-gretchen-3/2022-08-29/
LOCATION:Rockbourne Village Hall\, Fordingbridge\, Hampshire\, SP6 3NR\, United Kingdom
ORGANIZER;CN="Adele Holmes":MAILTO:bookings@rockbournevillagehall.org.uk
GEO:50.9669968;-1.8458319
END:VEVENT
BEGIN:VEVENT
DTSTART;TZID=Europe/London:20220830T120000
DTEND;TZID=Europe/London:20220830T220000
DTSTAMP:20260423T111521
CREATED:20220525T192726Z
LAST-MODIFIED:20220525T192726Z
UID:10000467-1661860800-1661896800@rockbournevillagehall.org.uk
SUMMARY:Conducting Course
DESCRIPTION:Conducting Course
URL:https://rockbournevillagehall.org.uk/event/conducting-course-4/2022-08-30/
LOCATION:Rockbourne Village Hall\, Fordingbridge\, Hampshire\, SP6 3NR\, United Kingdom
ORGANIZER;CN="Adele Holmes":MAILTO:bookings@rockbournevillagehall.org.uk
GEO:50.9669968;-1.8458319
END:VEVENT
BEGIN:VEVENT
DTSTART;TZID=Europe/London:20220831T120000
DTEND;TZID=Europe/London:20220831T220000
DTSTAMP:20260423T111521
CREATED:20220525T192726Z
LAST-MODIFIED:20220525T192726Z
UID:10000468-1661947200-1661983200@rockbournevillagehall.org.uk
SUMMARY:Conducting Course
DESCRIPTION:Conducting Course
URL:https://rockbournevillagehall.org.uk/event/conducting-course-4/2022-08-31/
LOCATION:Rockbourne Village Hall\, Fordingbridge\, Hampshire\, SP6 3NR\, United Kingdom
ORGANIZER;CN="Adele Holmes":MAILTO:bookings@rockbournevillagehall.org.uk
GEO:50.9669968;-1.8458319
END:VEVENT
BEGIN:VEVENT
DTSTART;TZID=Europe/London:20220901T120000
DTEND;TZID=Europe/London:20220901T220000
DTSTAMP:20260423T111521
CREATED:20220525T192726Z
LAST-MODIFIED:20220525T192726Z
UID:10000469-1662033600-1662069600@rockbournevillagehall.org.uk
SUMMARY:Conducting Course
DESCRIPTION:Conducting Course
URL:https://rockbournevillagehall.org.uk/event/conducting-course-4/2022-09-01/
LOCATION:Rockbourne Village Hall\, Fordingbridge\, Hampshire\, SP6 3NR\, United Kingdom
ORGANIZER;CN="Adele Holmes":MAILTO:bookings@rockbournevillagehall.org.uk
GEO:50.9669968;-1.8458319
END:VEVENT
BEGIN:VEVENT
DTSTART;TZID=Europe/London:20220902T090000
DTEND;TZID=Europe/London:20220902T101500
DTSTAMP:20260423T111521
CREATED:20220720T173444Z
LAST-MODIFIED:20220720T173444Z
UID:10000258-1662109200-1662113700@rockbournevillagehall.org.uk
SUMMARY:Pilates with Estelle
DESCRIPTION:Pilates with Estelle
URL:https://rockbournevillagehall.org.uk/event/pilates-with-estelle-3/
LOCATION:Rockbourne Village Hall\, Fordingbridge\, Hampshire\, SP6 3NR\, United Kingdom
ORGANIZER;CN="Adele Holmes":MAILTO:bookings@rockbournevillagehall.org.uk
GEO:50.9669968;-1.8458319
END:VEVENT
BEGIN:VEVENT
DTSTART;TZID=Europe/London:20220905T091500
DTEND;TZID=Europe/London:20220905T103000
DTSTAMP:20260423T111521
CREATED:20220815T190505Z
LAST-MODIFIED:20220815T190505Z
UID:10000196-1662369300-1662373800@rockbournevillagehall.org.uk
SUMMARY:Pilates with Estelle
DESCRIPTION:Pilates with Estelle
URL:https://rockbournevillagehall.org.uk/event/pilates-with-estelle-4/2022-09-05/
LOCATION:Rockbourne Village Hall\, Fordingbridge\, Hampshire\, SP6 3NR\, United Kingdom
ORGANIZER;CN="Adele Holmes":MAILTO:bookings@rockbournevillagehall.org.uk
GEO:50.9669968;-1.8458319
END:VEVENT
BEGIN:VEVENT
DTSTART;TZID=Europe/London:20220905T180000
DTEND;TZID=Europe/London:20220905T190000
DTSTAMP:20260423T111521
CREATED:20220605T101153Z
LAST-MODIFIED:20220605T101153Z
UID:10000163-1662400800-1662404400@rockbournevillagehall.org.uk
SUMMARY:Yoga with Gretchen
DESCRIPTION:Yoga with Gretchen
URL:https://rockbournevillagehall.org.uk/event/yoga-with-gretchen-3/2022-09-05/
LOCATION:Rockbourne Village Hall\, Fordingbridge\, Hampshire\, SP6 3NR\, United Kingdom
ORGANIZER;CN="Adele Holmes":MAILTO:bookings@rockbournevillagehall.org.uk
GEO:50.9669968;-1.8458319
END:VEVENT
BEGIN:VEVENT
DTSTART;TZID=Europe/London:20220905T193000
DTEND;TZID=Europe/London:20220905T204500
DTSTAMP:20260423T111521
CREATED:20220815T190626Z
LAST-MODIFIED:20220815T190626Z
UID:10000218-1662406200-1662410700@rockbournevillagehall.org.uk
SUMMARY:Pilates with Estelle
DESCRIPTION:Pilates with Estelle
URL:https://rockbournevillagehall.org.uk/event/pilates-with-estelle-5/2022-09-05/
LOCATION:Rockbourne Village Hall\, Fordingbridge\, Hampshire\, SP6 3NR\, United Kingdom
ORGANIZER;CN="Adele Holmes":MAILTO:bookings@rockbournevillagehall.org.uk
GEO:50.9669968;-1.8458319
END:VEVENT
BEGIN:VEVENT
DTSTART;TZID=Europe/London:20220907T091500
DTEND;TZID=Europe/London:20220907T113000
DTSTAMP:20260423T111521
CREATED:20220815T190834Z
LAST-MODIFIED:20220815T191339Z
UID:10000419-1662542100-1662550200@rockbournevillagehall.org.uk
SUMMARY:Pilates with Sophie
DESCRIPTION:Pilates with Sophie \n2 classes 9.15 – 10.15 and 10.30 = 11.30
URL:https://rockbournevillagehall.org.uk/event/pilates-with-sophie-2/2022-09-07/
LOCATION:Rockbourne Village Hall\, Fordingbridge\, Hampshire\, SP6 3NR\, United Kingdom
ORGANIZER;CN="Adele Holmes":MAILTO:bookings@rockbournevillagehall.org.uk
GEO:50.9669968;-1.8458319
END:VEVENT
BEGIN:VEVENT
DTSTART;TZID=Europe/London:20220909T090000
DTEND;TZID=Europe/London:20220909T101500
DTSTAMP:20260423T111521
CREATED:20220815T190731Z
LAST-MODIFIED:20220815T192226Z
UID:10000261-1662714000-1662718500@rockbournevillagehall.org.uk
SUMMARY:Pilates with Estelle
DESCRIPTION:Pilates with Estelle
URL:https://rockbournevillagehall.org.uk/event/pilates-with-estelle-6/2022-09-09/
LOCATION:Rockbourne Village Hall\, Fordingbridge\, Hampshire\, SP6 3NR\, United Kingdom
ORGANIZER;CN="Adele Holmes":MAILTO:bookings@rockbournevillagehall.org.uk
GEO:50.9669968;-1.8458319
END:VEVENT
BEGIN:VEVENT
DTSTART;TZID=Europe/London:20220912T091500
DTEND;TZID=Europe/London:20220912T103000
DTSTAMP:20260423T111521
CREATED:20220815T190505Z
LAST-MODIFIED:20220815T190505Z
UID:10000197-1662974100-1662978600@rockbournevillagehall.org.uk
SUMMARY:Pilates with Estelle
DESCRIPTION:Pilates with Estelle
URL:https://rockbournevillagehall.org.uk/event/pilates-with-estelle-4/2022-09-12/
LOCATION:Rockbourne Village Hall\, Fordingbridge\, Hampshire\, SP6 3NR\, United Kingdom
ORGANIZER;CN="Adele Holmes":MAILTO:bookings@rockbournevillagehall.org.uk
GEO:50.9669968;-1.8458319
END:VEVENT
BEGIN:VEVENT
DTSTART;TZID=Europe/London:20220912T180000
DTEND;TZID=Europe/London:20220912T190000
DTSTAMP:20260423T111521
CREATED:20220605T101153Z
LAST-MODIFIED:20220605T101153Z
UID:10000164-1663005600-1663009200@rockbournevillagehall.org.uk
SUMMARY:Yoga with Gretchen
DESCRIPTION:Yoga with Gretchen
URL:https://rockbournevillagehall.org.uk/event/yoga-with-gretchen-3/2022-09-12/
LOCATION:Rockbourne Village Hall\, Fordingbridge\, Hampshire\, SP6 3NR\, United Kingdom
ORGANIZER;CN="Adele Holmes":MAILTO:bookings@rockbournevillagehall.org.uk
GEO:50.9669968;-1.8458319
END:VEVENT
BEGIN:VEVENT
DTSTART;TZID=Europe/London:20220912T193000
DTEND;TZID=Europe/London:20220912T204500
DTSTAMP:20260423T111521
CREATED:20220815T190626Z
LAST-MODIFIED:20220815T190626Z
UID:10000219-1663011000-1663015500@rockbournevillagehall.org.uk
SUMMARY:Pilates with Estelle
DESCRIPTION:Pilates with Estelle
URL:https://rockbournevillagehall.org.uk/event/pilates-with-estelle-5/2022-09-12/
LOCATION:Rockbourne Village Hall\, Fordingbridge\, Hampshire\, SP6 3NR\, United Kingdom
ORGANIZER;CN="Adele Holmes":MAILTO:bookings@rockbournevillagehall.org.uk
GEO:50.9669968;-1.8458319
END:VEVENT
BEGIN:VEVENT
DTSTART;TZID=Europe/London:20220914T091500
DTEND;TZID=Europe/London:20220914T113000
DTSTAMP:20260423T111521
CREATED:20220815T190834Z
LAST-MODIFIED:20220815T191339Z
UID:10000420-1663146900-1663155000@rockbournevillagehall.org.uk
SUMMARY:Pilates with Sophie
DESCRIPTION:Pilates with Sophie \n2 classes 9.15 – 10.15 and 10.30 = 11.30
URL:https://rockbournevillagehall.org.uk/event/pilates-with-sophie-2/2022-09-14/
LOCATION:Rockbourne Village Hall\, Fordingbridge\, Hampshire\, SP6 3NR\, United Kingdom
ORGANIZER;CN="Adele Holmes":MAILTO:bookings@rockbournevillagehall.org.uk
GEO:50.9669968;-1.8458319
END:VEVENT
BEGIN:VEVENT
DTSTART;TZID=Europe/London:20220916T090000
DTEND;TZID=Europe/London:20220916T101500
DTSTAMP:20260423T111521
CREATED:20220815T190731Z
LAST-MODIFIED:20220815T192226Z
UID:10000262-1663318800-1663323300@rockbournevillagehall.org.uk
SUMMARY:Pilates with Estelle
DESCRIPTION:Pilates with Estelle
URL:https://rockbournevillagehall.org.uk/event/pilates-with-estelle-6/2022-09-16/
LOCATION:Rockbourne Village Hall\, Fordingbridge\, Hampshire\, SP6 3NR\, United Kingdom
ORGANIZER;CN="Adele Holmes":MAILTO:bookings@rockbournevillagehall.org.uk
GEO:50.9669968;-1.8458319
END:VEVENT
BEGIN:VEVENT
DTSTART;TZID=Europe/London:20220919T091500
DTEND;TZID=Europe/London:20220919T103000
DTSTAMP:20260423T111521
CREATED:20220815T190505Z
LAST-MODIFIED:20220815T190505Z
UID:10000198-1663578900-1663583400@rockbournevillagehall.org.uk
SUMMARY:Pilates with Estelle
DESCRIPTION:Pilates with Estelle
URL:https://rockbournevillagehall.org.uk/event/pilates-with-estelle-4/2022-09-19/
LOCATION:Rockbourne Village Hall\, Fordingbridge\, Hampshire\, SP6 3NR\, United Kingdom
ORGANIZER;CN="Adele Holmes":MAILTO:bookings@rockbournevillagehall.org.uk
GEO:50.9669968;-1.8458319
END:VEVENT
BEGIN:VEVENT
DTSTART;TZID=Europe/London:20220919T193000
DTEND;TZID=Europe/London:20220919T204500
DTSTAMP:20260423T111521
CREATED:20220815T190626Z
LAST-MODIFIED:20220815T190626Z
UID:10000220-1663615800-1663620300@rockbournevillagehall.org.uk
SUMMARY:Pilates with Estelle
DESCRIPTION:Pilates with Estelle
URL:https://rockbournevillagehall.org.uk/event/pilates-with-estelle-5/2022-09-19/
LOCATION:Rockbourne Village Hall\, Fordingbridge\, Hampshire\, SP6 3NR\, United Kingdom
ORGANIZER;CN="Adele Holmes":MAILTO:bookings@rockbournevillagehall.org.uk
GEO:50.9669968;-1.8458319
END:VEVENT
BEGIN:VEVENT
DTSTART;TZID=Europe/London:20220921T091500
DTEND;TZID=Europe/London:20220921T113000
DTSTAMP:20260423T111521
CREATED:20220815T190834Z
LAST-MODIFIED:20220815T191339Z
UID:10000421-1663751700-1663759800@rockbournevillagehall.org.uk
SUMMARY:Pilates with Sophie
DESCRIPTION:Pilates with Sophie \n2 classes 9.15 – 10.15 and 10.30 = 11.30
URL:https://rockbournevillagehall.org.uk/event/pilates-with-sophie-2/2022-09-21/
LOCATION:Rockbourne Village Hall\, Fordingbridge\, Hampshire\, SP6 3NR\, United Kingdom
ORGANIZER;CN="Adele Holmes":MAILTO:bookings@rockbournevillagehall.org.uk
GEO:50.9669968;-1.8458319
END:VEVENT
BEGIN:VEVENT
DTSTART;TZID=Europe/London:20220921T183000
DTEND;TZID=Europe/London:20220921T223000
DTSTAMP:20260423T111521
CREATED:20220815T190939Z
LAST-MODIFIED:20220815T190939Z
UID:10000010-1663785000-1663799400@rockbournevillagehall.org.uk
SUMMARY:Film Night
DESCRIPTION:Film Night \nThe Duke
URL:https://rockbournevillagehall.org.uk/event/film-night-2/
LOCATION:Rockbourne Village Hall\, Fordingbridge\, Hampshire\, SP6 3NR\, United Kingdom
ORGANIZER;CN="Adele Holmes":MAILTO:bookings@rockbournevillagehall.org.uk
GEO:50.9669968;-1.8458319
END:VEVENT
BEGIN:VEVENT
DTSTART;TZID=Europe/London:20220923T090000
DTEND;TZID=Europe/London:20220923T101500
DTSTAMP:20260423T111521
CREATED:20220815T190731Z
LAST-MODIFIED:20220815T192226Z
UID:10000263-1663923600-1663928100@rockbournevillagehall.org.uk
SUMMARY:Pilates with Estelle
DESCRIPTION:Pilates with Estelle
URL:https://rockbournevillagehall.org.uk/event/pilates-with-estelle-6/2022-09-23/
LOCATION:Rockbourne Village Hall\, Fordingbridge\, Hampshire\, SP6 3NR\, United Kingdom
ORGANIZER;CN="Adele Holmes":MAILTO:bookings@rockbournevillagehall.org.uk
GEO:50.9669968;-1.8458319
END:VEVENT
BEGIN:VEVENT
DTSTART;TZID=Europe/London:20220923T190000
DTEND;TZID=Europe/London:20220923T210000
DTSTAMP:20260423T111521
CREATED:20220303T130227Z
LAST-MODIFIED:20220303T130227Z
UID:10000688-1663959600-1663966800@rockbournevillagehall.org.uk
SUMMARY:Table Tennis
DESCRIPTION:Table Tennis 7.00 – 9.00 pm
URL:https://rockbournevillagehall.org.uk/event/table-tennis/2022-09-23/
LOCATION:Rockbourne Village Hall\, Fordingbridge\, Hampshire\, SP6 3NR\, United Kingdom
ORGANIZER;CN="Adele Holmes":MAILTO:bookings@rockbournevillagehall.org.uk
GEO:50.9669968;-1.8458319
END:VEVENT
BEGIN:VEVENT
DTSTART;TZID=Europe/London:20220926T091500
DTEND;TZID=Europe/London:20220926T103000
DTSTAMP:20260423T111521
CREATED:20220815T190505Z
LAST-MODIFIED:20220815T190505Z
UID:10000199-1664183700-1664188200@rockbournevillagehall.org.uk
SUMMARY:Pilates with Estelle
DESCRIPTION:Pilates with Estelle
URL:https://rockbournevillagehall.org.uk/event/pilates-with-estelle-4/2022-09-26/
LOCATION:Rockbourne Village Hall\, Fordingbridge\, Hampshire\, SP6 3NR\, United Kingdom
ORGANIZER;CN="Adele Holmes":MAILTO:bookings@rockbournevillagehall.org.uk
GEO:50.9669968;-1.8458319
END:VEVENT
BEGIN:VEVENT
DTSTART;TZID=Europe/London:20220926T123000
DTEND;TZID=Europe/London:20220926T140000
DTSTAMP:20260423T111521
CREATED:20220815T191703Z
LAST-MODIFIED:20220815T191703Z
UID:10000013-1664195400-1664200800@rockbournevillagehall.org.uk
SUMMARY:Village Lunch
DESCRIPTION:Village Lunch
URL:https://rockbournevillagehall.org.uk/event/village-lunch/
LOCATION:Rockbourne Village Hall\, Fordingbridge\, Hampshire\, SP6 3NR\, United Kingdom
ORGANIZER;CN="Adele Holmes":MAILTO:bookings@rockbournevillagehall.org.uk
GEO:50.9669968;-1.8458319
END:VEVENT
BEGIN:VEVENT
DTSTART;TZID=Europe/London:20220926T180000
DTEND;TZID=Europe/London:20220926T190000
DTSTAMP:20260423T111521
CREATED:20220919T085457Z
LAST-MODIFIED:20220919T085634Z
UID:10000427-1664215200-1664218800@rockbournevillagehall.org.uk
SUMMARY:Yoga with Gretchen
DESCRIPTION:Yoga with Gretchen
URL:https://rockbournevillagehall.org.uk/event/yoga-4/2022-09-26/
LOCATION:Rockbourne Village Hall\, Fordingbridge\, Hampshire\, SP6 3NR\, United Kingdom
GEO:50.9669968;-1.8458319
END:VEVENT
END:VCALENDAR