BEGIN:VCALENDAR
VERSION:2.0
PRODID:-//Rockbourne Village Hall - ECPv6.15.15//NONSGML v1.0//EN
CALSCALE:GREGORIAN
METHOD:PUBLISH
X-WR-CALNAME:Rockbourne Village Hall
X-ORIGINAL-URL:https://rockbournevillagehall.org.uk
X-WR-CALDESC:Events for Rockbourne Village Hall
REFRESH-INTERVAL;VALUE=DURATION:PT1H
X-Robots-Tag:noindex
X-PUBLISHED-TTL:PT1H
BEGIN:VTIMEZONE
TZID:Europe/London
BEGIN:DAYLIGHT
TZOFFSETFROM:+0000
TZOFFSETTO:+0100
TZNAME:BST
DTSTART:20210328T010000
END:DAYLIGHT
BEGIN:STANDARD
TZOFFSETFROM:+0100
TZOFFSETTO:+0000
TZNAME:GMT
DTSTART:20211031T010000
END:STANDARD
BEGIN:DAYLIGHT
TZOFFSETFROM:+0000
TZOFFSETTO:+0100
TZNAME:BST
DTSTART:20220327T010000
END:DAYLIGHT
BEGIN:STANDARD
TZOFFSETFROM:+0100
TZOFFSETTO:+0000
TZNAME:GMT
DTSTART:20221030T010000
END:STANDARD
BEGIN:DAYLIGHT
TZOFFSETFROM:+0000
TZOFFSETTO:+0100
TZNAME:BST
DTSTART:20230326T010000
END:DAYLIGHT
BEGIN:STANDARD
TZOFFSETFROM:+0100
TZOFFSETTO:+0000
TZNAME:GMT
DTSTART:20231029T010000
END:STANDARD
END:VTIMEZONE
BEGIN:VEVENT
DTSTART;TZID=Europe/London:20221003T193000
DTEND;TZID=Europe/London:20221003T204500
DTSTAMP:20260423T162803
CREATED:20220815T190626Z
LAST-MODIFIED:20220815T190626Z
UID:10000222-1664825400-1664829900@rockbournevillagehall.org.uk
SUMMARY:Pilates with Estelle
DESCRIPTION:Pilates with Estelle
URL:https://rockbournevillagehall.org.uk/event/pilates-with-estelle-5/2022-10-03/
LOCATION:Rockbourne Village Hall\, Fordingbridge\, Hampshire\, SP6 3NR\, United Kingdom
ORGANIZER;CN="Adele Holmes":MAILTO:bookings@rockbournevillagehall.org.uk
GEO:50.9669968;-1.8458319
END:VEVENT
BEGIN:VEVENT
DTSTART;TZID=Europe/London:20221005T091500
DTEND;TZID=Europe/London:20221005T113000
DTSTAMP:20260423T162803
CREATED:20220815T190834Z
LAST-MODIFIED:20220815T191339Z
UID:10000423-1664961300-1664969400@rockbournevillagehall.org.uk
SUMMARY:Pilates with Sophie
DESCRIPTION:Pilates with Sophie \n2 classes 9.15 – 10.15 and 10.30 = 11.30
URL:https://rockbournevillagehall.org.uk/event/pilates-with-sophie-2/2022-10-05/
LOCATION:Rockbourne Village Hall\, Fordingbridge\, Hampshire\, SP6 3NR\, United Kingdom
ORGANIZER;CN="Adele Holmes":MAILTO:bookings@rockbournevillagehall.org.uk
GEO:50.9669968;-1.8458319
END:VEVENT
BEGIN:VEVENT
DTSTART;TZID=Europe/London:20221007T090000
DTEND;TZID=Europe/London:20221007T101500
DTSTAMP:20260423T162803
CREATED:20220815T190731Z
LAST-MODIFIED:20220815T192226Z
UID:10000265-1665133200-1665137700@rockbournevillagehall.org.uk
SUMMARY:Pilates with Estelle
DESCRIPTION:Pilates with Estelle
URL:https://rockbournevillagehall.org.uk/event/pilates-with-estelle-6/2022-10-07/
LOCATION:Rockbourne Village Hall\, Fordingbridge\, Hampshire\, SP6 3NR\, United Kingdom
ORGANIZER;CN="Adele Holmes":MAILTO:bookings@rockbournevillagehall.org.uk
GEO:50.9669968;-1.8458319
END:VEVENT
BEGIN:VEVENT
DTSTART;TZID=Europe/London:20221010T091500
DTEND;TZID=Europe/London:20221010T103000
DTSTAMP:20260423T162803
CREATED:20220815T190505Z
LAST-MODIFIED:20220815T190505Z
UID:10000201-1665393300-1665397800@rockbournevillagehall.org.uk
SUMMARY:Pilates with Estelle
DESCRIPTION:Pilates with Estelle
URL:https://rockbournevillagehall.org.uk/event/pilates-with-estelle-4/2022-10-10/
LOCATION:Rockbourne Village Hall\, Fordingbridge\, Hampshire\, SP6 3NR\, United Kingdom
ORGANIZER;CN="Adele Holmes":MAILTO:bookings@rockbournevillagehall.org.uk
GEO:50.9669968;-1.8458319
END:VEVENT
BEGIN:VEVENT
DTSTART;TZID=Europe/London:20221010T180000
DTEND;TZID=Europe/London:20221010T190000
DTSTAMP:20260423T162803
CREATED:20220919T085457Z
LAST-MODIFIED:20220919T085634Z
UID:10000429-1665424800-1665428400@rockbournevillagehall.org.uk
SUMMARY:Yoga with Gretchen
DESCRIPTION:Yoga with Gretchen
URL:https://rockbournevillagehall.org.uk/event/yoga-4/2022-10-10/
LOCATION:Rockbourne Village Hall\, Fordingbridge\, Hampshire\, SP6 3NR\, United Kingdom
GEO:50.9669968;-1.8458319
END:VEVENT
BEGIN:VEVENT
DTSTART;TZID=Europe/London:20221010T193000
DTEND;TZID=Europe/London:20221010T204500
DTSTAMP:20260423T162803
CREATED:20220815T190626Z
LAST-MODIFIED:20220815T190626Z
UID:10000223-1665430200-1665434700@rockbournevillagehall.org.uk
SUMMARY:Pilates with Estelle
DESCRIPTION:Pilates with Estelle
URL:https://rockbournevillagehall.org.uk/event/pilates-with-estelle-5/2022-10-10/
LOCATION:Rockbourne Village Hall\, Fordingbridge\, Hampshire\, SP6 3NR\, United Kingdom
ORGANIZER;CN="Adele Holmes":MAILTO:bookings@rockbournevillagehall.org.uk
GEO:50.9669968;-1.8458319
END:VEVENT
BEGIN:VEVENT
DTSTART;TZID=Europe/London:20221012T091500
DTEND;TZID=Europe/London:20221012T113000
DTSTAMP:20260423T162803
CREATED:20220815T190834Z
LAST-MODIFIED:20220815T191339Z
UID:10000424-1665566100-1665574200@rockbournevillagehall.org.uk
SUMMARY:Pilates with Sophie
DESCRIPTION:Pilates with Sophie \n2 classes 9.15 – 10.15 and 10.30 = 11.30
URL:https://rockbournevillagehall.org.uk/event/pilates-with-sophie-2/2022-10-12/
LOCATION:Rockbourne Village Hall\, Fordingbridge\, Hampshire\, SP6 3NR\, United Kingdom
ORGANIZER;CN="Adele Holmes":MAILTO:bookings@rockbournevillagehall.org.uk
GEO:50.9669968;-1.8458319
END:VEVENT
BEGIN:VEVENT
DTSTART;TZID=Europe/London:20221014T090000
DTEND;TZID=Europe/London:20221014T101500
DTSTAMP:20260423T162803
CREATED:20220815T190731Z
LAST-MODIFIED:20220815T192226Z
UID:10000266-1665738000-1665742500@rockbournevillagehall.org.uk
SUMMARY:Pilates with Estelle
DESCRIPTION:Pilates with Estelle
URL:https://rockbournevillagehall.org.uk/event/pilates-with-estelle-6/2022-10-14/
LOCATION:Rockbourne Village Hall\, Fordingbridge\, Hampshire\, SP6 3NR\, United Kingdom
ORGANIZER;CN="Adele Holmes":MAILTO:bookings@rockbournevillagehall.org.uk
GEO:50.9669968;-1.8458319
END:VEVENT
BEGIN:VEVENT
DTSTART;TZID=Europe/London:20221017T091500
DTEND;TZID=Europe/London:20221017T103000
DTSTAMP:20260423T162803
CREATED:20220815T190505Z
LAST-MODIFIED:20220815T190505Z
UID:10000202-1665998100-1666002600@rockbournevillagehall.org.uk
SUMMARY:Pilates with Estelle
DESCRIPTION:Pilates with Estelle
URL:https://rockbournevillagehall.org.uk/event/pilates-with-estelle-4/2022-10-17/
LOCATION:Rockbourne Village Hall\, Fordingbridge\, Hampshire\, SP6 3NR\, United Kingdom
ORGANIZER;CN="Adele Holmes":MAILTO:bookings@rockbournevillagehall.org.uk
GEO:50.9669968;-1.8458319
END:VEVENT
BEGIN:VEVENT
DTSTART;TZID=Europe/London:20221017T180000
DTEND;TZID=Europe/London:20221017T190000
DTSTAMP:20260423T162803
CREATED:20220919T085457Z
LAST-MODIFIED:20220919T085634Z
UID:10000430-1666029600-1666033200@rockbournevillagehall.org.uk
SUMMARY:Yoga with Gretchen
DESCRIPTION:Yoga with Gretchen
URL:https://rockbournevillagehall.org.uk/event/yoga-4/2022-10-17/
LOCATION:Rockbourne Village Hall\, Fordingbridge\, Hampshire\, SP6 3NR\, United Kingdom
GEO:50.9669968;-1.8458319
END:VEVENT
BEGIN:VEVENT
DTSTART;TZID=Europe/London:20221017T193000
DTEND;TZID=Europe/London:20221017T204500
DTSTAMP:20260423T162803
CREATED:20220815T190626Z
LAST-MODIFIED:20220815T190626Z
UID:10000224-1666035000-1666039500@rockbournevillagehall.org.uk
SUMMARY:Pilates with Estelle
DESCRIPTION:Pilates with Estelle
URL:https://rockbournevillagehall.org.uk/event/pilates-with-estelle-5/2022-10-17/
LOCATION:Rockbourne Village Hall\, Fordingbridge\, Hampshire\, SP6 3NR\, United Kingdom
ORGANIZER;CN="Adele Holmes":MAILTO:bookings@rockbournevillagehall.org.uk
GEO:50.9669968;-1.8458319
END:VEVENT
BEGIN:VEVENT
DTSTART;TZID=Europe/London:20221019T091500
DTEND;TZID=Europe/London:20221019T113000
DTSTAMP:20260423T162803
CREATED:20220815T190834Z
LAST-MODIFIED:20220815T191339Z
UID:10000425-1666170900-1666179000@rockbournevillagehall.org.uk
SUMMARY:Pilates with Sophie
DESCRIPTION:Pilates with Sophie \n2 classes 9.15 – 10.15 and 10.30 = 11.30
URL:https://rockbournevillagehall.org.uk/event/pilates-with-sophie-2/2022-10-19/
LOCATION:Rockbourne Village Hall\, Fordingbridge\, Hampshire\, SP6 3NR\, United Kingdom
ORGANIZER;CN="Adele Holmes":MAILTO:bookings@rockbournevillagehall.org.uk
GEO:50.9669968;-1.8458319
END:VEVENT
BEGIN:VEVENT
DTSTART;TZID=Europe/London:20221021T090000
DTEND;TZID=Europe/London:20221021T101500
DTSTAMP:20260423T162803
CREATED:20220815T190731Z
LAST-MODIFIED:20220815T192226Z
UID:10000267-1666342800-1666347300@rockbournevillagehall.org.uk
SUMMARY:Pilates with Estelle
DESCRIPTION:Pilates with Estelle
URL:https://rockbournevillagehall.org.uk/event/pilates-with-estelle-6/2022-10-21/
LOCATION:Rockbourne Village Hall\, Fordingbridge\, Hampshire\, SP6 3NR\, United Kingdom
ORGANIZER;CN="Adele Holmes":MAILTO:bookings@rockbournevillagehall.org.uk
GEO:50.9669968;-1.8458319
END:VEVENT
BEGIN:VEVENT
DTSTART;TZID=Europe/London:20221023T190000
DTEND;TZID=Europe/London:20221023T210000
DTSTAMP:20260423T162803
CREATED:20220303T130227Z
LAST-MODIFIED:20220303T130227Z
UID:10000689-1666551600-1666558800@rockbournevillagehall.org.uk
SUMMARY:Table Tennis
DESCRIPTION:Table Tennis 7.00 – 9.00 pm
URL:https://rockbournevillagehall.org.uk/event/table-tennis/2022-10-23/
LOCATION:Rockbourne Village Hall\, Fordingbridge\, Hampshire\, SP6 3NR\, United Kingdom
ORGANIZER;CN="Adele Holmes":MAILTO:bookings@rockbournevillagehall.org.uk
GEO:50.9669968;-1.8458319
END:VEVENT
BEGIN:VEVENT
DTSTART;TZID=Europe/London:20221024T091500
DTEND;TZID=Europe/London:20221024T103000
DTSTAMP:20260423T162803
CREATED:20220815T190505Z
LAST-MODIFIED:20220815T190505Z
UID:10000203-1666602900-1666607400@rockbournevillagehall.org.uk
SUMMARY:Pilates with Estelle
DESCRIPTION:Pilates with Estelle
URL:https://rockbournevillagehall.org.uk/event/pilates-with-estelle-4/2022-10-24/
LOCATION:Rockbourne Village Hall\, Fordingbridge\, Hampshire\, SP6 3NR\, United Kingdom
ORGANIZER;CN="Adele Holmes":MAILTO:bookings@rockbournevillagehall.org.uk
GEO:50.9669968;-1.8458319
END:VEVENT
BEGIN:VEVENT
DTSTART;TZID=Europe/London:20221024T180000
DTEND;TZID=Europe/London:20221024T190000
DTSTAMP:20260423T162803
CREATED:20220919T085457Z
LAST-MODIFIED:20220919T085634Z
UID:10000431-1666634400-1666638000@rockbournevillagehall.org.uk
SUMMARY:Yoga with Gretchen
DESCRIPTION:Yoga with Gretchen
URL:https://rockbournevillagehall.org.uk/event/yoga-4/2022-10-24/
LOCATION:Rockbourne Village Hall\, Fordingbridge\, Hampshire\, SP6 3NR\, United Kingdom
GEO:50.9669968;-1.8458319
END:VEVENT
BEGIN:VEVENT
DTSTART;TZID=Europe/London:20221024T193000
DTEND;TZID=Europe/London:20221024T204500
DTSTAMP:20260423T162803
CREATED:20220815T190626Z
LAST-MODIFIED:20220815T190626Z
UID:10000225-1666639800-1666644300@rockbournevillagehall.org.uk
SUMMARY:Pilates with Estelle
DESCRIPTION:Pilates with Estelle
URL:https://rockbournevillagehall.org.uk/event/pilates-with-estelle-5/2022-10-24/
LOCATION:Rockbourne Village Hall\, Fordingbridge\, Hampshire\, SP6 3NR\, United Kingdom
ORGANIZER;CN="Adele Holmes":MAILTO:bookings@rockbournevillagehall.org.uk
GEO:50.9669968;-1.8458319
END:VEVENT
BEGIN:VEVENT
DTSTART;TZID=Europe/London:20221026T193000
DTEND;TZID=Europe/London:20221026T210000
DTSTAMP:20260423T162803
CREATED:20221026T213405Z
LAST-MODIFIED:20221026T213405Z
UID:10000593-1666812600-1666818000@rockbournevillagehall.org.uk
SUMMARY:Table Tennis
DESCRIPTION:Table Tennis
URL:https://rockbournevillagehall.org.uk/event/table-tennis-5/
LOCATION:Rockbourne Village Hall\, Fordingbridge\, Hampshire\, SP6 3NR\, United Kingdom
ORGANIZER;CN="Adele Holmes":MAILTO:bookings@rockbournevillagehall.org.uk
GEO:50.9669968;-1.8458319
END:VEVENT
BEGIN:VEVENT
DTSTART;TZID=Europe/London:20221028T090000
DTEND;TZID=Europe/London:20221028T101500
DTSTAMP:20260423T162803
CREATED:20220815T190731Z
LAST-MODIFIED:20220815T192226Z
UID:10000268-1666947600-1666952100@rockbournevillagehall.org.uk
SUMMARY:Pilates with Estelle
DESCRIPTION:Pilates with Estelle
URL:https://rockbournevillagehall.org.uk/event/pilates-with-estelle-6/2022-10-28/
LOCATION:Rockbourne Village Hall\, Fordingbridge\, Hampshire\, SP6 3NR\, United Kingdom
ORGANIZER;CN="Adele Holmes":MAILTO:bookings@rockbournevillagehall.org.uk
GEO:50.9669968;-1.8458319
END:VEVENT
BEGIN:VEVENT
DTSTART;TZID=Europe/London:20221031T091500
DTEND;TZID=Europe/London:20221031T103000
DTSTAMP:20260423T162803
CREATED:20220815T190505Z
LAST-MODIFIED:20220815T190505Z
UID:10000204-1667207700-1667212200@rockbournevillagehall.org.uk
SUMMARY:Pilates with Estelle
DESCRIPTION:Pilates with Estelle
URL:https://rockbournevillagehall.org.uk/event/pilates-with-estelle-4/2022-10-31/
LOCATION:Rockbourne Village Hall\, Fordingbridge\, Hampshire\, SP6 3NR\, United Kingdom
ORGANIZER;CN="Adele Holmes":MAILTO:bookings@rockbournevillagehall.org.uk
GEO:50.9669968;-1.8458319
END:VEVENT
BEGIN:VEVENT
DTSTART;TZID=Europe/London:20221031T180000
DTEND;TZID=Europe/London:20221031T190000
DTSTAMP:20260423T162803
CREATED:20220919T085457Z
LAST-MODIFIED:20220919T085634Z
UID:10000432-1667239200-1667242800@rockbournevillagehall.org.uk
SUMMARY:Yoga with Gretchen
DESCRIPTION:Yoga with Gretchen
URL:https://rockbournevillagehall.org.uk/event/yoga-4/2022-10-31/
LOCATION:Rockbourne Village Hall\, Fordingbridge\, Hampshire\, SP6 3NR\, United Kingdom
GEO:50.9669968;-1.8458319
END:VEVENT
BEGIN:VEVENT
DTSTART;TZID=Europe/London:20221031T193000
DTEND;TZID=Europe/London:20221031T204500
DTSTAMP:20260423T162803
CREATED:20220815T190626Z
LAST-MODIFIED:20220815T190626Z
UID:10000226-1667244600-1667249100@rockbournevillagehall.org.uk
SUMMARY:Pilates with Estelle
DESCRIPTION:Pilates with Estelle
URL:https://rockbournevillagehall.org.uk/event/pilates-with-estelle-5/2022-10-31/
LOCATION:Rockbourne Village Hall\, Fordingbridge\, Hampshire\, SP6 3NR\, United Kingdom
ORGANIZER;CN="Adele Holmes":MAILTO:bookings@rockbournevillagehall.org.uk
GEO:50.9669968;-1.8458319
END:VEVENT
BEGIN:VEVENT
DTSTART;TZID=Europe/London:20221102T090000
DTEND;TZID=Europe/London:20221102T103000
DTSTAMP:20260423T162803
CREATED:20221024T130610Z
LAST-MODIFIED:20221024T130610Z
UID:10000048-1667379600-1667385000@rockbournevillagehall.org.uk
SUMMARY:Pilates
DESCRIPTION:Pilates with Sophie 1
URL:https://rockbournevillagehall.org.uk/event/pilates-13/2022-11-02/
LOCATION:Rockbourne Village Hall\, Fordingbridge\, Hampshire\, SP6 3NR\, United Kingdom
ORGANIZER;CN="Adele Holmes":MAILTO:bookings@rockbournevillagehall.org.uk
GEO:50.9669968;-1.8458319
END:VEVENT
BEGIN:VEVENT
DTSTART;TZID=Europe/London:20221102T103000
DTEND;TZID=Europe/London:20221102T113000
DTSTAMP:20260423T162803
CREATED:20221024T130805Z
LAST-MODIFIED:20221103T163458Z
UID:10000167-1667385000-1667388600@rockbournevillagehall.org.uk
SUMMARY:Pilates 2
DESCRIPTION:Pilates with Sophie 2
URL:https://rockbournevillagehall.org.uk/event/pilates-2-2/2022-11-02/
LOCATION:Rockbourne Village Hall\, Fordingbridge\, Hampshire\, SP6 3NR\, United Kingdom
ORGANIZER;CN="Adele Holmes":MAILTO:bookings@rockbournevillagehall.org.uk
GEO:50.9669968;-1.8458319
END:VEVENT
BEGIN:VEVENT
DTSTART;TZID=Europe/London:20221104T090000
DTEND;TZID=Europe/London:20221104T103000
DTSTAMP:20260423T162803
CREATED:20221024T131119Z
LAST-MODIFIED:20221024T131119Z
UID:10000637-1667552400-1667557800@rockbournevillagehall.org.uk
SUMMARY:Pilates
DESCRIPTION:Pilates with Estelle
URL:https://rockbournevillagehall.org.uk/event/pilates-14/2022-11-04/
LOCATION:Rockbourne Village Hall\, Fordingbridge\, Hampshire\, SP6 3NR\, United Kingdom
ORGANIZER;CN="Adele Holmes":MAILTO:bookings@rockbournevillagehall.org.uk
GEO:50.9669968;-1.8458319
END:VEVENT
BEGIN:VEVENT
DTSTART;TZID=Europe/London:20221105T173000
DTEND;TZID=Europe/London:20221105T230000
DTSTAMP:20260423T162803
CREATED:20220815T191548Z
LAST-MODIFIED:20220815T191548Z
UID:10000012-1667669400-1667689200@rockbournevillagehall.org.uk
SUMMARY:RNLI Race Night
DESCRIPTION:RNLI Race Night
URL:https://rockbournevillagehall.org.uk/event/rnli-race-night/
LOCATION:Rockbourne Village Hall\, Fordingbridge\, Hampshire\, SP6 3NR\, United Kingdom
ORGANIZER;CN="Adele Holmes":MAILTO:bookings@rockbournevillagehall.org.uk
GEO:50.9669968;-1.8458319
END:VEVENT
BEGIN:VEVENT
DTSTART;TZID=Europe/London:20221107T090000
DTEND;TZID=Europe/London:20221107T103000
DTSTAMP:20260423T162803
CREATED:20221024T131735Z
LAST-MODIFIED:20221024T131735Z
UID:10000600-1667811600-1667817000@rockbournevillagehall.org.uk
SUMMARY:Pilates
DESCRIPTION:Pilates with Estelle
URL:https://rockbournevillagehall.org.uk/event/pilates-16/2022-11-07/
LOCATION:Rockbourne Village Hall\, Fordingbridge\, Hampshire\, SP6 3NR\, United Kingdom
ORGANIZER;CN="Adele Holmes":MAILTO:bookings@rockbournevillagehall.org.uk
GEO:50.9669968;-1.8458319
END:VEVENT
BEGIN:VEVENT
DTSTART;TZID=Europe/London:20221107T180000
DTEND;TZID=Europe/London:20221107T190000
DTSTAMP:20260423T162803
CREATED:20221024T131520Z
LAST-MODIFIED:20221024T131520Z
UID:10000613-1667844000-1667847600@rockbournevillagehall.org.uk
SUMMARY:Yoga with Gretchen
DESCRIPTION:Yoga with Gretchen
URL:https://rockbournevillagehall.org.uk/event/yoga-with-gretchen-4/2022-11-07/
LOCATION:Rockbourne Village Hall\, Fordingbridge\, Hampshire\, SP6 3NR\, United Kingdom
ORGANIZER;CN="Adele Holmes":MAILTO:bookings@rockbournevillagehall.org.uk
GEO:50.9669968;-1.8458319
END:VEVENT
BEGIN:VEVENT
DTSTART;TZID=Europe/London:20221107T193000
DTEND;TZID=Europe/London:20221107T204500
DTSTAMP:20260423T162803
CREATED:20221024T131307Z
LAST-MODIFIED:20221024T131307Z
UID:10000622-1667849400-1667853900@rockbournevillagehall.org.uk
SUMMARY:Pilates
DESCRIPTION:Pilates with Estelle
URL:https://rockbournevillagehall.org.uk/event/pilates-15/2022-11-07/
LOCATION:Rockbourne Village Hall\, Fordingbridge\, Hampshire\, SP6 3NR\, United Kingdom
ORGANIZER;CN="Adele Holmes":MAILTO:bookings@rockbournevillagehall.org.uk
GEO:50.9669968;-1.8458319
END:VEVENT
BEGIN:VEVENT
DTSTART;TZID=Europe/London:20221109T090000
DTEND;TZID=Europe/London:20221109T103000
DTSTAMP:20260423T162803
CREATED:20221024T130610Z
LAST-MODIFIED:20221024T130610Z
UID:10000049-1667984400-1667989800@rockbournevillagehall.org.uk
SUMMARY:Pilates
DESCRIPTION:Pilates with Sophie 1
URL:https://rockbournevillagehall.org.uk/event/pilates-13/2022-11-09/
LOCATION:Rockbourne Village Hall\, Fordingbridge\, Hampshire\, SP6 3NR\, United Kingdom
ORGANIZER;CN="Adele Holmes":MAILTO:bookings@rockbournevillagehall.org.uk
GEO:50.9669968;-1.8458319
END:VEVENT
END:VCALENDAR