BEGIN:VCALENDAR
VERSION:2.0
PRODID:-//Rockbourne Village Hall - ECPv6.15.15//NONSGML v1.0//EN
CALSCALE:GREGORIAN
METHOD:PUBLISH
X-WR-CALNAME:Rockbourne Village Hall
X-ORIGINAL-URL:https://rockbournevillagehall.org.uk
X-WR-CALDESC:Events for Rockbourne Village Hall
REFRESH-INTERVAL;VALUE=DURATION:PT1H
X-Robots-Tag:noindex
X-PUBLISHED-TTL:PT1H
BEGIN:VTIMEZONE
TZID:Europe/London
BEGIN:DAYLIGHT
TZOFFSETFROM:+0000
TZOFFSETTO:+0100
TZNAME:BST
DTSTART:20210328T010000
END:DAYLIGHT
BEGIN:STANDARD
TZOFFSETFROM:+0100
TZOFFSETTO:+0000
TZNAME:GMT
DTSTART:20211031T010000
END:STANDARD
BEGIN:DAYLIGHT
TZOFFSETFROM:+0000
TZOFFSETTO:+0100
TZNAME:BST
DTSTART:20220327T010000
END:DAYLIGHT
BEGIN:STANDARD
TZOFFSETFROM:+0100
TZOFFSETTO:+0000
TZNAME:GMT
DTSTART:20221030T010000
END:STANDARD
BEGIN:DAYLIGHT
TZOFFSETFROM:+0000
TZOFFSETTO:+0100
TZNAME:BST
DTSTART:20230326T010000
END:DAYLIGHT
BEGIN:STANDARD
TZOFFSETFROM:+0100
TZOFFSETTO:+0000
TZNAME:GMT
DTSTART:20231029T010000
END:STANDARD
END:VTIMEZONE
BEGIN:VEVENT
DTSTART;TZID=Europe/London:20221104T090000
DTEND;TZID=Europe/London:20221104T103000
DTSTAMP:20260423T194659
CREATED:20221024T131119Z
LAST-MODIFIED:20221024T131119Z
UID:10000637-1667552400-1667557800@rockbournevillagehall.org.uk
SUMMARY:Pilates
DESCRIPTION:Pilates with Estelle
URL:https://rockbournevillagehall.org.uk/event/pilates-14/2022-11-04/
LOCATION:Rockbourne Village Hall\, Fordingbridge\, Hampshire\, SP6 3NR\, United Kingdom
ORGANIZER;CN="Adele Holmes":MAILTO:bookings@rockbournevillagehall.org.uk
GEO:50.9669968;-1.8458319
END:VEVENT
BEGIN:VEVENT
DTSTART;TZID=Europe/London:20221105T173000
DTEND;TZID=Europe/London:20221105T230000
DTSTAMP:20260423T194659
CREATED:20220815T191548Z
LAST-MODIFIED:20220815T191548Z
UID:10000012-1667669400-1667689200@rockbournevillagehall.org.uk
SUMMARY:RNLI Race Night
DESCRIPTION:RNLI Race Night
URL:https://rockbournevillagehall.org.uk/event/rnli-race-night/
LOCATION:Rockbourne Village Hall\, Fordingbridge\, Hampshire\, SP6 3NR\, United Kingdom
ORGANIZER;CN="Adele Holmes":MAILTO:bookings@rockbournevillagehall.org.uk
GEO:50.9669968;-1.8458319
END:VEVENT
BEGIN:VEVENT
DTSTART;TZID=Europe/London:20221107T090000
DTEND;TZID=Europe/London:20221107T103000
DTSTAMP:20260423T194659
CREATED:20221024T131735Z
LAST-MODIFIED:20221024T131735Z
UID:10000600-1667811600-1667817000@rockbournevillagehall.org.uk
SUMMARY:Pilates
DESCRIPTION:Pilates with Estelle
URL:https://rockbournevillagehall.org.uk/event/pilates-16/2022-11-07/
LOCATION:Rockbourne Village Hall\, Fordingbridge\, Hampshire\, SP6 3NR\, United Kingdom
ORGANIZER;CN="Adele Holmes":MAILTO:bookings@rockbournevillagehall.org.uk
GEO:50.9669968;-1.8458319
END:VEVENT
BEGIN:VEVENT
DTSTART;TZID=Europe/London:20221107T180000
DTEND;TZID=Europe/London:20221107T190000
DTSTAMP:20260423T194659
CREATED:20221024T131520Z
LAST-MODIFIED:20221024T131520Z
UID:10000613-1667844000-1667847600@rockbournevillagehall.org.uk
SUMMARY:Yoga with Gretchen
DESCRIPTION:Yoga with Gretchen
URL:https://rockbournevillagehall.org.uk/event/yoga-with-gretchen-4/2022-11-07/
LOCATION:Rockbourne Village Hall\, Fordingbridge\, Hampshire\, SP6 3NR\, United Kingdom
ORGANIZER;CN="Adele Holmes":MAILTO:bookings@rockbournevillagehall.org.uk
GEO:50.9669968;-1.8458319
END:VEVENT
BEGIN:VEVENT
DTSTART;TZID=Europe/London:20221107T193000
DTEND;TZID=Europe/London:20221107T204500
DTSTAMP:20260423T194659
CREATED:20221024T131307Z
LAST-MODIFIED:20221024T131307Z
UID:10000622-1667849400-1667853900@rockbournevillagehall.org.uk
SUMMARY:Pilates
DESCRIPTION:Pilates with Estelle
URL:https://rockbournevillagehall.org.uk/event/pilates-15/2022-11-07/
LOCATION:Rockbourne Village Hall\, Fordingbridge\, Hampshire\, SP6 3NR\, United Kingdom
ORGANIZER;CN="Adele Holmes":MAILTO:bookings@rockbournevillagehall.org.uk
GEO:50.9669968;-1.8458319
END:VEVENT
BEGIN:VEVENT
DTSTART;TZID=Europe/London:20221109T090000
DTEND;TZID=Europe/London:20221109T103000
DTSTAMP:20260423T194659
CREATED:20221024T130610Z
LAST-MODIFIED:20221024T130610Z
UID:10000049-1667984400-1667989800@rockbournevillagehall.org.uk
SUMMARY:Pilates
DESCRIPTION:Pilates with Sophie 1
URL:https://rockbournevillagehall.org.uk/event/pilates-13/2022-11-09/
LOCATION:Rockbourne Village Hall\, Fordingbridge\, Hampshire\, SP6 3NR\, United Kingdom
ORGANIZER;CN="Adele Holmes":MAILTO:bookings@rockbournevillagehall.org.uk
GEO:50.9669968;-1.8458319
END:VEVENT
BEGIN:VEVENT
DTSTART;TZID=Europe/London:20221109T103000
DTEND;TZID=Europe/London:20221109T113000
DTSTAMP:20260423T194659
CREATED:20221024T130805Z
LAST-MODIFIED:20221103T163458Z
UID:10000168-1667989800-1667993400@rockbournevillagehall.org.uk
SUMMARY:Pilates 2
DESCRIPTION:Pilates with Sophie 2
URL:https://rockbournevillagehall.org.uk/event/pilates-2-2/2022-11-09/
LOCATION:Rockbourne Village Hall\, Fordingbridge\, Hampshire\, SP6 3NR\, United Kingdom
ORGANIZER;CN="Adele Holmes":MAILTO:bookings@rockbournevillagehall.org.uk
GEO:50.9669968;-1.8458319
END:VEVENT
BEGIN:VEVENT
DTSTART;TZID=Europe/London:20221109T190000
DTEND;TZID=Europe/London:20221109T210000
DTSTAMP:20260423T194659
CREATED:20221107T135957Z
LAST-MODIFIED:20221107T135957Z
UID:10000147-1668020400-1668027600@rockbournevillagehall.org.uk
SUMMARY:Private Event
DESCRIPTION:Private Event
URL:https://rockbournevillagehall.org.uk/event/private-event-4/
LOCATION:Rockbourne Village Hall\, Fordingbridge\, Hampshire\, SP6 3NR\, United Kingdom
ORGANIZER;CN="Adele Holmes":MAILTO:bookings@rockbournevillagehall.org.uk
GEO:50.9669968;-1.8458319
END:VEVENT
BEGIN:VEVENT
DTSTART;TZID=Europe/London:20221111T090000
DTEND;TZID=Europe/London:20221111T103000
DTSTAMP:20260423T194659
CREATED:20221024T131119Z
LAST-MODIFIED:20221024T131119Z
UID:10000638-1668157200-1668162600@rockbournevillagehall.org.uk
SUMMARY:Pilates
DESCRIPTION:Pilates with Estelle
URL:https://rockbournevillagehall.org.uk/event/pilates-14/2022-11-11/
LOCATION:Rockbourne Village Hall\, Fordingbridge\, Hampshire\, SP6 3NR\, United Kingdom
ORGANIZER;CN="Adele Holmes":MAILTO:bookings@rockbournevillagehall.org.uk
GEO:50.9669968;-1.8458319
END:VEVENT
BEGIN:VEVENT
DTSTART;TZID=Europe/London:20221114T090000
DTEND;TZID=Europe/London:20221114T103000
DTSTAMP:20260423T194659
CREATED:20221024T131735Z
LAST-MODIFIED:20221024T131735Z
UID:10000601-1668416400-1668421800@rockbournevillagehall.org.uk
SUMMARY:Pilates
DESCRIPTION:Pilates with Estelle
URL:https://rockbournevillagehall.org.uk/event/pilates-16/2022-11-14/
LOCATION:Rockbourne Village Hall\, Fordingbridge\, Hampshire\, SP6 3NR\, United Kingdom
ORGANIZER;CN="Adele Holmes":MAILTO:bookings@rockbournevillagehall.org.uk
GEO:50.9669968;-1.8458319
END:VEVENT
BEGIN:VEVENT
DTSTART;TZID=Europe/London:20221114T180000
DTEND;TZID=Europe/London:20221114T190000
DTSTAMP:20260423T194659
CREATED:20221024T131520Z
LAST-MODIFIED:20221024T131520Z
UID:10000614-1668448800-1668452400@rockbournevillagehall.org.uk
SUMMARY:Yoga with Gretchen
DESCRIPTION:Yoga with Gretchen
URL:https://rockbournevillagehall.org.uk/event/yoga-with-gretchen-4/2022-11-14/
LOCATION:Rockbourne Village Hall\, Fordingbridge\, Hampshire\, SP6 3NR\, United Kingdom
ORGANIZER;CN="Adele Holmes":MAILTO:bookings@rockbournevillagehall.org.uk
GEO:50.9669968;-1.8458319
END:VEVENT
BEGIN:VEVENT
DTSTART;TZID=Europe/London:20221114T193000
DTEND;TZID=Europe/London:20221114T204500
DTSTAMP:20260423T194659
CREATED:20221024T131307Z
LAST-MODIFIED:20221024T131307Z
UID:10000623-1668454200-1668458700@rockbournevillagehall.org.uk
SUMMARY:Pilates
DESCRIPTION:Pilates with Estelle
URL:https://rockbournevillagehall.org.uk/event/pilates-15/2022-11-14/
LOCATION:Rockbourne Village Hall\, Fordingbridge\, Hampshire\, SP6 3NR\, United Kingdom
ORGANIZER;CN="Adele Holmes":MAILTO:bookings@rockbournevillagehall.org.uk
GEO:50.9669968;-1.8458319
END:VEVENT
BEGIN:VEVENT
DTSTART;TZID=Europe/London:20221116T090000
DTEND;TZID=Europe/London:20221116T103000
DTSTAMP:20260423T194659
CREATED:20221024T130610Z
LAST-MODIFIED:20221024T130610Z
UID:10000050-1668589200-1668594600@rockbournevillagehall.org.uk
SUMMARY:Pilates
DESCRIPTION:Pilates with Sophie 1
URL:https://rockbournevillagehall.org.uk/event/pilates-13/2022-11-16/
LOCATION:Rockbourne Village Hall\, Fordingbridge\, Hampshire\, SP6 3NR\, United Kingdom
ORGANIZER;CN="Adele Holmes":MAILTO:bookings@rockbournevillagehall.org.uk
GEO:50.9669968;-1.8458319
END:VEVENT
BEGIN:VEVENT
DTSTART;TZID=Europe/London:20221116T103000
DTEND;TZID=Europe/London:20221116T113000
DTSTAMP:20260423T194659
CREATED:20221024T130805Z
LAST-MODIFIED:20221103T163458Z
UID:10000169-1668594600-1668598200@rockbournevillagehall.org.uk
SUMMARY:Pilates 2
DESCRIPTION:Pilates with Sophie 2
URL:https://rockbournevillagehall.org.uk/event/pilates-2-2/2022-11-16/
LOCATION:Rockbourne Village Hall\, Fordingbridge\, Hampshire\, SP6 3NR\, United Kingdom
ORGANIZER;CN="Adele Holmes":MAILTO:bookings@rockbournevillagehall.org.uk
GEO:50.9669968;-1.8458319
END:VEVENT
BEGIN:VEVENT
DTSTART;TZID=Europe/London:20221116T190000
DTEND;TZID=Europe/London:20221116T230000
DTSTAMP:20260423T194659
CREATED:20221024T110427Z
LAST-MODIFIED:20221024T132225Z
UID:10000015-1668625200-1668639600@rockbournevillagehall.org.uk
SUMMARY:Film Night
DESCRIPTION:Film Night
URL:https://rockbournevillagehall.org.uk/event/film-night-3/
LOCATION:Rockbourne Village Hall\, Fordingbridge\, Hampshire\, SP6 3NR\, United Kingdom
ORGANIZER;CN="Adele Holmes":MAILTO:bookings@rockbournevillagehall.org.uk
GEO:50.9669968;-1.8458319
END:VEVENT
BEGIN:VEVENT
DTSTART;TZID=Europe/London:20221118T090000
DTEND;TZID=Europe/London:20221118T103000
DTSTAMP:20260423T194659
CREATED:20221024T131119Z
LAST-MODIFIED:20221024T131119Z
UID:10000639-1668762000-1668767400@rockbournevillagehall.org.uk
SUMMARY:Pilates
DESCRIPTION:Pilates with Estelle
URL:https://rockbournevillagehall.org.uk/event/pilates-14/2022-11-18/
LOCATION:Rockbourne Village Hall\, Fordingbridge\, Hampshire\, SP6 3NR\, United Kingdom
ORGANIZER;CN="Adele Holmes":MAILTO:bookings@rockbournevillagehall.org.uk
GEO:50.9669968;-1.8458319
END:VEVENT
BEGIN:VEVENT
DTSTART;TZID=Europe/London:20221121T090000
DTEND;TZID=Europe/London:20221121T103000
DTSTAMP:20260423T194659
CREATED:20221024T131735Z
LAST-MODIFIED:20221024T131735Z
UID:10000602-1669021200-1669026600@rockbournevillagehall.org.uk
SUMMARY:Pilates
DESCRIPTION:Pilates with Estelle
URL:https://rockbournevillagehall.org.uk/event/pilates-16/2022-11-21/
LOCATION:Rockbourne Village Hall\, Fordingbridge\, Hampshire\, SP6 3NR\, United Kingdom
ORGANIZER;CN="Adele Holmes":MAILTO:bookings@rockbournevillagehall.org.uk
GEO:50.9669968;-1.8458319
END:VEVENT
BEGIN:VEVENT
DTSTART;TZID=Europe/London:20221121T180000
DTEND;TZID=Europe/London:20221121T190000
DTSTAMP:20260423T194659
CREATED:20221024T131520Z
LAST-MODIFIED:20221024T131520Z
UID:10000615-1669053600-1669057200@rockbournevillagehall.org.uk
SUMMARY:Yoga with Gretchen
DESCRIPTION:Yoga with Gretchen
URL:https://rockbournevillagehall.org.uk/event/yoga-with-gretchen-4/2022-11-21/
LOCATION:Rockbourne Village Hall\, Fordingbridge\, Hampshire\, SP6 3NR\, United Kingdom
ORGANIZER;CN="Adele Holmes":MAILTO:bookings@rockbournevillagehall.org.uk
GEO:50.9669968;-1.8458319
END:VEVENT
BEGIN:VEVENT
DTSTART;TZID=Europe/London:20221121T193000
DTEND;TZID=Europe/London:20221121T204500
DTSTAMP:20260423T194659
CREATED:20221024T131307Z
LAST-MODIFIED:20221024T131307Z
UID:10000624-1669059000-1669063500@rockbournevillagehall.org.uk
SUMMARY:Pilates
DESCRIPTION:Pilates with Estelle
URL:https://rockbournevillagehall.org.uk/event/pilates-15/2022-11-21/
LOCATION:Rockbourne Village Hall\, Fordingbridge\, Hampshire\, SP6 3NR\, United Kingdom
ORGANIZER;CN="Adele Holmes":MAILTO:bookings@rockbournevillagehall.org.uk
GEO:50.9669968;-1.8458319
END:VEVENT
BEGIN:VEVENT
DTSTART;TZID=Europe/London:20221123T090000
DTEND;TZID=Europe/London:20221123T103000
DTSTAMP:20260423T194659
CREATED:20221024T130610Z
LAST-MODIFIED:20221024T130610Z
UID:10000051-1669194000-1669199400@rockbournevillagehall.org.uk
SUMMARY:Pilates
DESCRIPTION:Pilates with Sophie 1
URL:https://rockbournevillagehall.org.uk/event/pilates-13/2022-11-23/
LOCATION:Rockbourne Village Hall\, Fordingbridge\, Hampshire\, SP6 3NR\, United Kingdom
ORGANIZER;CN="Adele Holmes":MAILTO:bookings@rockbournevillagehall.org.uk
GEO:50.9669968;-1.8458319
END:VEVENT
BEGIN:VEVENT
DTSTART;TZID=Europe/London:20221123T103000
DTEND;TZID=Europe/London:20221123T113000
DTSTAMP:20260423T194659
CREATED:20221024T130805Z
LAST-MODIFIED:20221103T163458Z
UID:10000170-1669199400-1669203000@rockbournevillagehall.org.uk
SUMMARY:Pilates 2
DESCRIPTION:Pilates with Sophie 2
URL:https://rockbournevillagehall.org.uk/event/pilates-2-2/2022-11-23/
LOCATION:Rockbourne Village Hall\, Fordingbridge\, Hampshire\, SP6 3NR\, United Kingdom
ORGANIZER;CN="Adele Holmes":MAILTO:bookings@rockbournevillagehall.org.uk
GEO:50.9669968;-1.8458319
END:VEVENT
BEGIN:VEVENT
DTSTART;TZID=Europe/London:20221123T190000
DTEND;TZID=Europe/London:20221123T210000
DTSTAMP:20260423T194659
CREATED:20220303T130227Z
LAST-MODIFIED:20220303T130227Z
UID:10000690-1669230000-1669237200@rockbournevillagehall.org.uk
SUMMARY:Table Tennis
DESCRIPTION:Table Tennis 7.00 – 9.00 pm
URL:https://rockbournevillagehall.org.uk/event/table-tennis/2022-11-23/
LOCATION:Rockbourne Village Hall\, Fordingbridge\, Hampshire\, SP6 3NR\, United Kingdom
ORGANIZER;CN="Adele Holmes":MAILTO:bookings@rockbournevillagehall.org.uk
GEO:50.9669968;-1.8458319
END:VEVENT
BEGIN:VEVENT
DTSTART;TZID=Europe/London:20221123T193000
DTEND;TZID=Europe/London:20221123T210000
DTSTAMP:20260423T194659
CREATED:20221024T131005Z
LAST-MODIFIED:20221026T212913Z
UID:10000644-1669231800-1669237200@rockbournevillagehall.org.uk
SUMMARY:Table Tennis
DESCRIPTION:Table tennis
URL:https://rockbournevillagehall.org.uk/event/table-tennis-4/
LOCATION:Rockbourne Village Hall\, Fordingbridge\, Hampshire\, SP6 3NR\, United Kingdom
ORGANIZER;CN="Adele Holmes":MAILTO:bookings@rockbournevillagehall.org.uk
GEO:50.9669968;-1.8458319
END:VEVENT
BEGIN:VEVENT
DTSTART;TZID=Europe/London:20221125T090000
DTEND;TZID=Europe/London:20221125T103000
DTSTAMP:20260423T194659
CREATED:20221024T131119Z
LAST-MODIFIED:20221024T131119Z
UID:10000640-1669366800-1669372200@rockbournevillagehall.org.uk
SUMMARY:Pilates
DESCRIPTION:Pilates with Estelle
URL:https://rockbournevillagehall.org.uk/event/pilates-14/2022-11-25/
LOCATION:Rockbourne Village Hall\, Fordingbridge\, Hampshire\, SP6 3NR\, United Kingdom
ORGANIZER;CN="Adele Holmes":MAILTO:bookings@rockbournevillagehall.org.uk
GEO:50.9669968;-1.8458319
END:VEVENT
BEGIN:VEVENT
DTSTART;TZID=Europe/London:20221128T090000
DTEND;TZID=Europe/London:20221128T103000
DTSTAMP:20260423T194659
CREATED:20221024T131735Z
LAST-MODIFIED:20221024T131735Z
UID:10000603-1669626000-1669631400@rockbournevillagehall.org.uk
SUMMARY:Pilates
DESCRIPTION:Pilates with Estelle
URL:https://rockbournevillagehall.org.uk/event/pilates-16/2022-11-28/
LOCATION:Rockbourne Village Hall\, Fordingbridge\, Hampshire\, SP6 3NR\, United Kingdom
ORGANIZER;CN="Adele Holmes":MAILTO:bookings@rockbournevillagehall.org.uk
GEO:50.9669968;-1.8458319
END:VEVENT
BEGIN:VEVENT
DTSTART;TZID=Europe/London:20221128T123000
DTEND;TZID=Europe/London:20221128T140000
DTSTAMP:20260423T194659
CREATED:20221024T131823Z
LAST-MODIFIED:20221024T131823Z
UID:10000595-1669638600-1669644000@rockbournevillagehall.org.uk
SUMMARY:Village Lunch
DESCRIPTION:Village Lunch
URL:https://rockbournevillagehall.org.uk/event/village-lunch-2/
LOCATION:Rockbourne Village Hall\, Fordingbridge\, Hampshire\, SP6 3NR\, United Kingdom
ORGANIZER;CN="Adele Holmes":MAILTO:bookings@rockbournevillagehall.org.uk
GEO:50.9669968;-1.8458319
END:VEVENT
BEGIN:VEVENT
DTSTART;TZID=Europe/London:20221128T180000
DTEND;TZID=Europe/London:20221128T190000
DTSTAMP:20260423T194659
CREATED:20221024T131520Z
LAST-MODIFIED:20221024T131520Z
UID:10000616-1669658400-1669662000@rockbournevillagehall.org.uk
SUMMARY:Yoga with Gretchen
DESCRIPTION:Yoga with Gretchen
URL:https://rockbournevillagehall.org.uk/event/yoga-with-gretchen-4/2022-11-28/
LOCATION:Rockbourne Village Hall\, Fordingbridge\, Hampshire\, SP6 3NR\, United Kingdom
ORGANIZER;CN="Adele Holmes":MAILTO:bookings@rockbournevillagehall.org.uk
GEO:50.9669968;-1.8458319
END:VEVENT
BEGIN:VEVENT
DTSTART;TZID=Europe/London:20221128T193000
DTEND;TZID=Europe/London:20221128T204500
DTSTAMP:20260423T194659
CREATED:20221024T131307Z
LAST-MODIFIED:20221024T131307Z
UID:10000625-1669663800-1669668300@rockbournevillagehall.org.uk
SUMMARY:Pilates
DESCRIPTION:Pilates with Estelle
URL:https://rockbournevillagehall.org.uk/event/pilates-15/2022-11-28/
LOCATION:Rockbourne Village Hall\, Fordingbridge\, Hampshire\, SP6 3NR\, United Kingdom
ORGANIZER;CN="Adele Holmes":MAILTO:bookings@rockbournevillagehall.org.uk
GEO:50.9669968;-1.8458319
END:VEVENT
BEGIN:VEVENT
DTSTART;TZID=Europe/London:20221130T090000
DTEND;TZID=Europe/London:20221130T103000
DTSTAMP:20260423T194659
CREATED:20221024T130610Z
LAST-MODIFIED:20221024T130610Z
UID:10000052-1669798800-1669804200@rockbournevillagehall.org.uk
SUMMARY:Pilates
DESCRIPTION:Pilates with Sophie 1
URL:https://rockbournevillagehall.org.uk/event/pilates-13/2022-11-30/
LOCATION:Rockbourne Village Hall\, Fordingbridge\, Hampshire\, SP6 3NR\, United Kingdom
ORGANIZER;CN="Adele Holmes":MAILTO:bookings@rockbournevillagehall.org.uk
GEO:50.9669968;-1.8458319
END:VEVENT
BEGIN:VEVENT
DTSTART;TZID=Europe/London:20221130T103000
DTEND;TZID=Europe/London:20221130T113000
DTSTAMP:20260423T194659
CREATED:20221024T130805Z
LAST-MODIFIED:20221103T163458Z
UID:10000171-1669804200-1669807800@rockbournevillagehall.org.uk
SUMMARY:Pilates 2
DESCRIPTION:Pilates with Sophie 2
URL:https://rockbournevillagehall.org.uk/event/pilates-2-2/2022-11-30/
LOCATION:Rockbourne Village Hall\, Fordingbridge\, Hampshire\, SP6 3NR\, United Kingdom
ORGANIZER;CN="Adele Holmes":MAILTO:bookings@rockbournevillagehall.org.uk
GEO:50.9669968;-1.8458319
END:VEVENT
END:VCALENDAR