BEGIN:VCALENDAR
VERSION:2.0
PRODID:-//Rockbourne Village Hall - ECPv6.15.15//NONSGML v1.0//EN
CALSCALE:GREGORIAN
METHOD:PUBLISH
X-ORIGINAL-URL:https://rockbournevillagehall.org.uk
X-WR-CALDESC:Events for Rockbourne Village Hall
REFRESH-INTERVAL;VALUE=DURATION:PT1H
X-Robots-Tag:noindex
X-PUBLISHED-TTL:PT1H
BEGIN:VTIMEZONE
TZID:Europe/London
BEGIN:DAYLIGHT
TZOFFSETFROM:+0000
TZOFFSETTO:+0100
TZNAME:BST
DTSTART:20240331T010000
END:DAYLIGHT
BEGIN:STANDARD
TZOFFSETFROM:+0100
TZOFFSETTO:+0000
TZNAME:GMT
DTSTART:20241027T010000
END:STANDARD
BEGIN:DAYLIGHT
TZOFFSETFROM:+0000
TZOFFSETTO:+0100
TZNAME:BST
DTSTART:20250330T010000
END:DAYLIGHT
BEGIN:STANDARD
TZOFFSETFROM:+0100
TZOFFSETTO:+0000
TZNAME:GMT
DTSTART:20251026T010000
END:STANDARD
BEGIN:DAYLIGHT
TZOFFSETFROM:+0000
TZOFFSETTO:+0100
TZNAME:BST
DTSTART:20260329T010000
END:DAYLIGHT
BEGIN:STANDARD
TZOFFSETFROM:+0100
TZOFFSETTO:+0000
TZNAME:GMT
DTSTART:20261025T010000
END:STANDARD
END:VTIMEZONE
BEGIN:VEVENT
DTSTART;TZID=Europe/London:20250722T160000
DTEND;TZID=Europe/London:20250722T170000
DTSTAMP:20260420T055044
CREATED:20250617T092622Z
LAST-MODIFIED:20250617T092622Z
UID:10001241-1753200000-1753203600@rockbournevillagehall.org.uk
SUMMARY:Yoga
DESCRIPTION:
URL:https://rockbournevillagehall.org.uk/event/yoga-39/2025-07-22/
LOCATION:Rockbourne Village Hall\, Fordingbridge\, Hampshire\, SP6 3NR\, United Kingdom
ORGANIZER;CN="Adele Holmes":MAILTO:bookings@rockbournevillagehall.org.uk
GEO:50.9669968;-1.8458319
END:VEVENT
BEGIN:VEVENT
DTSTART;TZID=Europe/London:20250723T083000
DTEND;TZID=Europe/London:20250723T104500
DTSTAMP:20260420T055044
CREATED:20250617T092923Z
LAST-MODIFIED:20250617T092923Z
UID:10001247-1753259400-1753267500@rockbournevillagehall.org.uk
SUMMARY:Pilates
DESCRIPTION:
URL:https://rockbournevillagehall.org.uk/event/pilates-105/2025-07-23/
LOCATION:Rockbourne Village Hall\, Fordingbridge\, Hampshire\, SP6 3NR\, United Kingdom
ORGANIZER;CN="Adele Holmes":MAILTO:bookings@rockbournevillagehall.org.uk
GEO:50.9669968;-1.8458319
END:VEVENT
BEGIN:VEVENT
DTSTART;TZID=Europe/London:20250723T190000
DTEND;TZID=Europe/London:20250723T210000
DTSTAMP:20260420T055044
CREATED:20220303T130227Z
LAST-MODIFIED:20220303T130227Z
UID:10000722-1753297200-1753304400@rockbournevillagehall.org.uk
SUMMARY:Table Tennis
DESCRIPTION:Table Tennis 7.00 – 9.00 pm
URL:https://rockbournevillagehall.org.uk/event/table-tennis/2025-07-23/
LOCATION:Rockbourne Village Hall\, Fordingbridge\, Hampshire\, SP6 3NR\, United Kingdom
ORGANIZER;CN="Adele Holmes":MAILTO:bookings@rockbournevillagehall.org.uk
GEO:50.9669968;-1.8458319
END:VEVENT
BEGIN:VEVENT
DTSTART;TZID=Europe/London:20250725T090000
DTEND;TZID=Europe/London:20250725T100000
DTSTAMP:20260420T055044
CREATED:20250617T093328Z
LAST-MODIFIED:20250617T093328Z
UID:10001250-1753434000-1753437600@rockbournevillagehall.org.uk
SUMMARY:Pilates
DESCRIPTION:
URL:https://rockbournevillagehall.org.uk/event/pilates-107/2025-07-25/
LOCATION:Rockbourne Village Hall\, Fordingbridge\, Hampshire\, SP6 3NR\, United Kingdom
ORGANIZER;CN="Adele Holmes":MAILTO:bookings@rockbournevillagehall.org.uk
GEO:50.9669968;-1.8458319
END:VEVENT
BEGIN:VEVENT
DTSTART;TZID=Europe/London:20250727T143000
DTEND;TZID=Europe/London:20250727T160000
DTSTAMP:20260420T055044
CREATED:20230918T144443Z
LAST-MODIFIED:20230918T144443Z
UID:10001009-1753626600-1753632000@rockbournevillagehall.org.uk
SUMMARY:Cuppa and cake
DESCRIPTION:Cuppa and cake
URL:https://rockbournevillagehall.org.uk/event/cuppa-and-cake/2025-07-27/
LOCATION:Rockbourne Village Hall\, Fordingbridge\, Hampshire\, SP6 3NR\, United Kingdom
ORGANIZER;CN="Adele Holmes":MAILTO:bookings@rockbournevillagehall.org.uk
GEO:50.9669968;-1.8458319
END:VEVENT
BEGIN:VEVENT
DTSTART;TZID=Europe/London:20250728T091500
DTEND;TZID=Europe/London:20250728T101500
DTSTAMP:20260420T055044
CREATED:20230401T092719Z
LAST-MODIFIED:20260116T150333Z
UID:10000392-1753694100-1753697700@rockbournevillagehall.org.uk
SUMMARY:Pilates with Estelle
DESCRIPTION:Pilates with Estelle
URL:https://rockbournevillagehall.org.uk/event/4522/2025-07-28/
LOCATION:Rockbourne Village Hall\, Fordingbridge\, Hampshire\, SP6 3NR\, United Kingdom
ORGANIZER;CN="Adele Holmes":MAILTO:bookings@rockbournevillagehall.org.uk
GEO:50.9669968;-1.8458319
END:VEVENT
BEGIN:VEVENT
DTSTART;TZID=Europe/London:20250728T193000
DTEND;TZID=Europe/London:20250728T203000
DTSTAMP:20260420T055044
CREATED:20250617T092411Z
LAST-MODIFIED:20250617T092411Z
UID:10000833-1753731000-1753734600@rockbournevillagehall.org.uk
SUMMARY:Pilates
DESCRIPTION:
URL:https://rockbournevillagehall.org.uk/event/pilates-103/2025-07-28/
LOCATION:Rockbourne Village Hall\, Fordingbridge\, Hampshire\, SP6 3NR\, United Kingdom
ORGANIZER;CN="Adele Holmes":MAILTO:bookings@rockbournevillagehall.org.uk
GEO:50.9669968;-1.8458319
END:VEVENT
BEGIN:VEVENT
DTSTART;TZID=Europe/London:20250729T160000
DTEND;TZID=Europe/London:20250729T170000
DTSTAMP:20260420T055044
CREATED:20250617T092622Z
LAST-MODIFIED:20250617T092622Z
UID:10001242-1753804800-1753808400@rockbournevillagehall.org.uk
SUMMARY:Yoga
DESCRIPTION:
URL:https://rockbournevillagehall.org.uk/event/yoga-39/2025-07-29/
LOCATION:Rockbourne Village Hall\, Fordingbridge\, Hampshire\, SP6 3NR\, United Kingdom
ORGANIZER;CN="Adele Holmes":MAILTO:bookings@rockbournevillagehall.org.uk
GEO:50.9669968;-1.8458319
END:VEVENT
BEGIN:VEVENT
DTSTART;TZID=Europe/London:20250729T180000
DTEND;TZID=Europe/London:20250729T200000
DTSTAMP:20260420T055044
CREATED:20250617T091220Z
LAST-MODIFIED:20250617T091220Z
UID:10000822-1753812000-1753819200@rockbournevillagehall.org.uk
SUMMARY:Yoga
DESCRIPTION:
URL:https://rockbournevillagehall.org.uk/event/yoga-37/2025-07-29/
LOCATION:Rockbourne Village Hall\, Fordingbridge\, Hampshire\, SP6 3NR\, United Kingdom
ORGANIZER;CN="Adele Holmes":MAILTO:bookings@rockbournevillagehall.org.uk
GEO:50.9669968;-1.8458319
END:VEVENT
BEGIN:VEVENT
DTSTART;TZID=Europe/London:20250730T083000
DTEND;TZID=Europe/London:20250730T104500
DTSTAMP:20260420T055044
CREATED:20250617T092923Z
LAST-MODIFIED:20250617T092923Z
UID:10001248-1753864200-1753872300@rockbournevillagehall.org.uk
SUMMARY:Pilates
DESCRIPTION:
URL:https://rockbournevillagehall.org.uk/event/pilates-105/2025-07-30/
LOCATION:Rockbourne Village Hall\, Fordingbridge\, Hampshire\, SP6 3NR\, United Kingdom
ORGANIZER;CN="Adele Holmes":MAILTO:bookings@rockbournevillagehall.org.uk
GEO:50.9669968;-1.8458319
END:VEVENT
BEGIN:VEVENT
DTSTART;TZID=Europe/London:20250801T090000
DTEND;TZID=Europe/London:20250801T100000
DTSTAMP:20260420T055044
CREATED:20250727T093337Z
LAST-MODIFIED:20250727T093337Z
UID:10000919-1754038800-1754042400@rockbournevillagehall.org.uk
SUMMARY:Pilates
DESCRIPTION:
URL:https://rockbournevillagehall.org.uk/event/pilates-110/
LOCATION:Rockbourne Village Hall\, Fordingbridge\, Hampshire\, SP6 3NR\, United Kingdom
ORGANIZER;CN="Adele Holmes":MAILTO:bookings@rockbournevillagehall.org.uk
GEO:50.9669968;-1.8458319
END:VEVENT
BEGIN:VEVENT
DTSTART;TZID=Europe/London:20250804T090000
DTEND;TZID=Europe/London:20250804T100000
DTSTAMP:20260420T055044
CREATED:20250727T093448Z
LAST-MODIFIED:20250727T093448Z
UID:10000906-1754298000-1754301600@rockbournevillagehall.org.uk
SUMMARY:Pilates
DESCRIPTION:
URL:https://rockbournevillagehall.org.uk/event/pilates-111/2025-08-04/
LOCATION:Rockbourne Village Hall\, Fordingbridge\, Hampshire\, SP6 3NR\, United Kingdom
ORGANIZER;CN="Adele Holmes":MAILTO:bookings@rockbournevillagehall.org.uk
GEO:50.9669968;-1.8458319
END:VEVENT
BEGIN:VEVENT
DTSTART;TZID=Europe/London:20250804T091500
DTEND;TZID=Europe/London:20250804T101500
DTSTAMP:20260420T055044
CREATED:20230401T092719Z
LAST-MODIFIED:20260116T150333Z
UID:10000393-1754298900-1754302500@rockbournevillagehall.org.uk
SUMMARY:Pilates with Estelle
DESCRIPTION:Pilates with Estelle
URL:https://rockbournevillagehall.org.uk/event/4522/2025-08-04/
LOCATION:Rockbourne Village Hall\, Fordingbridge\, Hampshire\, SP6 3NR\, United Kingdom
ORGANIZER;CN="Adele Holmes":MAILTO:bookings@rockbournevillagehall.org.uk
GEO:50.9669968;-1.8458319
END:VEVENT
BEGIN:VEVENT
DTSTART;TZID=Europe/London:20250804T193000
DTEND;TZID=Europe/London:20250804T204500
DTSTAMP:20260420T055044
CREATED:20250727T093729Z
LAST-MODIFIED:20250727T093729Z
UID:10001230-1754335800-1754340300@rockbournevillagehall.org.uk
SUMMARY:Pilates
DESCRIPTION:
URL:https://rockbournevillagehall.org.uk/event/pilates-113/2025-08-04/
LOCATION:Rockbourne Village Hall\, Fordingbridge\, Hampshire\, SP6 3NR\, United Kingdom
ORGANIZER;CN="Adele Holmes":MAILTO:bookings@rockbournevillagehall.org.uk
GEO:50.9669968;-1.8458319
END:VEVENT
BEGIN:VEVENT
DTSTART;TZID=Europe/London:20250805T180000
DTEND;TZID=Europe/London:20250805T200000
DTSTAMP:20260420T055044
CREATED:20250617T091220Z
LAST-MODIFIED:20250617T091220Z
UID:10000823-1754416800-1754424000@rockbournevillagehall.org.uk
SUMMARY:Yoga
DESCRIPTION:
URL:https://rockbournevillagehall.org.uk/event/yoga-37/2025-08-05/
LOCATION:Rockbourne Village Hall\, Fordingbridge\, Hampshire\, SP6 3NR\, United Kingdom
ORGANIZER;CN="Adele Holmes":MAILTO:bookings@rockbournevillagehall.org.uk
GEO:50.9669968;-1.8458319
END:VEVENT
BEGIN:VEVENT
DTSTART;TZID=Europe/London:20250811T090000
DTEND;TZID=Europe/London:20250811T100000
DTSTAMP:20260420T055044
CREATED:20250727T093448Z
LAST-MODIFIED:20250727T093448Z
UID:10000907-1754902800-1754906400@rockbournevillagehall.org.uk
SUMMARY:Pilates
DESCRIPTION:
URL:https://rockbournevillagehall.org.uk/event/pilates-111/2025-08-11/
LOCATION:Rockbourne Village Hall\, Fordingbridge\, Hampshire\, SP6 3NR\, United Kingdom
ORGANIZER;CN="Adele Holmes":MAILTO:bookings@rockbournevillagehall.org.uk
GEO:50.9669968;-1.8458319
END:VEVENT
BEGIN:VEVENT
DTSTART;TZID=Europe/London:20250811T091500
DTEND;TZID=Europe/London:20250811T101500
DTSTAMP:20260420T055044
CREATED:20230401T092719Z
LAST-MODIFIED:20260116T150333Z
UID:10000394-1754903700-1754907300@rockbournevillagehall.org.uk
SUMMARY:Pilates with Estelle
DESCRIPTION:Pilates with Estelle
URL:https://rockbournevillagehall.org.uk/event/4522/2025-08-11/
LOCATION:Rockbourne Village Hall\, Fordingbridge\, Hampshire\, SP6 3NR\, United Kingdom
ORGANIZER;CN="Adele Holmes":MAILTO:bookings@rockbournevillagehall.org.uk
GEO:50.9669968;-1.8458319
END:VEVENT
BEGIN:VEVENT
DTSTART;TZID=Europe/London:20250811T180000
DTEND;TZID=Europe/London:20250811T190000
DTSTAMP:20260420T055044
CREATED:20250723T152214Z
LAST-MODIFIED:20250723T152214Z
UID:10000478-1754935200-1754938800@rockbournevillagehall.org.uk
SUMMARY:Yoga
DESCRIPTION:
URL:https://rockbournevillagehall.org.uk/event/yoga-40/2025-08-11/
LOCATION:Rockbourne Village Hall\, Fordingbridge\, Hampshire\, SP6 3NR\, United Kingdom
ORGANIZER;CN="Adele Holmes":MAILTO:bookings@rockbournevillagehall.org.uk
GEO:50.9669968;-1.8458319
END:VEVENT
BEGIN:VEVENT
DTSTART;TZID=Europe/London:20250811T193000
DTEND;TZID=Europe/London:20250811T204500
DTSTAMP:20260420T055044
CREATED:20250727T093729Z
LAST-MODIFIED:20250727T093729Z
UID:10001231-1754940600-1754945100@rockbournevillagehall.org.uk
SUMMARY:Pilates
DESCRIPTION:
URL:https://rockbournevillagehall.org.uk/event/pilates-113/2025-08-11/
LOCATION:Rockbourne Village Hall\, Fordingbridge\, Hampshire\, SP6 3NR\, United Kingdom
ORGANIZER;CN="Adele Holmes":MAILTO:bookings@rockbournevillagehall.org.uk
GEO:50.9669968;-1.8458319
END:VEVENT
BEGIN:VEVENT
DTSTART;TZID=Europe/London:20250812T180000
DTEND;TZID=Europe/London:20250812T200000
DTSTAMP:20260420T055044
CREATED:20250617T091220Z
LAST-MODIFIED:20250617T091220Z
UID:10000824-1755021600-1755028800@rockbournevillagehall.org.uk
SUMMARY:Yoga
DESCRIPTION:
URL:https://rockbournevillagehall.org.uk/event/yoga-37/2025-08-12/
LOCATION:Rockbourne Village Hall\, Fordingbridge\, Hampshire\, SP6 3NR\, United Kingdom
ORGANIZER;CN="Adele Holmes":MAILTO:bookings@rockbournevillagehall.org.uk
GEO:50.9669968;-1.8458319
END:VEVENT
BEGIN:VEVENT
DTSTART;TZID=Europe/London:20250815T090000
DTEND;TZID=Europe/London:20250815T100000
DTSTAMP:20260420T055044
CREATED:20250727T093605Z
LAST-MODIFIED:20250727T093605Z
UID:10001227-1755248400-1755252000@rockbournevillagehall.org.uk
SUMMARY:Pilates
DESCRIPTION:
URL:https://rockbournevillagehall.org.uk/event/pilates-112/2025-08-15/
LOCATION:Rockbourne Village Hall\, Fordingbridge\, Hampshire\, SP6 3NR\, United Kingdom
ORGANIZER;CN="Adele Holmes":MAILTO:bookings@rockbournevillagehall.org.uk
GEO:50.9669968;-1.8458319
END:VEVENT
BEGIN:VEVENT
DTSTART;TZID=Europe/London:20250818T090000
DTEND;TZID=Europe/London:20250818T100000
DTSTAMP:20260420T055044
CREATED:20250727T093448Z
LAST-MODIFIED:20250727T093448Z
UID:10000908-1755507600-1755511200@rockbournevillagehall.org.uk
SUMMARY:Pilates
DESCRIPTION:
URL:https://rockbournevillagehall.org.uk/event/pilates-111/2025-08-18/
LOCATION:Rockbourne Village Hall\, Fordingbridge\, Hampshire\, SP6 3NR\, United Kingdom
ORGANIZER;CN="Adele Holmes":MAILTO:bookings@rockbournevillagehall.org.uk
GEO:50.9669968;-1.8458319
END:VEVENT
BEGIN:VEVENT
DTSTART;TZID=Europe/London:20250818T091500
DTEND;TZID=Europe/London:20250818T101500
DTSTAMP:20260420T055044
CREATED:20230401T092719Z
LAST-MODIFIED:20260116T150333Z
UID:10000395-1755508500-1755512100@rockbournevillagehall.org.uk
SUMMARY:Pilates with Estelle
DESCRIPTION:Pilates with Estelle
URL:https://rockbournevillagehall.org.uk/event/4522/2025-08-18/
LOCATION:Rockbourne Village Hall\, Fordingbridge\, Hampshire\, SP6 3NR\, United Kingdom
ORGANIZER;CN="Adele Holmes":MAILTO:bookings@rockbournevillagehall.org.uk
GEO:50.9669968;-1.8458319
END:VEVENT
BEGIN:VEVENT
DTSTART;TZID=Europe/London:20250818T180000
DTEND;TZID=Europe/London:20250818T190000
DTSTAMP:20260420T055044
CREATED:20250723T152214Z
LAST-MODIFIED:20250723T152214Z
UID:10000479-1755540000-1755543600@rockbournevillagehall.org.uk
SUMMARY:Yoga
DESCRIPTION:
URL:https://rockbournevillagehall.org.uk/event/yoga-40/2025-08-18/
LOCATION:Rockbourne Village Hall\, Fordingbridge\, Hampshire\, SP6 3NR\, United Kingdom
ORGANIZER;CN="Adele Holmes":MAILTO:bookings@rockbournevillagehall.org.uk
GEO:50.9669968;-1.8458319
END:VEVENT
BEGIN:VEVENT
DTSTART;TZID=Europe/London:20250818T193000
DTEND;TZID=Europe/London:20250818T204500
DTSTAMP:20260420T055044
CREATED:20250727T093729Z
LAST-MODIFIED:20250727T093729Z
UID:10001232-1755545400-1755549900@rockbournevillagehall.org.uk
SUMMARY:Pilates
DESCRIPTION:
URL:https://rockbournevillagehall.org.uk/event/pilates-113/2025-08-18/
LOCATION:Rockbourne Village Hall\, Fordingbridge\, Hampshire\, SP6 3NR\, United Kingdom
ORGANIZER;CN="Adele Holmes":MAILTO:bookings@rockbournevillagehall.org.uk
GEO:50.9669968;-1.8458319
END:VEVENT
BEGIN:VEVENT
DTSTART;TZID=Europe/London:20250819T180000
DTEND;TZID=Europe/London:20250819T200000
DTSTAMP:20260420T055044
CREATED:20250617T091220Z
LAST-MODIFIED:20250617T091220Z
UID:10000825-1755626400-1755633600@rockbournevillagehall.org.uk
SUMMARY:Yoga
DESCRIPTION:
URL:https://rockbournevillagehall.org.uk/event/yoga-37/2025-08-19/
LOCATION:Rockbourne Village Hall\, Fordingbridge\, Hampshire\, SP6 3NR\, United Kingdom
ORGANIZER;CN="Adele Holmes":MAILTO:bookings@rockbournevillagehall.org.uk
GEO:50.9669968;-1.8458319
END:VEVENT
BEGIN:VEVENT
DTSTART;TZID=Europe/London:20250820T083000
DTEND;TZID=Europe/London:20250820T223000
DTSTAMP:20260420T055044
CREATED:20250723T152329Z
LAST-MODIFIED:20250723T152329Z
UID:10000904-1755678600-1755729000@rockbournevillagehall.org.uk
SUMMARY:Pilates
DESCRIPTION:
URL:https://rockbournevillagehall.org.uk/event/pilates-109/2025-08-20/
LOCATION:Rockbourne Village Hall\, Fordingbridge\, Hampshire\, SP6 3NR\, United Kingdom
ORGANIZER;CN="Adele Holmes":MAILTO:bookings@rockbournevillagehall.org.uk
GEO:50.9669968;-1.8458319
END:VEVENT
BEGIN:VEVENT
DTSTART;TZID=Europe/London:20250822T090000
DTEND;TZID=Europe/London:20250822T100000
DTSTAMP:20260420T055044
CREATED:20250727T093605Z
LAST-MODIFIED:20250727T093605Z
UID:10001228-1755853200-1755856800@rockbournevillagehall.org.uk
SUMMARY:Pilates
DESCRIPTION:
URL:https://rockbournevillagehall.org.uk/event/pilates-112/2025-08-22/
LOCATION:Rockbourne Village Hall\, Fordingbridge\, Hampshire\, SP6 3NR\, United Kingdom
ORGANIZER;CN="Adele Holmes":MAILTO:bookings@rockbournevillagehall.org.uk
GEO:50.9669968;-1.8458319
END:VEVENT
BEGIN:VEVENT
DTSTART;TZID=Europe/London:20250823T190000
DTEND;TZID=Europe/London:20250823T210000
DTSTAMP:20260420T055044
CREATED:20220303T130227Z
LAST-MODIFIED:20220303T130227Z
UID:10000723-1755975600-1755982800@rockbournevillagehall.org.uk
SUMMARY:Table Tennis
DESCRIPTION:Table Tennis 7.00 – 9.00 pm
URL:https://rockbournevillagehall.org.uk/event/table-tennis/2025-08-23/
LOCATION:Rockbourne Village Hall\, Fordingbridge\, Hampshire\, SP6 3NR\, United Kingdom
ORGANIZER;CN="Adele Holmes":MAILTO:bookings@rockbournevillagehall.org.uk
GEO:50.9669968;-1.8458319
END:VEVENT
BEGIN:VEVENT
DTSTART;TZID=Europe/London:20250825T091500
DTEND;TZID=Europe/London:20250825T101500
DTSTAMP:20260420T055044
CREATED:20230401T092719Z
LAST-MODIFIED:20260116T150333Z
UID:10000396-1756113300-1756116900@rockbournevillagehall.org.uk
SUMMARY:Pilates with Estelle
DESCRIPTION:Pilates with Estelle
URL:https://rockbournevillagehall.org.uk/event/4522/2025-08-25/
LOCATION:Rockbourne Village Hall\, Fordingbridge\, Hampshire\, SP6 3NR\, United Kingdom
ORGANIZER;CN="Adele Holmes":MAILTO:bookings@rockbournevillagehall.org.uk
GEO:50.9669968;-1.8458319
END:VEVENT
END:VCALENDAR