BEGIN:VCALENDAR
VERSION:2.0
PRODID:-//Rockbourne Village Hall - ECPv6.15.15//NONSGML v1.0//EN
CALSCALE:GREGORIAN
METHOD:PUBLISH
X-WR-CALNAME:Rockbourne Village Hall
X-ORIGINAL-URL:https://rockbournevillagehall.org.uk
X-WR-CALDESC:Events for Rockbourne Village Hall
REFRESH-INTERVAL;VALUE=DURATION:PT1H
X-Robots-Tag:noindex
X-PUBLISHED-TTL:PT1H
BEGIN:VTIMEZONE
TZID:Europe/London
BEGIN:DAYLIGHT
TZOFFSETFROM:+0000
TZOFFSETTO:+0100
TZNAME:BST
DTSTART:20220327T010000
END:DAYLIGHT
BEGIN:STANDARD
TZOFFSETFROM:+0100
TZOFFSETTO:+0000
TZNAME:GMT
DTSTART:20221030T010000
END:STANDARD
BEGIN:DAYLIGHT
TZOFFSETFROM:+0000
TZOFFSETTO:+0100
TZNAME:BST
DTSTART:20230326T010000
END:DAYLIGHT
BEGIN:STANDARD
TZOFFSETFROM:+0100
TZOFFSETTO:+0000
TZNAME:GMT
DTSTART:20231029T010000
END:STANDARD
BEGIN:DAYLIGHT
TZOFFSETFROM:+0000
TZOFFSETTO:+0100
TZNAME:BST
DTSTART:20240331T010000
END:DAYLIGHT
BEGIN:STANDARD
TZOFFSETFROM:+0100
TZOFFSETTO:+0000
TZNAME:GMT
DTSTART:20241027T010000
END:STANDARD
END:VTIMEZONE
BEGIN:VEVENT
DTSTART;TZID=Europe/London:20230118T091500
DTEND;TZID=Europe/London:20230118T101500
DTSTAMP:20260424T052341
CREATED:20230101T182039Z
LAST-MODIFIED:20230101T182039Z
UID:10000587-1674033300-1674036900@rockbournevillagehall.org.uk
SUMMARY:Pilates
DESCRIPTION:Pilates with Sophie
URL:https://rockbournevillagehall.org.uk/event/pilates-18/2023-01-18/
LOCATION:Rockbourne Village Hall\, Fordingbridge\, Hampshire\, SP6 3NR\, United Kingdom
ORGANIZER;CN="Adele Holmes":MAILTO:bookings@rockbournevillagehall.org.uk
GEO:50.9669968;-1.8458319
END:VEVENT
BEGIN:VEVENT
DTSTART;TZID=Europe/London:20230118T103000
DTEND;TZID=Europe/London:20230118T113000
DTSTAMP:20260424T052341
CREATED:20230101T182202Z
LAST-MODIFIED:20230101T182202Z
UID:10000541-1674037800-1674041400@rockbournevillagehall.org.uk
SUMMARY:Pilates
DESCRIPTION:Pilates with Sophie
URL:https://rockbournevillagehall.org.uk/event/pilates-19/2023-01-18/
LOCATION:Rockbourne Village Hall\, Fordingbridge\, Hampshire\, SP6 3NR\, United Kingdom
ORGANIZER;CN="Adele Holmes":MAILTO:bookings@rockbournevillagehall.org.uk
GEO:50.9669968;-1.8458319
END:VEVENT
BEGIN:VEVENT
DTSTART;TZID=Europe/London:20230118T183000
DTEND;TZID=Europe/London:20230118T230000
DTSTAMP:20260424T052341
CREATED:20230106T114333Z
LAST-MODIFIED:20230106T114333Z
UID:10000533-1674066600-1674082800@rockbournevillagehall.org.uk
SUMMARY:Film Night
DESCRIPTION:
URL:https://rockbournevillagehall.org.uk/event/film-night-4/
LOCATION:Rockbourne Village Hall\, Fordingbridge\, Hampshire\, SP6 3NR\, United Kingdom
ORGANIZER;CN="Adele Holmes":MAILTO:bookings@rockbournevillagehall.org.uk
GEO:50.9669968;-1.8458319
END:VEVENT
BEGIN:VEVENT
DTSTART;TZID=Europe/London:20230120T090000
DTEND;TZID=Europe/London:20230120T101500
DTSTAMP:20260424T052341
CREATED:20230106T113206Z
LAST-MODIFIED:20230106T113206Z
UID:10000136-1674205200-1674209700@rockbournevillagehall.org.uk
SUMMARY:Pilates
DESCRIPTION:Pilates with Estelle
URL:https://rockbournevillagehall.org.uk/event/pilates-20/2023-01-20/
LOCATION:Rockbourne Village Hall\, Fordingbridge\, Hampshire\, SP6 3NR\, United Kingdom
ORGANIZER;CN="Adele Holmes":MAILTO:bookings@rockbournevillagehall.org.uk
GEO:50.9669968;-1.8458319
END:VEVENT
BEGIN:VEVENT
DTSTART;TZID=Europe/London:20230123T090000
DTEND;TZID=Europe/London:20230123T101500
DTSTAMP:20260424T052341
CREATED:20221208T173646Z
LAST-MODIFIED:20221208T173646Z
UID:10000550-1674464400-1674468900@rockbournevillagehall.org.uk
SUMMARY:Pilates
DESCRIPTION:Pilates with Estelle
URL:https://rockbournevillagehall.org.uk/event/pilates-17/2023-01-23/
LOCATION:Rockbourne Village Hall\, Fordingbridge\, Hampshire\, SP6 3NR\, United Kingdom
ORGANIZER;CN="Adele Holmes":MAILTO:bookings@rockbournevillagehall.org.uk
GEO:50.9669968;-1.8458319
END:VEVENT
BEGIN:VEVENT
DTSTART;TZID=Europe/London:20230123T123000
DTEND;TZID=Europe/London:20230123T140000
DTSTAMP:20260424T052341
CREATED:20230115T112558Z
LAST-MODIFIED:20230115T112558Z
UID:10000461-1674477000-1674482400@rockbournevillagehall.org.uk
SUMMARY:Village lunch
DESCRIPTION:Village Lunch all welcome £5
URL:https://rockbournevillagehall.org.uk/event/village-lunch-3/
LOCATION:Rockbourne Village Hall\, Fordingbridge\, Hampshire\, SP6 3NR\, United Kingdom
ORGANIZER;CN="Adele Holmes":MAILTO:bookings@rockbournevillagehall.org.uk
GEO:50.9669968;-1.8458319
END:VEVENT
BEGIN:VEVENT
DTSTART;TZID=Europe/London:20230123T180000
DTEND;TZID=Europe/London:20230123T190000
DTSTAMP:20260424T052341
CREATED:20230106T113510Z
LAST-MODIFIED:20230106T113510Z
UID:10000113-1674496800-1674500400@rockbournevillagehall.org.uk
SUMMARY:Yoga
DESCRIPTION:Yoga with Gretchen
URL:https://rockbournevillagehall.org.uk/event/yoga-5/2023-01-23/
LOCATION:Rockbourne Village Hall\, Fordingbridge\, Hampshire\, SP6 3NR\, United Kingdom
ORGANIZER;CN="Adele Holmes":MAILTO:bookings@rockbournevillagehall.org.uk
GEO:50.9669968;-1.8458319
END:VEVENT
BEGIN:VEVENT
DTSTART;TZID=Europe/London:20230123T190000
DTEND;TZID=Europe/London:20230123T210000
DTSTAMP:20260424T052341
CREATED:20220303T130227Z
LAST-MODIFIED:20220303T130227Z
UID:10000692-1674500400-1674507600@rockbournevillagehall.org.uk
SUMMARY:Table Tennis
DESCRIPTION:Table Tennis 7.00 – 9.00 pm
URL:https://rockbournevillagehall.org.uk/event/table-tennis/2023-01-23/
LOCATION:Rockbourne Village Hall\, Fordingbridge\, Hampshire\, SP6 3NR\, United Kingdom
ORGANIZER;CN="Adele Holmes":MAILTO:bookings@rockbournevillagehall.org.uk
GEO:50.9669968;-1.8458319
END:VEVENT
BEGIN:VEVENT
DTSTART;TZID=Europe/London:20230123T194500
DTEND;TZID=Europe/London:20230123T204500
DTSTAMP:20260424T052341
CREATED:20230106T114221Z
LAST-MODIFIED:20230106T114221Z
UID:10000095-1674503100-1674506700@rockbournevillagehall.org.uk
SUMMARY:Pilates
DESCRIPTION:Pilates with Estelle
URL:https://rockbournevillagehall.org.uk/event/pilates-21/2023-01-23/
LOCATION:Rockbourne Village Hall\, Fordingbridge\, Hampshire\, SP6 3NR\, United Kingdom
ORGANIZER;CN="Adele Holmes":MAILTO:bookings@rockbournevillagehall.org.uk
GEO:50.9669968;-1.8458319
END:VEVENT
BEGIN:VEVENT
DTSTART;TZID=Europe/London:20230125T091500
DTEND;TZID=Europe/London:20230125T101500
DTSTAMP:20260424T052341
CREATED:20230101T182039Z
LAST-MODIFIED:20230101T182039Z
UID:10000588-1674638100-1674641700@rockbournevillagehall.org.uk
SUMMARY:Pilates
DESCRIPTION:Pilates with Sophie
URL:https://rockbournevillagehall.org.uk/event/pilates-18/2023-01-25/
LOCATION:Rockbourne Village Hall\, Fordingbridge\, Hampshire\, SP6 3NR\, United Kingdom
ORGANIZER;CN="Adele Holmes":MAILTO:bookings@rockbournevillagehall.org.uk
GEO:50.9669968;-1.8458319
END:VEVENT
BEGIN:VEVENT
DTSTART;TZID=Europe/London:20230125T103000
DTEND;TZID=Europe/London:20230125T113000
DTSTAMP:20260424T052341
CREATED:20230101T182202Z
LAST-MODIFIED:20230101T182202Z
UID:10000542-1674642600-1674646200@rockbournevillagehall.org.uk
SUMMARY:Pilates
DESCRIPTION:Pilates with Sophie
URL:https://rockbournevillagehall.org.uk/event/pilates-19/2023-01-25/
LOCATION:Rockbourne Village Hall\, Fordingbridge\, Hampshire\, SP6 3NR\, United Kingdom
ORGANIZER;CN="Adele Holmes":MAILTO:bookings@rockbournevillagehall.org.uk
GEO:50.9669968;-1.8458319
END:VEVENT
BEGIN:VEVENT
DTSTART;TZID=Europe/London:20230125T193000
DTEND;TZID=Europe/London:20230125T213000
DTSTAMP:20260424T052341
CREATED:20230115T112022Z
LAST-MODIFIED:20230115T112022Z
UID:10000148-1674675000-1674682200@rockbournevillagehall.org.uk
SUMMARY:Table tennis
DESCRIPTION:Table tennis all welcome
URL:https://rockbournevillagehall.org.uk/event/table-tennis-6/
LOCATION:Rockbourne Village Hall\, Fordingbridge\, Hampshire\, SP6 3NR\, United Kingdom
ORGANIZER;CN="Adele Holmes":MAILTO:bookings@rockbournevillagehall.org.uk
GEO:50.9669968;-1.8458319
END:VEVENT
BEGIN:VEVENT
DTSTART;TZID=Europe/London:20230127T090000
DTEND;TZID=Europe/London:20230127T101500
DTSTAMP:20260424T052341
CREATED:20230106T113206Z
LAST-MODIFIED:20230106T113206Z
UID:10000137-1674810000-1674814500@rockbournevillagehall.org.uk
SUMMARY:Pilates
DESCRIPTION:Pilates with Estelle
URL:https://rockbournevillagehall.org.uk/event/pilates-20/2023-01-27/
LOCATION:Rockbourne Village Hall\, Fordingbridge\, Hampshire\, SP6 3NR\, United Kingdom
ORGANIZER;CN="Adele Holmes":MAILTO:bookings@rockbournevillagehall.org.uk
GEO:50.9669968;-1.8458319
END:VEVENT
BEGIN:VEVENT
DTSTART;TZID=Europe/London:20230130T090000
DTEND;TZID=Europe/London:20230130T101500
DTSTAMP:20260424T052341
CREATED:20221208T173646Z
LAST-MODIFIED:20221208T173646Z
UID:10000551-1675069200-1675073700@rockbournevillagehall.org.uk
SUMMARY:Pilates
DESCRIPTION:Pilates with Estelle
URL:https://rockbournevillagehall.org.uk/event/pilates-17/2023-01-30/
LOCATION:Rockbourne Village Hall\, Fordingbridge\, Hampshire\, SP6 3NR\, United Kingdom
ORGANIZER;CN="Adele Holmes":MAILTO:bookings@rockbournevillagehall.org.uk
GEO:50.9669968;-1.8458319
END:VEVENT
BEGIN:VEVENT
DTSTART;TZID=Europe/London:20230130T180000
DTEND;TZID=Europe/London:20230130T190000
DTSTAMP:20260424T052341
CREATED:20230106T113510Z
LAST-MODIFIED:20230106T113510Z
UID:10000114-1675101600-1675105200@rockbournevillagehall.org.uk
SUMMARY:Yoga
DESCRIPTION:Yoga with Gretchen
URL:https://rockbournevillagehall.org.uk/event/yoga-5/2023-01-30/
LOCATION:Rockbourne Village Hall\, Fordingbridge\, Hampshire\, SP6 3NR\, United Kingdom
ORGANIZER;CN="Adele Holmes":MAILTO:bookings@rockbournevillagehall.org.uk
GEO:50.9669968;-1.8458319
END:VEVENT
BEGIN:VEVENT
DTSTART;TZID=Europe/London:20230130T194500
DTEND;TZID=Europe/London:20230130T204500
DTSTAMP:20260424T052341
CREATED:20230106T114221Z
LAST-MODIFIED:20230106T114221Z
UID:10000096-1675107900-1675111500@rockbournevillagehall.org.uk
SUMMARY:Pilates
DESCRIPTION:Pilates with Estelle
URL:https://rockbournevillagehall.org.uk/event/pilates-21/2023-01-30/
LOCATION:Rockbourne Village Hall\, Fordingbridge\, Hampshire\, SP6 3NR\, United Kingdom
ORGANIZER;CN="Adele Holmes":MAILTO:bookings@rockbournevillagehall.org.uk
GEO:50.9669968;-1.8458319
END:VEVENT
BEGIN:VEVENT
DTSTART;TZID=Europe/London:20230201T091500
DTEND;TZID=Europe/London:20230201T101500
DTSTAMP:20260424T052341
CREATED:20230101T182039Z
LAST-MODIFIED:20230101T182039Z
UID:10000589-1675242900-1675246500@rockbournevillagehall.org.uk
SUMMARY:Pilates
DESCRIPTION:Pilates with Sophie
URL:https://rockbournevillagehall.org.uk/event/pilates-18/2023-02-01/
LOCATION:Rockbourne Village Hall\, Fordingbridge\, Hampshire\, SP6 3NR\, United Kingdom
ORGANIZER;CN="Adele Holmes":MAILTO:bookings@rockbournevillagehall.org.uk
GEO:50.9669968;-1.8458319
END:VEVENT
BEGIN:VEVENT
DTSTART;TZID=Europe/London:20230201T103000
DTEND;TZID=Europe/London:20230201T113000
DTSTAMP:20260424T052341
CREATED:20230101T182202Z
LAST-MODIFIED:20230101T182202Z
UID:10000543-1675247400-1675251000@rockbournevillagehall.org.uk
SUMMARY:Pilates
DESCRIPTION:Pilates with Sophie
URL:https://rockbournevillagehall.org.uk/event/pilates-19/2023-02-01/
LOCATION:Rockbourne Village Hall\, Fordingbridge\, Hampshire\, SP6 3NR\, United Kingdom
ORGANIZER;CN="Adele Holmes":MAILTO:bookings@rockbournevillagehall.org.uk
GEO:50.9669968;-1.8458319
END:VEVENT
BEGIN:VEVENT
DTSTART;TZID=Europe/London:20230203T090000
DTEND;TZID=Europe/London:20230203T101500
DTSTAMP:20260424T052341
CREATED:20230106T113206Z
LAST-MODIFIED:20230106T113206Z
UID:10000138-1675414800-1675419300@rockbournevillagehall.org.uk
SUMMARY:Pilates
DESCRIPTION:Pilates with Estelle
URL:https://rockbournevillagehall.org.uk/event/pilates-20/2023-02-03/
LOCATION:Rockbourne Village Hall\, Fordingbridge\, Hampshire\, SP6 3NR\, United Kingdom
ORGANIZER;CN="Adele Holmes":MAILTO:bookings@rockbournevillagehall.org.uk
GEO:50.9669968;-1.8458319
END:VEVENT
BEGIN:VEVENT
DTSTART;TZID=Europe/London:20230204T123000
DTEND;TZID=Europe/London:20230204T153000
DTSTAMP:20260424T052341
CREATED:20230106T112813Z
LAST-MODIFIED:20230106T112813Z
UID:10000534-1675513800-1675524600@rockbournevillagehall.org.uk
SUMMARY:Private party
DESCRIPTION:Private party
URL:https://rockbournevillagehall.org.uk/event/private-party-2/
LOCATION:Rockbourne Village Hall\, Fordingbridge\, Hampshire\, SP6 3NR\, United Kingdom
ORGANIZER;CN="Adele Holmes":MAILTO:bookings@rockbournevillagehall.org.uk
GEO:50.9669968;-1.8458319
END:VEVENT
BEGIN:VEVENT
DTSTART;TZID=Europe/London:20230206T090000
DTEND;TZID=Europe/London:20230206T101500
DTSTAMP:20260424T052341
CREATED:20221208T173646Z
LAST-MODIFIED:20221208T173646Z
UID:10000552-1675674000-1675678500@rockbournevillagehall.org.uk
SUMMARY:Pilates
DESCRIPTION:Pilates with Estelle
URL:https://rockbournevillagehall.org.uk/event/pilates-17/2023-02-06/
LOCATION:Rockbourne Village Hall\, Fordingbridge\, Hampshire\, SP6 3NR\, United Kingdom
ORGANIZER;CN="Adele Holmes":MAILTO:bookings@rockbournevillagehall.org.uk
GEO:50.9669968;-1.8458319
END:VEVENT
BEGIN:VEVENT
DTSTART;TZID=Europe/London:20230206T180000
DTEND;TZID=Europe/London:20230206T190000
DTSTAMP:20260424T052341
CREATED:20230106T113510Z
LAST-MODIFIED:20230106T113510Z
UID:10000115-1675706400-1675710000@rockbournevillagehall.org.uk
SUMMARY:Yoga
DESCRIPTION:Yoga with Gretchen
URL:https://rockbournevillagehall.org.uk/event/yoga-5/2023-02-06/
LOCATION:Rockbourne Village Hall\, Fordingbridge\, Hampshire\, SP6 3NR\, United Kingdom
ORGANIZER;CN="Adele Holmes":MAILTO:bookings@rockbournevillagehall.org.uk
GEO:50.9669968;-1.8458319
END:VEVENT
BEGIN:VEVENT
DTSTART;TZID=Europe/London:20230206T194500
DTEND;TZID=Europe/London:20230206T204500
DTSTAMP:20260424T052341
CREATED:20230106T114221Z
LAST-MODIFIED:20230106T114221Z
UID:10000097-1675712700-1675716300@rockbournevillagehall.org.uk
SUMMARY:Pilates
DESCRIPTION:Pilates with Estelle
URL:https://rockbournevillagehall.org.uk/event/pilates-21/2023-02-06/
LOCATION:Rockbourne Village Hall\, Fordingbridge\, Hampshire\, SP6 3NR\, United Kingdom
ORGANIZER;CN="Adele Holmes":MAILTO:bookings@rockbournevillagehall.org.uk
GEO:50.9669968;-1.8458319
END:VEVENT
BEGIN:VEVENT
DTSTART;TZID=Europe/London:20230208T091500
DTEND;TZID=Europe/London:20230208T101500
DTSTAMP:20260424T052341
CREATED:20230101T182039Z
LAST-MODIFIED:20230101T182039Z
UID:10000590-1675847700-1675851300@rockbournevillagehall.org.uk
SUMMARY:Pilates
DESCRIPTION:Pilates with Sophie
URL:https://rockbournevillagehall.org.uk/event/pilates-18/2023-02-08/
LOCATION:Rockbourne Village Hall\, Fordingbridge\, Hampshire\, SP6 3NR\, United Kingdom
ORGANIZER;CN="Adele Holmes":MAILTO:bookings@rockbournevillagehall.org.uk
GEO:50.9669968;-1.8458319
END:VEVENT
BEGIN:VEVENT
DTSTART;TZID=Europe/London:20230208T103000
DTEND;TZID=Europe/London:20230208T113000
DTSTAMP:20260424T052341
CREATED:20230101T182202Z
LAST-MODIFIED:20230101T182202Z
UID:10000544-1675852200-1675855800@rockbournevillagehall.org.uk
SUMMARY:Pilates
DESCRIPTION:Pilates with Sophie
URL:https://rockbournevillagehall.org.uk/event/pilates-19/2023-02-08/
LOCATION:Rockbourne Village Hall\, Fordingbridge\, Hampshire\, SP6 3NR\, United Kingdom
ORGANIZER;CN="Adele Holmes":MAILTO:bookings@rockbournevillagehall.org.uk
GEO:50.9669968;-1.8458319
END:VEVENT
BEGIN:VEVENT
DTSTART;TZID=Europe/London:20230210T090000
DTEND;TZID=Europe/London:20230210T101500
DTSTAMP:20260424T052341
CREATED:20230106T113206Z
LAST-MODIFIED:20230106T113206Z
UID:10000139-1676019600-1676024100@rockbournevillagehall.org.uk
SUMMARY:Pilates
DESCRIPTION:Pilates with Estelle
URL:https://rockbournevillagehall.org.uk/event/pilates-20/2023-02-10/
LOCATION:Rockbourne Village Hall\, Fordingbridge\, Hampshire\, SP6 3NR\, United Kingdom
ORGANIZER;CN="Adele Holmes":MAILTO:bookings@rockbournevillagehall.org.uk
GEO:50.9669968;-1.8458319
END:VEVENT
BEGIN:VEVENT
DTSTART;TZID=Europe/London:20230213T090000
DTEND;TZID=Europe/London:20230213T101500
DTSTAMP:20260424T052341
CREATED:20221208T173646Z
LAST-MODIFIED:20221208T173646Z
UID:10000553-1676278800-1676283300@rockbournevillagehall.org.uk
SUMMARY:Pilates
DESCRIPTION:Pilates with Estelle
URL:https://rockbournevillagehall.org.uk/event/pilates-17/2023-02-13/
LOCATION:Rockbourne Village Hall\, Fordingbridge\, Hampshire\, SP6 3NR\, United Kingdom
ORGANIZER;CN="Adele Holmes":MAILTO:bookings@rockbournevillagehall.org.uk
GEO:50.9669968;-1.8458319
END:VEVENT
BEGIN:VEVENT
DTSTART;TZID=Europe/London:20230213T194500
DTEND;TZID=Europe/London:20230213T204500
DTSTAMP:20260424T052341
CREATED:20230106T114221Z
LAST-MODIFIED:20230106T114221Z
UID:10000098-1676317500-1676321100@rockbournevillagehall.org.uk
SUMMARY:Pilates
DESCRIPTION:Pilates with Estelle
URL:https://rockbournevillagehall.org.uk/event/pilates-21/2023-02-13/
LOCATION:Rockbourne Village Hall\, Fordingbridge\, Hampshire\, SP6 3NR\, United Kingdom
ORGANIZER;CN="Adele Holmes":MAILTO:bookings@rockbournevillagehall.org.uk
GEO:50.9669968;-1.8458319
END:VEVENT
BEGIN:VEVENT
DTSTART;TZID=Europe/London:20230215T190000
DTEND;TZID=Europe/London:20230215T230000
DTSTAMP:20260424T052341
CREATED:20230209T092527Z
LAST-MODIFIED:20230209T092527Z
UID:10000426-1676487600-1676502000@rockbournevillagehall.org.uk
SUMMARY:Film Night
DESCRIPTION:Film Night
URL:https://rockbournevillagehall.org.uk/event/film-night-6/
LOCATION:Rockbourne Village Hall\, Fordingbridge\, Hampshire\, SP6 3NR\, United Kingdom
ORGANIZER;CN="Adele Holmes":MAILTO:bookings@rockbournevillagehall.org.uk
GEO:50.9669968;-1.8458319
END:VEVENT
BEGIN:VEVENT
DTSTART;TZID=Europe/London:20230217T090000
DTEND;TZID=Europe/London:20230217T101500
DTSTAMP:20260424T052341
CREATED:20230106T113206Z
LAST-MODIFIED:20230106T113206Z
UID:10000140-1676624400-1676628900@rockbournevillagehall.org.uk
SUMMARY:Pilates
DESCRIPTION:Pilates with Estelle
URL:https://rockbournevillagehall.org.uk/event/pilates-20/2023-02-17/
LOCATION:Rockbourne Village Hall\, Fordingbridge\, Hampshire\, SP6 3NR\, United Kingdom
ORGANIZER;CN="Adele Holmes":MAILTO:bookings@rockbournevillagehall.org.uk
GEO:50.9669968;-1.8458319
END:VEVENT
END:VCALENDAR