BEGIN:VCALENDAR
VERSION:2.0
PRODID:-//Rockbourne Village Hall - ECPv6.15.15//NONSGML v1.0//EN
CALSCALE:GREGORIAN
METHOD:PUBLISH
X-ORIGINAL-URL:https://rockbournevillagehall.org.uk
X-WR-CALDESC:Events for Rockbourne Village Hall
REFRESH-INTERVAL;VALUE=DURATION:PT1H
X-Robots-Tag:noindex
X-PUBLISHED-TTL:PT1H
BEGIN:VTIMEZONE
TZID:Europe/London
BEGIN:DAYLIGHT
TZOFFSETFROM:+0000
TZOFFSETTO:+0100
TZNAME:BST
DTSTART:20230326T010000
END:DAYLIGHT
BEGIN:STANDARD
TZOFFSETFROM:+0100
TZOFFSETTO:+0000
TZNAME:GMT
DTSTART:20231029T010000
END:STANDARD
BEGIN:DAYLIGHT
TZOFFSETFROM:+0000
TZOFFSETTO:+0100
TZNAME:BST
DTSTART:20240331T010000
END:DAYLIGHT
BEGIN:STANDARD
TZOFFSETFROM:+0100
TZOFFSETTO:+0000
TZNAME:GMT
DTSTART:20241027T010000
END:STANDARD
BEGIN:DAYLIGHT
TZOFFSETFROM:+0000
TZOFFSETTO:+0100
TZNAME:BST
DTSTART:20250330T010000
END:DAYLIGHT
BEGIN:STANDARD
TZOFFSETFROM:+0100
TZOFFSETTO:+0000
TZNAME:GMT
DTSTART:20251026T010000
END:STANDARD
END:VTIMEZONE
BEGIN:VEVENT
DTSTART;TZID=Europe/London:20240422T090000
DTEND;TZID=Europe/London:20240422T101500
DTSTAMP:20260419T224753
CREATED:20240306T181705Z
LAST-MODIFIED:20240306T181705Z
UID:10001085-1713776400-1713780900@rockbournevillagehall.org.uk
SUMMARY:Pilates
DESCRIPTION:Pilates
URL:https://rockbournevillagehall.org.uk/event/pilates-66/2024-04-22/
LOCATION:Rockbourne Village Hall\, Fordingbridge\, Hampshire\, SP6 3NR\, United Kingdom
ORGANIZER;CN="Adele Holmes":MAILTO:bookings@rockbournevillagehall.org.uk
GEO:50.9669968;-1.8458319
END:VEVENT
BEGIN:VEVENT
DTSTART;TZID=Europe/London:20240422T091500
DTEND;TZID=Europe/London:20240422T101500
DTSTAMP:20260419T224753
CREATED:20230401T092719Z
LAST-MODIFIED:20260116T150333Z
UID:10000326-1713777300-1713780900@rockbournevillagehall.org.uk
SUMMARY:Pilates with Estelle
DESCRIPTION:Pilates with Estelle
URL:https://rockbournevillagehall.org.uk/event/4522/2024-04-22/
LOCATION:Rockbourne Village Hall\, Fordingbridge\, Hampshire\, SP6 3NR\, United Kingdom
ORGANIZER;CN="Adele Holmes":MAILTO:bookings@rockbournevillagehall.org.uk
GEO:50.9669968;-1.8458319
END:VEVENT
BEGIN:VEVENT
DTSTART;TZID=Europe/London:20240422T193000
DTEND;TZID=Europe/London:20240422T204500
DTSTAMP:20260419T224753
CREATED:20240306T181829Z
LAST-MODIFIED:20240306T181829Z
UID:10001089-1713814200-1713818700@rockbournevillagehall.org.uk
SUMMARY:Pilates
DESCRIPTION:Pilates
URL:https://rockbournevillagehall.org.uk/event/pilates-67/2024-04-22/
LOCATION:Rockbourne Village Hall\, Fordingbridge\, Hampshire\, SP6 3NR\, United Kingdom
ORGANIZER;CN="Adele Holmes":MAILTO:bookings@rockbournevillagehall.org.uk
GEO:50.9669968;-1.8458319
END:VEVENT
BEGIN:VEVENT
DTSTART;TZID=Europe/London:20240423T184500
DTEND;TZID=Europe/London:20240423T204500
DTSTAMP:20260419T224753
CREATED:20240326T105732Z
LAST-MODIFIED:20240326T105732Z
UID:10000493-1713897900-1713905100@rockbournevillagehall.org.uk
SUMMARY:PCC meeting
DESCRIPTION:PCC meeting committee room
URL:https://rockbournevillagehall.org.uk/event/pcc-meeting/
LOCATION:Rockbourne Village Hall\, Fordingbridge\, Hampshire\, SP6 3NR\, United Kingdom
ORGANIZER;CN="Adele Holmes":MAILTO:bookings@rockbournevillagehall.org.uk
GEO:50.9669968;-1.8458319
END:VEVENT
BEGIN:VEVENT
DTSTART;TZID=Europe/London:20240423T190000
DTEND;TZID=Europe/London:20240423T210000
DTSTAMP:20260419T224753
CREATED:20220303T130227Z
LAST-MODIFIED:20220303T130227Z
UID:10000707-1713898800-1713906000@rockbournevillagehall.org.uk
SUMMARY:Table Tennis
DESCRIPTION:Table Tennis 7.00 – 9.00 pm
URL:https://rockbournevillagehall.org.uk/event/table-tennis/2024-04-23/
LOCATION:Rockbourne Village Hall\, Fordingbridge\, Hampshire\, SP6 3NR\, United Kingdom
ORGANIZER;CN="Adele Holmes":MAILTO:bookings@rockbournevillagehall.org.uk
GEO:50.9669968;-1.8458319
END:VEVENT
BEGIN:VEVENT
DTSTART;TZID=Europe/London:20240424T083000
DTEND;TZID=Europe/London:20240424T104500
DTSTAMP:20260419T224753
CREATED:20240306T182012Z
LAST-MODIFIED:20240306T182012Z
UID:10001093-1713947400-1713955500@rockbournevillagehall.org.uk
SUMMARY:Pilates
DESCRIPTION:Pilates 2 classes
URL:https://rockbournevillagehall.org.uk/event/pilates-68/2024-04-24/
LOCATION:Rockbourne Village Hall\, Fordingbridge\, Hampshire\, SP6 3NR\, United Kingdom
ORGANIZER;CN="Adele Holmes":MAILTO:bookings@rockbournevillagehall.org.uk
GEO:50.9669968;-1.8458319
END:VEVENT
BEGIN:VEVENT
DTSTART;TZID=Europe/London:20240425T160000
DTEND;TZID=Europe/London:20240425T170000
DTSTAMP:20260419T224753
CREATED:20240408T153022Z
LAST-MODIFIED:20240408T153022Z
UID:10000195-1714060800-1714064400@rockbournevillagehall.org.uk
SUMMARY:Yoga
DESCRIPTION:Yoga
URL:https://rockbournevillagehall.org.uk/event/yoga-15/2024-04-25/
LOCATION:Rockbourne Village Hall\, Fordingbridge\, Hampshire\, SP6 3NR\, United Kingdom
ORGANIZER;CN="Adele Holmes":MAILTO:bookings@rockbournevillagehall.org.uk
GEO:50.9669968;-1.8458319
END:VEVENT
BEGIN:VEVENT
DTSTART;TZID=Europe/London:20240426T090000
DTEND;TZID=Europe/London:20240426T101500
DTSTAMP:20260419T224753
CREATED:20240306T181239Z
LAST-MODIFIED:20240306T181239Z
UID:10001072-1714122000-1714126500@rockbournevillagehall.org.uk
SUMMARY:Pilates
DESCRIPTION:Pilates
URL:https://rockbournevillagehall.org.uk/event/pilates-64/2024-04-26/
LOCATION:Rockbourne Village Hall\, Fordingbridge\, Hampshire\, SP6 3NR\, United Kingdom
ORGANIZER;CN="Adele Holmes":MAILTO:bookings@rockbournevillagehall.org.uk
GEO:50.9669968;-1.8458319
END:VEVENT
BEGIN:VEVENT
DTSTART;TZID=Europe/London:20240427T143000
DTEND;TZID=Europe/London:20240427T160000
DTSTAMP:20260419T224753
CREATED:20230918T144443Z
LAST-MODIFIED:20230918T144443Z
UID:10000994-1714228200-1714233600@rockbournevillagehall.org.uk
SUMMARY:Cuppa and cake
DESCRIPTION:Cuppa and cake
URL:https://rockbournevillagehall.org.uk/event/cuppa-and-cake/2024-04-27/
LOCATION:Rockbourne Village Hall\, Fordingbridge\, Hampshire\, SP6 3NR\, United Kingdom
ORGANIZER;CN="Adele Holmes":MAILTO:bookings@rockbournevillagehall.org.uk
GEO:50.9669968;-1.8458319
END:VEVENT
END:VCALENDAR