BEGIN:VCALENDAR
VERSION:2.0
PRODID:-//Rockbourne Village Hall - ECPv6.15.15//NONSGML v1.0//EN
CALSCALE:GREGORIAN
METHOD:PUBLISH
X-ORIGINAL-URL:https://rockbournevillagehall.org.uk
X-WR-CALDESC:Events for Rockbourne Village Hall
REFRESH-INTERVAL;VALUE=DURATION:PT1H
X-Robots-Tag:noindex
X-PUBLISHED-TTL:PT1H
BEGIN:VTIMEZONE
TZID:Europe/London
BEGIN:DAYLIGHT
TZOFFSETFROM:+0000
TZOFFSETTO:+0100
TZNAME:BST
DTSTART:20230326T010000
END:DAYLIGHT
BEGIN:STANDARD
TZOFFSETFROM:+0100
TZOFFSETTO:+0000
TZNAME:GMT
DTSTART:20231029T010000
END:STANDARD
BEGIN:DAYLIGHT
TZOFFSETFROM:+0000
TZOFFSETTO:+0100
TZNAME:BST
DTSTART:20240331T010000
END:DAYLIGHT
BEGIN:STANDARD
TZOFFSETFROM:+0100
TZOFFSETTO:+0000
TZNAME:GMT
DTSTART:20241027T010000
END:STANDARD
BEGIN:DAYLIGHT
TZOFFSETFROM:+0000
TZOFFSETTO:+0100
TZNAME:BST
DTSTART:20250330T010000
END:DAYLIGHT
BEGIN:STANDARD
TZOFFSETFROM:+0100
TZOFFSETTO:+0000
TZNAME:GMT
DTSTART:20251026T010000
END:STANDARD
END:VTIMEZONE
BEGIN:VEVENT
DTSTART;TZID=Europe/London:20241014T091500
DTEND;TZID=Europe/London:20241014T101500
DTSTAMP:20260419T084758
CREATED:20230401T092719Z
LAST-MODIFIED:20260116T150333Z
UID:10000351-1728897300-1728900900@rockbournevillagehall.org.uk
SUMMARY:Pilates with Estelle
DESCRIPTION:Pilates with Estelle
URL:https://rockbournevillagehall.org.uk/event/4522/2024-10-14/
LOCATION:Rockbourne Village Hall\, Fordingbridge\, Hampshire\, SP6 3NR\, United Kingdom
ORGANIZER;CN="Adele Holmes":MAILTO:bookings@rockbournevillagehall.org.uk
GEO:50.9669968;-1.8458319
END:VEVENT
BEGIN:VEVENT
DTSTART;TZID=Europe/London:20241014T193000
DTEND;TZID=Europe/London:20241014T204500
DTSTAMP:20260419T084758
CREATED:20240824T094519Z
LAST-MODIFIED:20240824T094519Z
UID:10001138-1728934200-1728938700@rockbournevillagehall.org.uk
SUMMARY:Pilates
DESCRIPTION:
URL:https://rockbournevillagehall.org.uk/event/pilates-80/2024-10-14/
LOCATION:Rockbourne Village Hall\, Fordingbridge\, Hampshire\, SP6 3NR\, United Kingdom
ORGANIZER;CN="Adele Holmes":MAILTO:bookings@rockbournevillagehall.org.uk
GEO:50.9669968;-1.8458319
END:VEVENT
BEGIN:VEVENT
DTSTART;TZID=Europe/London:20241016T083000
DTEND;TZID=Europe/London:20241016T103000
DTSTAMP:20260419T084758
CREATED:20240824T091646Z
LAST-MODIFIED:20240824T091646Z
UID:10000250-1729067400-1729074600@rockbournevillagehall.org.uk
SUMMARY:Pilates
DESCRIPTION:
URL:https://rockbournevillagehall.org.uk/event/pilates-77/2024-10-16/
LOCATION:Rockbourne Village Hall\, Fordingbridge\, Hampshire\, SP6 3NR\, United Kingdom
ORGANIZER;CN="Adele Holmes":MAILTO:bookings@rockbournevillagehall.org.uk
GEO:50.9669968;-1.8458319
END:VEVENT
BEGIN:VEVENT
DTSTART;TZID=Europe/London:20241016T190000
DTEND;TZID=Europe/London:20241016T190000
DTSTAMP:20260419T084758
CREATED:20240824T094123Z
LAST-MODIFIED:20240824T095611Z
UID:10000663-1729105200-1729105200@rockbournevillagehall.org.uk
SUMMARY:Film Night
DESCRIPTION:
URL:https://rockbournevillagehall.org.uk/event/film-night-17/
LOCATION:Rockbourne Village Hall\, Fordingbridge\, Hampshire\, SP6 3NR\, United Kingdom
ORGANIZER;CN="Adele Holmes":MAILTO:bookings@rockbournevillagehall.org.uk
GEO:50.9669968;-1.8458319
END:VEVENT
BEGIN:VEVENT
DTSTART;TZID=Europe/London:20241017T160000
DTEND;TZID=Europe/London:20241017T170000
DTSTAMP:20260419T084758
CREATED:20240824T094048Z
LAST-MODIFIED:20241017T082903Z
UID:10000784-1729180800-1729184400@rockbournevillagehall.org.uk
SUMMARY:Yoga
DESCRIPTION:
URL:https://rockbournevillagehall.org.uk/event/yoga-23/
LOCATION:Rockbourne Village Hall\, Fordingbridge\, Hampshire\, SP6 3NR\, United Kingdom
ORGANIZER;CN="Adele Holmes":MAILTO:bookings@rockbournevillagehall.org.uk
GEO:50.9669968;-1.8458319
END:VEVENT
BEGIN:VEVENT
DTSTART;TZID=Europe/London:20241018T090000
DTEND;TZID=Europe/London:20241018T101500
DTSTAMP:20260419T084758
CREATED:20240824T095311Z
LAST-MODIFIED:20240824T095311Z
UID:10000260-1729242000-1729246500@rockbournevillagehall.org.uk
SUMMARY:Pilates
DESCRIPTION:
URL:https://rockbournevillagehall.org.uk/event/pilates-81/2024-10-18/
LOCATION:Rockbourne Village Hall\, Fordingbridge\, Hampshire\, SP6 3NR\, United Kingdom
ORGANIZER;CN="Adele Holmes":MAILTO:bookings@rockbournevillagehall.org.uk
GEO:50.9669968;-1.8458319
END:VEVENT
END:VCALENDAR