BEGIN:VCALENDAR
VERSION:2.0
PRODID:-//Rockbourne Village Hall - ECPv6.15.15//NONSGML v1.0//EN
CALSCALE:GREGORIAN
METHOD:PUBLISH
X-ORIGINAL-URL:https://rockbournevillagehall.org.uk
X-WR-CALDESC:Events for Rockbourne Village Hall
REFRESH-INTERVAL;VALUE=DURATION:PT1H
X-Robots-Tag:noindex
X-PUBLISHED-TTL:PT1H
BEGIN:VTIMEZONE
TZID:Europe/London
BEGIN:DAYLIGHT
TZOFFSETFROM:+0000
TZOFFSETTO:+0100
TZNAME:BST
DTSTART:20240331T010000
END:DAYLIGHT
BEGIN:STANDARD
TZOFFSETFROM:+0100
TZOFFSETTO:+0000
TZNAME:GMT
DTSTART:20241027T010000
END:STANDARD
BEGIN:DAYLIGHT
TZOFFSETFROM:+0000
TZOFFSETTO:+0100
TZNAME:BST
DTSTART:20250330T010000
END:DAYLIGHT
BEGIN:STANDARD
TZOFFSETFROM:+0100
TZOFFSETTO:+0000
TZNAME:GMT
DTSTART:20251026T010000
END:STANDARD
BEGIN:DAYLIGHT
TZOFFSETFROM:+0000
TZOFFSETTO:+0100
TZNAME:BST
DTSTART:20260329T010000
END:DAYLIGHT
BEGIN:STANDARD
TZOFFSETFROM:+0100
TZOFFSETTO:+0000
TZNAME:GMT
DTSTART:20261025T010000
END:STANDARD
END:VTIMEZONE
BEGIN:VEVENT
DTSTART;TZID=Europe/London:20250505T091500
DTEND;TZID=Europe/London:20250505T101500
DTSTAMP:20260418T112345
CREATED:20230401T092719Z
LAST-MODIFIED:20260116T150333Z
UID:10000380-1746436500-1746440100@rockbournevillagehall.org.uk
SUMMARY:Pilates with Estelle
DESCRIPTION:Pilates with Estelle
URL:https://rockbournevillagehall.org.uk/event/4522/2025-05-05/
LOCATION:Rockbourne Village Hall\, Fordingbridge\, Hampshire\, SP6 3NR\, United Kingdom
ORGANIZER;CN="Adele Holmes":MAILTO:bookings@rockbournevillagehall.org.uk
GEO:50.9669968;-1.8458319
END:VEVENT
BEGIN:VEVENT
DTSTART;TZID=Europe/London:20250506T180000
DTEND;TZID=Europe/London:20250506T200000
DTSTAMP:20260418T112345
CREATED:20250325T210108Z
LAST-MODIFIED:20250325T210108Z
UID:10000793-1746554400-1746561600@rockbournevillagehall.org.uk
SUMMARY:Yoga
DESCRIPTION:
URL:https://rockbournevillagehall.org.uk/event/yoga-31/2025-05-06/
LOCATION:Rockbourne Village Hall\, Fordingbridge\, Hampshire\, SP6 3NR\, United Kingdom
ORGANIZER;CN="Adele Holmes":MAILTO:bookings@rockbournevillagehall.org.uk
GEO:50.9669968;-1.8458319
END:VEVENT
BEGIN:VEVENT
DTSTART;TZID=Europe/London:20250507T083000
DTEND;TZID=Europe/London:20250507T104500
DTSTAMP:20260418T112345
CREATED:20250224T135614Z
LAST-MODIFIED:20250224T164158Z
UID:10001190-1746606600-1746614700@rockbournevillagehall.org.uk
SUMMARY:Pilates
DESCRIPTION:Kate Percival
URL:https://rockbournevillagehall.org.uk/event/private-hire-7/2025-05-07/
LOCATION:Rockbourne Village Hall\, Fordingbridge\, Hampshire\, SP6 3NR\, United Kingdom
ORGANIZER;CN="Adele Holmes":MAILTO:bookings@rockbournevillagehall.org.uk
GEO:50.9669968;-1.8458319
END:VEVENT
BEGIN:VEVENT
DTSTART;TZID=Europe/London:20250508T160000
DTEND;TZID=Europe/London:20250508T170000
DTSTAMP:20260418T112345
CREATED:20250505T161926Z
LAST-MODIFIED:20250505T161926Z
UID:10001203-1746720000-1746723600@rockbournevillagehall.org.uk
SUMMARY:Yoga
DESCRIPTION:
URL:https://rockbournevillagehall.org.uk/event/yoga-33/
LOCATION:Rockbourne Village Hall\, Fordingbridge\, Hampshire\, SP6 3NR\, United Kingdom
ORGANIZER;CN="Adele Holmes":MAILTO:bookings@rockbournevillagehall.org.uk
GEO:50.9669968;-1.8458319
END:VEVENT
BEGIN:VEVENT
DTSTART;TZID=Europe/London:20250509T090000
DTEND;TZID=Europe/London:20250509T101500
DTSTAMP:20260418T112345
CREATED:20250404T205315Z
LAST-MODIFIED:20250404T205315Z
UID:10001207-1746781200-1746785700@rockbournevillagehall.org.uk
SUMMARY:Pilates
DESCRIPTION:
URL:https://rockbournevillagehall.org.uk/event/pilates-97/2025-05-09/
LOCATION:Rockbourne Village Hall\, Fordingbridge\, Hampshire\, SP6 3NR\, United Kingdom
ORGANIZER;CN="Adele Holmes":MAILTO:bookings@rockbournevillagehall.org.uk
GEO:50.9669968;-1.8458319
END:VEVENT
END:VCALENDAR