BEGIN:VCALENDAR
VERSION:2.0
PRODID:-//Rockbourne Village Hall - ECPv6.15.15//NONSGML v1.0//EN
CALSCALE:GREGORIAN
METHOD:PUBLISH
X-WR-CALNAME:Rockbourne Village Hall
X-ORIGINAL-URL:https://rockbournevillagehall.org.uk
X-WR-CALDESC:Events for Rockbourne Village Hall
REFRESH-INTERVAL;VALUE=DURATION:PT1H
X-Robots-Tag:noindex
X-PUBLISHED-TTL:PT1H
BEGIN:VTIMEZONE
TZID:Europe/London
BEGIN:DAYLIGHT
TZOFFSETFROM:+0000
TZOFFSETTO:+0100
TZNAME:BST
DTSTART:20240331T010000
END:DAYLIGHT
BEGIN:STANDARD
TZOFFSETFROM:+0100
TZOFFSETTO:+0000
TZNAME:GMT
DTSTART:20241027T010000
END:STANDARD
BEGIN:DAYLIGHT
TZOFFSETFROM:+0000
TZOFFSETTO:+0100
TZNAME:BST
DTSTART:20250330T010000
END:DAYLIGHT
BEGIN:STANDARD
TZOFFSETFROM:+0100
TZOFFSETTO:+0000
TZNAME:GMT
DTSTART:20251026T010000
END:STANDARD
BEGIN:DAYLIGHT
TZOFFSETFROM:+0000
TZOFFSETTO:+0100
TZNAME:BST
DTSTART:20260329T010000
END:DAYLIGHT
BEGIN:STANDARD
TZOFFSETFROM:+0100
TZOFFSETTO:+0000
TZNAME:GMT
DTSTART:20261025T010000
END:STANDARD
END:VTIMEZONE
BEGIN:VEVENT
DTSTART;TZID=Europe/London:20250512T090000
DTEND;TZID=Europe/London:20250512T101500
DTSTAMP:20260419T031443
CREATED:20250404T205550Z
LAST-MODIFIED:20250404T205550Z
UID:10001211-1747040400-1747044900@rockbournevillagehall.org.uk
SUMMARY:Pilates
DESCRIPTION:
URL:https://rockbournevillagehall.org.uk/event/pilates-100/
LOCATION:Rockbourne Village Hall\, Fordingbridge\, Hampshire\, SP6 3NR\, United Kingdom
ORGANIZER;CN="Adele Holmes":MAILTO:bookings@rockbournevillagehall.org.uk
GEO:50.9669968;-1.8458319
END:VEVENT
BEGIN:VEVENT
DTSTART;TZID=Europe/London:20250512T091500
DTEND;TZID=Europe/London:20250512T101500
DTSTAMP:20260419T031443
CREATED:20230401T092719Z
LAST-MODIFIED:20260116T150333Z
UID:10000381-1747041300-1747044900@rockbournevillagehall.org.uk
SUMMARY:Pilates with Estelle
DESCRIPTION:Pilates with Estelle
URL:https://rockbournevillagehall.org.uk/event/4522/2025-05-12/
LOCATION:Rockbourne Village Hall\, Fordingbridge\, Hampshire\, SP6 3NR\, United Kingdom
ORGANIZER;CN="Adele Holmes":MAILTO:bookings@rockbournevillagehall.org.uk
GEO:50.9669968;-1.8458319
END:VEVENT
BEGIN:VEVENT
DTSTART;TZID=Europe/London:20250512T193000
DTEND;TZID=Europe/London:20250512T204500
DTSTAMP:20260419T031443
CREATED:20250404T205642Z
LAST-MODIFIED:20250404T205642Z
UID:10001212-1747078200-1747082700@rockbournevillagehall.org.uk
SUMMARY:Pilates
DESCRIPTION:
URL:https://rockbournevillagehall.org.uk/event/pilates-101/
LOCATION:Rockbourne Village Hall\, Fordingbridge\, Hampshire\, SP6 3NR\, United Kingdom
ORGANIZER;CN="Adele Holmes":MAILTO:bookings@rockbournevillagehall.org.uk
GEO:50.9669968;-1.8458319
END:VEVENT
BEGIN:VEVENT
DTSTART;TZID=Europe/London:20250513T180000
DTEND;TZID=Europe/London:20250513T200000
DTSTAMP:20260419T031443
CREATED:20250325T210108Z
LAST-MODIFIED:20250325T210108Z
UID:10000794-1747159200-1747166400@rockbournevillagehall.org.uk
SUMMARY:Yoga
DESCRIPTION:
URL:https://rockbournevillagehall.org.uk/event/yoga-31/2025-05-13/
LOCATION:Rockbourne Village Hall\, Fordingbridge\, Hampshire\, SP6 3NR\, United Kingdom
ORGANIZER;CN="Adele Holmes":MAILTO:bookings@rockbournevillagehall.org.uk
GEO:50.9669968;-1.8458319
END:VEVENT
BEGIN:VEVENT
DTSTART;TZID=Europe/London:20250514T083000
DTEND;TZID=Europe/London:20250514T104500
DTSTAMP:20260419T031443
CREATED:20250224T135614Z
LAST-MODIFIED:20250224T164158Z
UID:10001191-1747211400-1747219500@rockbournevillagehall.org.uk
SUMMARY:Pilates
DESCRIPTION:Kate Percival
URL:https://rockbournevillagehall.org.uk/event/private-hire-7/2025-05-14/
LOCATION:Rockbourne Village Hall\, Fordingbridge\, Hampshire\, SP6 3NR\, United Kingdom
ORGANIZER;CN="Adele Holmes":MAILTO:bookings@rockbournevillagehall.org.uk
GEO:50.9669968;-1.8458319
END:VEVENT
BEGIN:VEVENT
DTSTART;TZID=Europe/London:20250516T090000
DTEND;TZID=Europe/London:20250516T101500
DTSTAMP:20260419T031443
CREATED:20250404T205315Z
LAST-MODIFIED:20250404T205315Z
UID:10001208-1747386000-1747390500@rockbournevillagehall.org.uk
SUMMARY:Pilates
DESCRIPTION:
URL:https://rockbournevillagehall.org.uk/event/pilates-97/2025-05-16/
LOCATION:Rockbourne Village Hall\, Fordingbridge\, Hampshire\, SP6 3NR\, United Kingdom
ORGANIZER;CN="Adele Holmes":MAILTO:bookings@rockbournevillagehall.org.uk
GEO:50.9669968;-1.8458319
END:VEVENT
END:VCALENDAR